BEGIN:VCALENDAR
VERSION:2.0
PRODID:-//Parker Road CDD - ECPv6.6.2//NONSGML v1.0//EN
CALSCALE:GREGORIAN
METHOD:PUBLISH
X-ORIGINAL-URL:http://parkerroadcdd.com
X-WR-CALDESC:Events for Parker Road CDD
REFRESH-INTERVAL;VALUE=DURATION:PT1H
X-Robots-Tag:noindex
X-PUBLISHED-TTL:PT1H
BEGIN:VTIMEZONE
TZID:America/New_York
BEGIN:DAYLIGHT
TZOFFSETFROM:-0500
TZOFFSETTO:-0400
TZNAME:EDT
DTSTART:20250309T070000
END:DAYLIGHT
BEGIN:STANDARD
TZOFFSETFROM:-0400
TZOFFSETTO:-0500
TZNAME:EST
DTSTART:20251102T060000
END:STANDARD
END:VTIMEZONE
BEGIN:VEVENT
DTSTART;TZID=America/New_York:20250325T110000
DTEND;TZID=America/New_York:20250325T110000
DTSTAMP:20260425T180917
CREATED:20250302T141453Z
LAST-MODIFIED:20250302T141453Z
UID:10000207-1742900400-1742900400@parkerroadcdd.com
SUMMARY:Empower Fitness Class
DESCRIPTION:Contact Lisa Coleman to Schedule
URL:http://parkerroadcdd.com/calendar/empower-fitness-class-11/
LOCATION:Oakmont Fitness Center\, 11701 SW 30th Ave\, Gainesville\, Florida\, 32608
CATEGORIES:Classes
ORGANIZER;CN="Lisa Coleman":MAILTO:lisacoleman0209@gmail.com
END:VEVENT
BEGIN:VEVENT
DTSTART;TZID=America/New_York:20250325T170000
DTEND;TZID=America/New_York:20250325T200000
DTSTAMP:20260425T180917
CREATED:20250205T201104Z
LAST-MODIFIED:20250205T201104Z
UID:10000099-1742922000-1742932800@parkerroadcdd.com
SUMMARY:Tailgate Tuesday Food Truck $
DESCRIPTION:Monsta Lobsta
URL:http://parkerroadcdd.com/calendar/tailgate-tuesday-food-truck-2/
LOCATION:Amenity Center Driveway\, 11701 SW 30th Ave\, Gainesville\, FL\, 32608\, United States
CATEGORIES:General
ORGANIZER;CN="Alisa McGowan":MAILTO:acmcgowan@bermancorp.com
END:VEVENT
BEGIN:VEVENT
DTSTART;TZID=America/New_York:20250325T180000
DTEND;TZID=America/New_York:20250325T200000
DTSTAMP:20260425T180917
CREATED:20250302T140734Z
LAST-MODIFIED:20250302T140734Z
UID:10000203-1742925600-1742932800@parkerroadcdd.com
SUMMARY:Game Night
DESCRIPTION:Come and join us for some fun games. Bring your favorite game.
URL:http://parkerroadcdd.com/calendar/game-night-11/
LOCATION:Oakmont Clubhouse\, 11701 SW 30th Ave\, Gainesville\, FL\, 32608\, United States
CATEGORIES:General
ORGANIZER;CN="Beverly Gross":MAILTO:bevgro@yahoo.com
END:VEVENT
END:VCALENDAR