BEGIN:VCALENDAR
VERSION:2.0
PRODID:-//Parker Road CDD - ECPv6.6.2//NONSGML v1.0//EN
CALSCALE:GREGORIAN
METHOD:PUBLISH
X-ORIGINAL-URL:http://parkerroadcdd.com
X-WR-CALDESC:Events for Parker Road CDD
REFRESH-INTERVAL;VALUE=DURATION:PT1H
X-Robots-Tag:noindex
X-PUBLISHED-TTL:PT1H
BEGIN:VTIMEZONE
TZID:America/New_York
BEGIN:DAYLIGHT
TZOFFSETFROM:-0500
TZOFFSETTO:-0400
TZNAME:EDT
DTSTART:20250309T070000
END:DAYLIGHT
BEGIN:STANDARD
TZOFFSETFROM:-0400
TZOFFSETTO:-0500
TZNAME:EST
DTSTART:20251102T060000
END:STANDARD
END:VTIMEZONE
BEGIN:VEVENT
DTSTART;TZID=America/New_York:20250809T100000
DTEND;TZID=America/New_York:20250809T110000
DTSTAMP:20260425T195031
CREATED:20250512T143113Z
LAST-MODIFIED:20250618T133639Z
UID:10001006-1754733600-1754737200@parkerroadcdd.com
SUMMARY:Trending Steps - Dance Class age 10+
DESCRIPTION:TikTok Dance Class for ages 10+ \nInstructor:  Jacqueline Valdez
URL:http://parkerroadcdd.com/calendar/trending-steps/2025-08-09/
LOCATION:Oakmont Clubhouse\, 11701 SW 30th Ave\, Gainesville\, FL\, 32608\, United States
CATEGORIES:Classes
END:VEVENT
BEGIN:VEVENT
DTSTART;TZID=America/New_York:20250809T113000
DTEND;TZID=America/New_York:20250809T123000
DTSTAMP:20260425T195031
CREATED:20250516T140033Z
LAST-MODIFIED:20250516T140137Z
UID:10001013-1754739000-1754742600@parkerroadcdd.com
SUMMARY:Salsa Made Simple
DESCRIPTION:Instructor- Ascen Dance \nDance class for ages 15+ no partner needed
URL:http://parkerroadcdd.com/calendar/salsa-made-simple/2025-08-09/
LOCATION:Oakmont Clubhouse\, 11701 SW 30th Ave\, Gainesville\, FL\, 32608\, United States
CATEGORIES:Classes
END:VEVENT
BEGIN:VEVENT
DTSTART;TZID=America/New_York:20250809T113000
DTEND;TZID=America/New_York:20250809T143000
DTSTAMP:20260425T195031
CREATED:20250721T174827Z
LAST-MODIFIED:20250721T175424Z
UID:10001020-1754739000-1754749800@parkerroadcdd.com
SUMMARY:CXL Lucas’ All American Dogs Cart
DESCRIPTION:
URL:http://parkerroadcdd.com/calendar/lucas-all-american-dogs-cart-2/
LOCATION:Oakmont Pool\, 11701 SW 30th Avenue\, Gainesville\, FL\, 32608\, United States
CATEGORIES:Community Event
END:VEVENT
BEGIN:VEVENT
DTSTART;TZID=America/New_York:20250809T113000
DTEND;TZID=America/New_York:20250809T150000
DTSTAMP:20260425T195031
CREATED:20250807T205311Z
LAST-MODIFIED:20250807T205311Z
UID:10001603-1754739000-1754751600@parkerroadcdd.com
SUMMARY:Bradfords Hot Dog Cart
DESCRIPTION:
URL:http://parkerroadcdd.com/calendar/bradfords-hot-dog-cart-2/
LOCATION:Oakmont Pool\, 11701 SW 30th Avenue\, Gainesville\, FL\, 32608\, United States
CATEGORIES:Community Activity
END:VEVENT
BEGIN:VEVENT
DTSTART;TZID=America/New_York:20250809T140000
DTEND;TZID=America/New_York:20250809T150000
DTSTAMP:20260425T195031
CREATED:20250603T200503Z
LAST-MODIFIED:20250807T205715Z
UID:10002192-1754748000-1754751600@parkerroadcdd.com
SUMMARY:Kona Ice
DESCRIPTION:
URL:http://parkerroadcdd.com/calendar/kona-ice/2025-08-09/
LOCATION:Amenity Center Driveway\, 11701 SW 30th Ave\, Gainesville\, FL\, 32608\, United States
CATEGORIES:Community Event
END:VEVENT
END:VCALENDAR