BEGIN:VCALENDAR
VERSION:2.0
PRODID:-//Parker Road CDD - ECPv6.6.2//NONSGML v1.0//EN
CALSCALE:GREGORIAN
METHOD:PUBLISH
X-WR-CALNAME:Parker Road CDD
X-ORIGINAL-URL:http://parkerroadcdd.com
X-WR-CALDESC:Events for Parker Road CDD
REFRESH-INTERVAL;VALUE=DURATION:PT1H
X-Robots-Tag:noindex
X-PUBLISHED-TTL:PT1H
BEGIN:VTIMEZONE
TZID:America/New_York
BEGIN:DAYLIGHT
TZOFFSETFROM:-0500
TZOFFSETTO:-0400
TZNAME:EDT
DTSTART:20250309T070000
END:DAYLIGHT
BEGIN:STANDARD
TZOFFSETFROM:-0400
TZOFFSETTO:-0500
TZNAME:EST
DTSTART:20251102T060000
END:STANDARD
END:VTIMEZONE
BEGIN:VEVENT
DTSTART;VALUE=DATE:20250811
DTEND;VALUE=DATE:20250812
DTSTAMP:20260425T225127
CREATED:20250610T144805Z
LAST-MODIFIED:20250610T144805Z
UID:10001306-1754870400-1754956799@parkerroadcdd.com
SUMMARY:First Day of School Alachua County
DESCRIPTION:
URL:http://parkerroadcdd.com/calendar/first-day-of-school-alachua-county/
LOCATION:FL
END:VEVENT
BEGIN:VEVENT
DTSTART;TZID=America/New_York:20250811T130000
DTEND;TZID=America/New_York:20250811T160000
DTSTAMP:20260425T225127
CREATED:20250725T133537Z
LAST-MODIFIED:20250725T133537Z
UID:10001618-1754917200-1754928000@parkerroadcdd.com
SUMMARY:Game Day
DESCRIPTION:Contact Loni & Ralph for More information \nralphandloni@gmail.com
URL:http://parkerroadcdd.com/calendar/game-day-30/2025-08-11/
LOCATION:Oakmont Clubhouse\, 11701 SW 30th Ave\, Gainesville\, FL\, 32608\, United States
CATEGORIES:Community Activity
ORGANIZER;CN="Ralph &amp%3B Loni Smith":MAILTO:ralphandloni@gmail.com
END:VEVENT
BEGIN:VEVENT
DTSTART;TZID=America/New_York:20250811T160000
DTEND;TZID=America/New_York:20250811T200000
DTSTAMP:20260425T225127
CREATED:20250724T145742Z
LAST-MODIFIED:20250728T205440Z
UID:10001615-1754928000-1754942400@parkerroadcdd.com
SUMMARY:Pavilion/Back Lawn Reservation
DESCRIPTION:Confirmed
URL:http://parkerroadcdd.com/calendar/hold-pavilion-reservation-7/
LOCATION:Oakmont Pavillion/ Back Lawn
CATEGORIES:Pavilion Reservation
END:VEVENT
BEGIN:VEVENT
DTSTART;TZID=America/New_York:20250811T190000
DTEND;TZID=America/New_York:20250811T210000
DTSTAMP:20260425T225127
CREATED:20250314T184434Z
LAST-MODIFIED:20250314T184434Z
UID:10000468-1754938800-1754946000@parkerroadcdd.com
SUMMARY:Bible Study
DESCRIPTION:For more information please contact Lisa Coleman
URL:http://parkerroadcdd.com/calendar/bible-study-6/2025-08-11/
LOCATION:Oakmont Clubhouse\, 11701 SW 30th Ave\, Gainesville\, FL\, 32608\, United States
CATEGORIES:Classes,Community Activity
ORGANIZER;CN="Lisa Coleman":MAILTO:lisacoleman0209@gmail.com
END:VEVENT
END:VCALENDAR