BEGIN:VCALENDAR
VERSION:2.0
PRODID:-//Parker Road CDD - ECPv6.6.2//NONSGML v1.0//EN
CALSCALE:GREGORIAN
METHOD:PUBLISH
X-ORIGINAL-URL:http://parkerroadcdd.com
X-WR-CALDESC:Events for Parker Road CDD
REFRESH-INTERVAL;VALUE=DURATION:PT1H
X-Robots-Tag:noindex
X-PUBLISHED-TTL:PT1H
BEGIN:VTIMEZONE
TZID:America/New_York
BEGIN:DAYLIGHT
TZOFFSETFROM:-0500
TZOFFSETTO:-0400
TZNAME:EDT
DTSTART:20250309T070000
END:DAYLIGHT
BEGIN:STANDARD
TZOFFSETFROM:-0400
TZOFFSETTO:-0500
TZNAME:EST
DTSTART:20251102T060000
END:STANDARD
END:VTIMEZONE
BEGIN:VEVENT
DTSTART;TZID=America/New_York:20250927T073000
DTEND;TZID=America/New_York:20250927T081500
DTSTAMP:20260423T175013
CREATED:20250918T191744Z
LAST-MODIFIED:20250918T191744Z
UID:10002256-1758958200-1758960900@parkerroadcdd.com
SUMMARY:POP UP - Kick Boxing Class
DESCRIPTION:For more information \nLisa A Coleman\, CFT \nRevision Fitness \n315-271-4454
URL:http://parkerroadcdd.com/calendar/pop-up-kick-boxing-class/2025-09-27/
LOCATION:Oakmont Fitness Center\, 11701 SW 30th Ave\, Gainesville\, Florida\, 32608
ORGANIZER;CN="Lisa Coleman":MAILTO:lisacoleman0209@gmail.com
END:VEVENT
BEGIN:VEVENT
DTSTART;TZID=America/New_York:20250927T090000
DTEND;TZID=America/New_York:20250927T150000
DTSTAMP:20260423T175013
CREATED:20250603T204723Z
LAST-MODIFIED:20250604T141522Z
UID:10001302-1758963600-1758985200@parkerroadcdd.com
SUMMARY:Blood Drive
DESCRIPTION:One Blood
URL:http://parkerroadcdd.com/calendar/blood-drive/
LOCATION:Oakmont Event Lawn\, 11701 SW 30th Ave\, Gainesville\, Florida\, 32608
ORGANIZER;CN="Alisa McGowan":MAILTO:acmcgowan@bermancorp.com
END:VEVENT
BEGIN:VEVENT
DTSTART;TZID=America/New_York:20250927T090000
DTEND;TZID=America/New_York:20250927T150000
DTSTAMP:20260423T175013
CREATED:20250821T201405Z
LAST-MODIFIED:20250821T201405Z
UID:10002211-1758963600-1758985200@parkerroadcdd.com
SUMMARY:Fall Community Yard Sale
DESCRIPTION:Don’t miss this exciting community event—come explore\, shop\, relax\, and connect \n🌟 Oakmont Fall Community Yard Sale! 🌟📅 Saturday\, September 27 | 9 AM – 3 PM📍 Amenity Center Front Lawn \nShop for art\, clothing\, kitchen gadgets\, furniture\, and more! Plus\, enjoy:🩸 OneBlood Blood Drive💆‍♀️ Chair Massages & Energy Healing🧘‍♂️ Yoga & Stretching Sessions🐶 Puppy Hill Farm Adoption Event🍴 Food Trucks with Snacks
URL:http://parkerroadcdd.com/calendar/fall-community-yard-sale/
LOCATION:Oakmont Event Lawn\, 11701 SW 30th Ave\, Gainesville\, Florida\, 32608
CATEGORIES:Community Event
ORGANIZER;CN="Alisa McGowan":MAILTO:acmcgowan@bermancorp.com
END:VEVENT
END:VCALENDAR