BEGIN:VCALENDAR
VERSION:2.0
PRODID:-//Parker Road CDD - ECPv6.6.2//NONSGML v1.0//EN
CALSCALE:GREGORIAN
METHOD:PUBLISH
X-ORIGINAL-URL:http://parkerroadcdd.com
X-WR-CALDESC:Events for Parker Road CDD
REFRESH-INTERVAL;VALUE=DURATION:PT1H
X-Robots-Tag:noindex
X-PUBLISHED-TTL:PT1H
BEGIN:VTIMEZONE
TZID:America/New_York
BEGIN:DAYLIGHT
TZOFFSETFROM:-0500
TZOFFSETTO:-0400
TZNAME:EDT
DTSTART:20260308T070000
END:DAYLIGHT
BEGIN:STANDARD
TZOFFSETFROM:-0400
TZOFFSETTO:-0500
TZNAME:EST
DTSTART:20261101T060000
END:STANDARD
END:VTIMEZONE
BEGIN:VEVENT
DTSTART;TZID=America/New_York:20260326T110000
DTEND;TZID=America/New_York:20260326T130000
DTSTAMP:20260422T082513
CREATED:20251031T161413Z
LAST-MODIFIED:20251031T164217Z
UID:10002580-1774522800-1774530000@parkerroadcdd.com
SUMMARY:Healthy Living\, Healthy Cooking Class
DESCRIPTION:
URL:http://parkerroadcdd.com/calendar/hold-healthy-living-healthy-cooking-class/2026-03-26/
LOCATION:Oakmont Clubhouse\, 11701 SW 30th Ave\, Gainesville\, FL\, 32608\, United States
END:VEVENT
BEGIN:VEVENT
DTSTART;TZID=America/New_York:20260326T160000
DTEND;TZID=America/New_York:20260326T180000
DTSTAMP:20260422T082513
CREATED:20260304T190431Z
LAST-MODIFIED:20260304T190431Z
UID:10003344-1774540800-1774548000@parkerroadcdd.com
SUMMARY:Swamp Rats Swim Team
DESCRIPTION:For Questions Contact: \nKaryn Austin\, Head Coach \nKaryn.austin@yahoo.com \n(352) 870-2591
URL:http://parkerroadcdd.com/calendar/swamp-rats-swim-team-3/2026-03-26/
LOCATION:Oakmont Pool\, 11701 SW 30th Avenue\, Gainesville\, FL\, 32608\, United States
END:VEVENT
BEGIN:VEVENT
DTSTART;TZID=America/New_York:20260326T170000
DTEND;TZID=America/New_York:20260326T210000
DTSTAMP:20260422T082513
CREATED:20260305T200520Z
LAST-MODIFIED:20260310T184140Z
UID:10003366-1774544400-1774558800@parkerroadcdd.com
SUMMARY:LIVE Music Feat Destiny Guerra
DESCRIPTION:Hosted By : Nanci Murphree
URL:http://parkerroadcdd.com/calendar/hold-clubhouse-event-2/
LOCATION:Oakmont Clubhouse\, 11701 SW 30th Ave\, Gainesville\, FL\, 32608\, United States
END:VEVENT
END:VCALENDAR