BEGIN:VCALENDAR
VERSION:2.0
PRODID:-//Parker Road CDD - ECPv6.6.2//NONSGML v1.0//EN
CALSCALE:GREGORIAN
METHOD:PUBLISH
X-WR-CALNAME:Parker Road CDD
X-ORIGINAL-URL:http://parkerroadcdd.com
X-WR-CALDESC:Events for Parker Road CDD
REFRESH-INTERVAL;VALUE=DURATION:PT1H
X-Robots-Tag:noindex
X-PUBLISHED-TTL:PT1H
BEGIN:VTIMEZONE
TZID:America/New_York
BEGIN:DAYLIGHT
TZOFFSETFROM:-0500
TZOFFSETTO:-0400
TZNAME:EDT
DTSTART:20260308T070000
END:DAYLIGHT
BEGIN:STANDARD
TZOFFSETFROM:-0400
TZOFFSETTO:-0500
TZNAME:EST
DTSTART:20261101T060000
END:STANDARD
END:VTIMEZONE
BEGIN:VEVENT
DTSTART;TZID=America/New_York:20260512T100000
DTEND;TZID=America/New_York:20260512T100000
DTSTAMP:20260422T051907
CREATED:20250929T190718Z
LAST-MODIFIED:20250929T190718Z
UID:10002301-1778580000-1778580000@parkerroadcdd.com
SUMMARY:Empower Fitness$
DESCRIPTION:For more information \nContact Lisa Coleman \nlisacoleman0209@gmail.com
URL:http://parkerroadcdd.com/calendar/empower-fitness/2026-05-12/
LOCATION:Fitness Center Studio Room\, 11701 SW 30th Ave\, Gainesville\, FL\, 32608\, United States
ORGANIZER;CN="Lisa Coleman":MAILTO:lisacoleman0209@gmail.com
END:VEVENT
BEGIN:VEVENT
DTSTART;TZID=America/New_York:20260512T160000
DTEND;TZID=America/New_York:20260512T180000
DTSTAMP:20260422T051907
CREATED:20260304T190431Z
LAST-MODIFIED:20260304T190431Z
UID:10003357-1778601600-1778608800@parkerroadcdd.com
SUMMARY:Swamp Rats Swim Team
DESCRIPTION:For Questions Contact: \nKaryn Austin\, Head Coach \nKaryn.austin@yahoo.com \n(352) 870-2591
URL:http://parkerroadcdd.com/calendar/swamp-rats-swim-team-3/2026-05-12/
LOCATION:Oakmont Pool\, 11701 SW 30th Avenue\, Gainesville\, FL\, 32608\, United States
END:VEVENT
BEGIN:VEVENT
DTSTART;TZID=America/New_York:20260512T170000
DTEND;TZID=America/New_York:20260512T200000
DTSTAMP:20260422T051907
CREATED:20260330T204626Z
LAST-MODIFIED:20260330T204626Z
UID:10003398-1778605200-1778616000@parkerroadcdd.com
SUMMARY:Food Truck Funday
DESCRIPTION:Brick City Hot Dog
URL:http://parkerroadcdd.com/calendar/food-truck-funday-2/
LOCATION:Amenity Center Driveway\, 11701 SW 30th Ave\, Gainesville\, FL\, 32608\, United States
END:VEVENT
BEGIN:VEVENT
DTSTART;TZID=America/New_York:20260512T180000
DTEND;TZID=America/New_York:20260512T200000
DTSTAMP:20260422T051907
CREATED:20250314T184632Z
LAST-MODIFIED:20250314T184632Z
UID:10000567-1778608800-1778616000@parkerroadcdd.com
SUMMARY:Game Night
DESCRIPTION:For more information please contact Bev
URL:http://parkerroadcdd.com/calendar/game-night-9/2026-05-12/
LOCATION:Oakmont Clubhouse\, 11701 SW 30th Ave\, Gainesville\, FL\, 32608\, United States
CATEGORIES:Community Activity
ORGANIZER;CN="Beverly Gross":MAILTO:bevgro@yahoo.com
END:VEVENT
END:VCALENDAR