BEGIN:VCALENDAR
VERSION:2.0
PRODID:-//Parker Road CDD - ECPv6.6.2//NONSGML v1.0//EN
CALSCALE:GREGORIAN
METHOD:PUBLISH
X-ORIGINAL-URL:http://parkerroadcdd.com
X-WR-CALDESC:Events for Parker Road CDD
REFRESH-INTERVAL;VALUE=DURATION:PT1H
X-Robots-Tag:noindex
X-PUBLISHED-TTL:PT1H
BEGIN:VTIMEZONE
TZID:America/New_York
BEGIN:DAYLIGHT
TZOFFSETFROM:-0500
TZOFFSETTO:-0400
TZNAME:EDT
DTSTART:20260308T070000
END:DAYLIGHT
BEGIN:STANDARD
TZOFFSETFROM:-0400
TZOFFSETTO:-0500
TZNAME:EST
DTSTART:20261101T060000
END:STANDARD
END:VTIMEZONE
BEGIN:VEVENT
DTSTART;TZID=America/New_York:20260523T153000
DTEND;TZID=America/New_York:20260523T213000
DTSTAMP:20260422T100404
CREATED:20260224T161720Z
LAST-MODIFIED:20260224T165632Z
UID:10003337-1779550200-1779571800@parkerroadcdd.com
SUMMARY:Hold - Clubhouse Private Event
DESCRIPTION:
URL:http://parkerroadcdd.com/calendar/hold-clubhouse-event/
LOCATION:FL
END:VEVENT
END:VCALENDAR