BEGIN:VCALENDAR
VERSION:2.0
PRODID:-//Parker Road CDD - ECPv6.6.2//NONSGML v1.0//EN
CALSCALE:GREGORIAN
METHOD:PUBLISH
X-WR-CALNAME:Parker Road CDD
X-ORIGINAL-URL:http://parkerroadcdd.com
X-WR-CALDESC:Events for Parker Road CDD
REFRESH-INTERVAL;VALUE=DURATION:PT1H
X-Robots-Tag:noindex
X-PUBLISHED-TTL:PT1H
BEGIN:VTIMEZONE
TZID:America/New_York
BEGIN:DAYLIGHT
TZOFFSETFROM:-0500
TZOFFSETTO:-0400
TZNAME:EDT
DTSTART:20260308T070000
END:DAYLIGHT
BEGIN:STANDARD
TZOFFSETFROM:-0400
TZOFFSETTO:-0500
TZNAME:EST
DTSTART:20261101T060000
END:STANDARD
END:VTIMEZONE
BEGIN:VEVENT
DTSTART;TZID=America/New_York:20260618T100000
DTEND;TZID=America/New_York:20260618T113000
DTSTAMP:20260424T115559
CREATED:20260120T192240Z
LAST-MODIFIED:20260402T183824Z
UID:10003422-1781776800-1781782200@parkerroadcdd.com
SUMMARY:Little Tikes Fun with Friends
DESCRIPTION:Story Time\, Arts & Crafts Ages 2-5
URL:http://parkerroadcdd.com/calendar/little-tikes-fun-with-friends-3/2026-06-18/
LOCATION:FL
END:VEVENT
END:VCALENDAR