BEGIN:VCALENDAR
VERSION:2.0
PRODID:-//Parker Road CDD - ECPv6.6.2//NONSGML v1.0//EN
CALSCALE:GREGORIAN
METHOD:PUBLISH
X-WR-CALNAME:Parker Road CDD
X-ORIGINAL-URL:http://parkerroadcdd.com
X-WR-CALDESC:Events for Parker Road CDD
REFRESH-INTERVAL;VALUE=DURATION:PT1H
X-Robots-Tag:noindex
X-PUBLISHED-TTL:PT1H
BEGIN:VTIMEZONE
TZID:America/New_York
BEGIN:DAYLIGHT
TZOFFSETFROM:-0500
TZOFFSETTO:-0400
TZNAME:EDT
DTSTART:20280312T070000
END:DAYLIGHT
BEGIN:STANDARD
TZOFFSETFROM:-0400
TZOFFSETTO:-0500
TZNAME:EST
DTSTART:20281105T060000
END:STANDARD
END:VTIMEZONE
BEGIN:VEVENT
DTSTART;TZID=America/New_York:20280301T130000
DTEND;TZID=America/New_York:20280301T160000
DTSTAMP:20260425T161433
CREATED:20250725T133537Z
LAST-MODIFIED:20250725T133537Z
UID:10001885-1835528400-1835539200@parkerroadcdd.com
SUMMARY:Game Day
DESCRIPTION:Contact Loni & Ralph for More information \nralphandloni@gmail.com
URL:http://parkerroadcdd.com/calendar/game-day-30/2028-03-01/
LOCATION:Oakmont Clubhouse\, 11701 SW 30th Ave\, Gainesville\, FL\, 32608\, United States
CATEGORIES:Community Activity
ORGANIZER;CN="Ralph &amp%3B Loni Smith":MAILTO:ralphandloni@gmail.com
END:VEVENT
BEGIN:VEVENT
DTSTART;TZID=America/New_York:20280306T130000
DTEND;TZID=America/New_York:20280306T160000
DTSTAMP:20260425T161433
CREATED:20250725T133537Z
LAST-MODIFIED:20250725T133537Z
UID:10001886-1835960400-1835971200@parkerroadcdd.com
SUMMARY:Game Day
DESCRIPTION:Contact Loni & Ralph for More information \nralphandloni@gmail.com
URL:http://parkerroadcdd.com/calendar/game-day-30/2028-03-06/
LOCATION:Oakmont Clubhouse\, 11701 SW 30th Ave\, Gainesville\, FL\, 32608\, United States
CATEGORIES:Community Activity
ORGANIZER;CN="Ralph &amp%3B Loni Smith":MAILTO:ralphandloni@gmail.com
END:VEVENT
BEGIN:VEVENT
DTSTART;TZID=America/New_York:20280308T130000
DTEND;TZID=America/New_York:20280308T160000
DTSTAMP:20260425T161433
CREATED:20250725T133537Z
LAST-MODIFIED:20250725T133537Z
UID:10001887-1836133200-1836144000@parkerroadcdd.com
SUMMARY:Game Day
DESCRIPTION:Contact Loni & Ralph for More information \nralphandloni@gmail.com
URL:http://parkerroadcdd.com/calendar/game-day-30/2028-03-08/
LOCATION:Oakmont Clubhouse\, 11701 SW 30th Ave\, Gainesville\, FL\, 32608\, United States
CATEGORIES:Community Activity
ORGANIZER;CN="Ralph &amp%3B Loni Smith":MAILTO:ralphandloni@gmail.com
END:VEVENT
BEGIN:VEVENT
DTSTART;TZID=America/New_York:20280313T130000
DTEND;TZID=America/New_York:20280313T160000
DTSTAMP:20260425T161433
CREATED:20250725T133537Z
LAST-MODIFIED:20250725T133537Z
UID:10001888-1836565200-1836576000@parkerroadcdd.com
SUMMARY:Game Day
DESCRIPTION:Contact Loni & Ralph for More information \nralphandloni@gmail.com
URL:http://parkerroadcdd.com/calendar/game-day-30/2028-03-13/
LOCATION:Oakmont Clubhouse\, 11701 SW 30th Ave\, Gainesville\, FL\, 32608\, United States
CATEGORIES:Community Activity
ORGANIZER;CN="Ralph &amp%3B Loni Smith":MAILTO:ralphandloni@gmail.com
END:VEVENT
BEGIN:VEVENT
DTSTART;TZID=America/New_York:20280315T130000
DTEND;TZID=America/New_York:20280315T160000
DTSTAMP:20260425T161433
CREATED:20250725T133537Z
LAST-MODIFIED:20250725T133537Z
UID:10001889-1836738000-1836748800@parkerroadcdd.com
SUMMARY:Game Day
DESCRIPTION:Contact Loni & Ralph for More information \nralphandloni@gmail.com
URL:http://parkerroadcdd.com/calendar/game-day-30/2028-03-15/
LOCATION:Oakmont Clubhouse\, 11701 SW 30th Ave\, Gainesville\, FL\, 32608\, United States
CATEGORIES:Community Activity
ORGANIZER;CN="Ralph &amp%3B Loni Smith":MAILTO:ralphandloni@gmail.com
END:VEVENT
BEGIN:VEVENT
DTSTART;TZID=America/New_York:20280320T130000
DTEND;TZID=America/New_York:20280320T160000
DTSTAMP:20260425T161433
CREATED:20250725T133537Z
LAST-MODIFIED:20250725T133537Z
UID:10001890-1837170000-1837180800@parkerroadcdd.com
SUMMARY:Game Day
DESCRIPTION:Contact Loni & Ralph for More information \nralphandloni@gmail.com
URL:http://parkerroadcdd.com/calendar/game-day-30/2028-03-20/
LOCATION:Oakmont Clubhouse\, 11701 SW 30th Ave\, Gainesville\, FL\, 32608\, United States
CATEGORIES:Community Activity
ORGANIZER;CN="Ralph &amp%3B Loni Smith":MAILTO:ralphandloni@gmail.com
END:VEVENT
BEGIN:VEVENT
DTSTART;TZID=America/New_York:20280322T130000
DTEND;TZID=America/New_York:20280322T160000
DTSTAMP:20260425T161433
CREATED:20250725T133537Z
LAST-MODIFIED:20250725T133537Z
UID:10001891-1837342800-1837353600@parkerroadcdd.com
SUMMARY:Game Day
DESCRIPTION:Contact Loni & Ralph for More information \nralphandloni@gmail.com
URL:http://parkerroadcdd.com/calendar/game-day-30/2028-03-22/
LOCATION:Oakmont Clubhouse\, 11701 SW 30th Ave\, Gainesville\, FL\, 32608\, United States
CATEGORIES:Community Activity
ORGANIZER;CN="Ralph &amp%3B Loni Smith":MAILTO:ralphandloni@gmail.com
END:VEVENT
BEGIN:VEVENT
DTSTART;TZID=America/New_York:20280327T130000
DTEND;TZID=America/New_York:20280327T160000
DTSTAMP:20260425T161433
CREATED:20250725T133537Z
LAST-MODIFIED:20250725T133537Z
UID:10001892-1837774800-1837785600@parkerroadcdd.com
SUMMARY:Game Day
DESCRIPTION:Contact Loni & Ralph for More information \nralphandloni@gmail.com
URL:http://parkerroadcdd.com/calendar/game-day-30/2028-03-27/
LOCATION:Oakmont Clubhouse\, 11701 SW 30th Ave\, Gainesville\, FL\, 32608\, United States
CATEGORIES:Community Activity
ORGANIZER;CN="Ralph &amp%3B Loni Smith":MAILTO:ralphandloni@gmail.com
END:VEVENT
BEGIN:VEVENT
DTSTART;TZID=America/New_York:20280329T130000
DTEND;TZID=America/New_York:20280329T160000
DTSTAMP:20260425T161433
CREATED:20250725T133537Z
LAST-MODIFIED:20250725T133537Z
UID:10001893-1837947600-1837958400@parkerroadcdd.com
SUMMARY:Game Day
DESCRIPTION:Contact Loni & Ralph for More information \nralphandloni@gmail.com
URL:http://parkerroadcdd.com/calendar/game-day-30/2028-03-29/
LOCATION:Oakmont Clubhouse\, 11701 SW 30th Ave\, Gainesville\, FL\, 32608\, United States
CATEGORIES:Community Activity
ORGANIZER;CN="Ralph &amp%3B Loni Smith":MAILTO:ralphandloni@gmail.com
END:VEVENT
END:VCALENDAR