BEGIN:VCALENDAR
VERSION:2.0
PRODID:-//Parker Road CDD - ECPv6.6.2//NONSGML v1.0//EN
CALSCALE:GREGORIAN
METHOD:PUBLISH
X-WR-CALNAME:Parker Road CDD
X-ORIGINAL-URL:http://parkerroadcdd.com
X-WR-CALDESC:Events for Parker Road CDD
REFRESH-INTERVAL;VALUE=DURATION:PT1H
X-Robots-Tag:noindex
X-PUBLISHED-TTL:PT1H
BEGIN:VTIMEZONE
TZID:America/New_York
BEGIN:DAYLIGHT
TZOFFSETFROM:-0500
TZOFFSETTO:-0400
TZNAME:EDT
DTSTART:20260308T070000
END:DAYLIGHT
BEGIN:STANDARD
TZOFFSETFROM:-0400
TZOFFSETTO:-0500
TZNAME:EST
DTSTART:20261101T060000
END:STANDARD
END:VTIMEZONE
BEGIN:VEVENT
DTSTART;TZID=America/New_York:20260316T190000
DTEND;TZID=America/New_York:20260316T210000
DTSTAMP:20260425T230229
CREATED:20250314T184434Z
LAST-MODIFIED:20250314T184434Z
UID:10000499-1773687600-1773694800@parkerroadcdd.com
SUMMARY:Bible Study
DESCRIPTION:For more information please contact Lisa Coleman
URL:http://parkerroadcdd.com/calendar/bible-study-6/2026-03-16/
LOCATION:Oakmont Clubhouse\, 11701 SW 30th Ave\, Gainesville\, FL\, 32608\, United States
CATEGORIES:Classes,Community Activity
ORGANIZER;CN="Lisa Coleman":MAILTO:lisacoleman0209@gmail.com
END:VEVENT
BEGIN:VEVENT
DTSTART;TZID=America/New_York:20260317T180000
DTEND;TZID=America/New_York:20260317T200000
DTSTAMP:20260425T230229
CREATED:20250314T184632Z
LAST-MODIFIED:20250314T184632Z
UID:10000559-1773770400-1773777600@parkerroadcdd.com
SUMMARY:Game Night
DESCRIPTION:For more information please contact Bev
URL:http://parkerroadcdd.com/calendar/game-night-9/2026-03-17/
LOCATION:Oakmont Clubhouse\, 11701 SW 30th Ave\, Gainesville\, FL\, 32608\, United States
CATEGORIES:Community Activity
ORGANIZER;CN="Beverly Gross":MAILTO:bevgro@yahoo.com
END:VEVENT
BEGIN:VEVENT
DTSTART;TZID=America/New_York:20260318T130000
DTEND;TZID=America/New_York:20260318T160000
DTSTAMP:20260425T230229
CREATED:20250725T133537Z
LAST-MODIFIED:20250725T133537Z
UID:10001681-1773838800-1773849600@parkerroadcdd.com
SUMMARY:Game Day
DESCRIPTION:Contact Loni & Ralph for More information \nralphandloni@gmail.com
URL:http://parkerroadcdd.com/calendar/game-day-30/2026-03-18/
LOCATION:Oakmont Clubhouse\, 11701 SW 30th Ave\, Gainesville\, FL\, 32608\, United States
CATEGORIES:Community Activity
ORGANIZER;CN="Ralph &amp%3B Loni Smith":MAILTO:ralphandloni@gmail.com
END:VEVENT
BEGIN:VEVENT
DTSTART;TZID=America/New_York:20260323T130000
DTEND;TZID=America/New_York:20260323T160000
DTSTAMP:20260425T230229
CREATED:20250725T133537Z
LAST-MODIFIED:20250725T133537Z
UID:10001682-1774270800-1774281600@parkerroadcdd.com
SUMMARY:Game Day
DESCRIPTION:Contact Loni & Ralph for More information \nralphandloni@gmail.com
URL:http://parkerroadcdd.com/calendar/game-day-30/2026-03-23/
LOCATION:Oakmont Clubhouse\, 11701 SW 30th Ave\, Gainesville\, FL\, 32608\, United States
CATEGORIES:Community Activity
ORGANIZER;CN="Ralph &amp%3B Loni Smith":MAILTO:ralphandloni@gmail.com
END:VEVENT
BEGIN:VEVENT
DTSTART;TZID=America/New_York:20260323T190000
DTEND;TZID=America/New_York:20260323T210000
DTSTAMP:20260425T230229
CREATED:20250314T184434Z
LAST-MODIFIED:20250314T184434Z
UID:10000500-1774292400-1774299600@parkerroadcdd.com
SUMMARY:Bible Study
DESCRIPTION:For more information please contact Lisa Coleman
URL:http://parkerroadcdd.com/calendar/bible-study-6/2026-03-23/
LOCATION:Oakmont Clubhouse\, 11701 SW 30th Ave\, Gainesville\, FL\, 32608\, United States
CATEGORIES:Classes,Community Activity
ORGANIZER;CN="Lisa Coleman":MAILTO:lisacoleman0209@gmail.com
END:VEVENT
BEGIN:VEVENT
DTSTART;TZID=America/New_York:20260324T180000
DTEND;TZID=America/New_York:20260324T200000
DTSTAMP:20260425T230229
CREATED:20260320T175727Z
LAST-MODIFIED:20260320T175727Z
UID:10000560-1774375200-1774382400@parkerroadcdd.com
SUMMARY:CXL-Game Night
DESCRIPTION:Game night has been canceled for 3/24/2026 \nFor more information\, please contact Bev
URL:http://parkerroadcdd.com/calendar/game-night-9-10/
LOCATION:Oakmont Clubhouse\, 11701 SW 30th Ave\, Gainesville\, FL\, 32608\, United States
CATEGORIES:Community Activity
ORGANIZER;CN="Beverly Gross":MAILTO:bevgro@yahoo.com
END:VEVENT
BEGIN:VEVENT
DTSTART;TZID=America/New_York:20260325T130000
DTEND;TZID=America/New_York:20260325T160000
DTSTAMP:20260425T230229
CREATED:20250725T133537Z
LAST-MODIFIED:20250725T133537Z
UID:10001683-1774443600-1774454400@parkerroadcdd.com
SUMMARY:Game Day
DESCRIPTION:Contact Loni & Ralph for More information \nralphandloni@gmail.com
URL:http://parkerroadcdd.com/calendar/game-day-30/2026-03-25/
LOCATION:Oakmont Clubhouse\, 11701 SW 30th Ave\, Gainesville\, FL\, 32608\, United States
CATEGORIES:Community Activity
ORGANIZER;CN="Ralph &amp%3B Loni Smith":MAILTO:ralphandloni@gmail.com
END:VEVENT
BEGIN:VEVENT
DTSTART;TZID=America/New_York:20260330T130000
DTEND;TZID=America/New_York:20260330T160000
DTSTAMP:20260425T230229
CREATED:20250725T133537Z
LAST-MODIFIED:20250725T133537Z
UID:10001684-1774875600-1774886400@parkerroadcdd.com
SUMMARY:Game Day
DESCRIPTION:Contact Loni & Ralph for More information \nralphandloni@gmail.com
URL:http://parkerroadcdd.com/calendar/game-day-30/2026-03-30/
LOCATION:Oakmont Clubhouse\, 11701 SW 30th Ave\, Gainesville\, FL\, 32608\, United States
CATEGORIES:Community Activity
ORGANIZER;CN="Ralph &amp%3B Loni Smith":MAILTO:ralphandloni@gmail.com
END:VEVENT
BEGIN:VEVENT
DTSTART;TZID=America/New_York:20260330T190000
DTEND;TZID=America/New_York:20260330T210000
DTSTAMP:20260425T230229
CREATED:20250314T184434Z
LAST-MODIFIED:20250314T184434Z
UID:10000501-1774897200-1774904400@parkerroadcdd.com
SUMMARY:Bible Study
DESCRIPTION:For more information please contact Lisa Coleman
URL:http://parkerroadcdd.com/calendar/bible-study-6/2026-03-30/
LOCATION:Oakmont Clubhouse\, 11701 SW 30th Ave\, Gainesville\, FL\, 32608\, United States
CATEGORIES:Classes,Community Activity
ORGANIZER;CN="Lisa Coleman":MAILTO:lisacoleman0209@gmail.com
END:VEVENT
BEGIN:VEVENT
DTSTART;TZID=America/New_York:20260331T180000
DTEND;TZID=America/New_York:20260331T200000
DTSTAMP:20260425T230229
CREATED:20250314T184632Z
LAST-MODIFIED:20250314T184632Z
UID:10000561-1774980000-1774987200@parkerroadcdd.com
SUMMARY:Game Night
DESCRIPTION:For more information please contact Bev
URL:http://parkerroadcdd.com/calendar/game-night-9/2026-03-31/
LOCATION:Oakmont Clubhouse\, 11701 SW 30th Ave\, Gainesville\, FL\, 32608\, United States
CATEGORIES:Community Activity
ORGANIZER;CN="Beverly Gross":MAILTO:bevgro@yahoo.com
END:VEVENT
BEGIN:VEVENT
DTSTART;TZID=America/New_York:20260401T130000
DTEND;TZID=America/New_York:20260401T160000
DTSTAMP:20260425T230229
CREATED:20250725T133537Z
LAST-MODIFIED:20250725T133537Z
UID:10001685-1775048400-1775059200@parkerroadcdd.com
SUMMARY:Game Day
DESCRIPTION:Contact Loni & Ralph for More information \nralphandloni@gmail.com
URL:http://parkerroadcdd.com/calendar/game-day-30/2026-04-01/
LOCATION:Oakmont Clubhouse\, 11701 SW 30th Ave\, Gainesville\, FL\, 32608\, United States
CATEGORIES:Community Activity
ORGANIZER;CN="Ralph &amp%3B Loni Smith":MAILTO:ralphandloni@gmail.com
END:VEVENT
BEGIN:VEVENT
DTSTART;TZID=America/New_York:20260406T130000
DTEND;TZID=America/New_York:20260406T160000
DTSTAMP:20260425T230229
CREATED:20250725T133537Z
LAST-MODIFIED:20250725T133537Z
UID:10001686-1775480400-1775491200@parkerroadcdd.com
SUMMARY:Game Day
DESCRIPTION:Contact Loni & Ralph for More information \nralphandloni@gmail.com
URL:http://parkerroadcdd.com/calendar/game-day-30/2026-04-06/
LOCATION:Oakmont Clubhouse\, 11701 SW 30th Ave\, Gainesville\, FL\, 32608\, United States
CATEGORIES:Community Activity
ORGANIZER;CN="Ralph &amp%3B Loni Smith":MAILTO:ralphandloni@gmail.com
END:VEVENT
BEGIN:VEVENT
DTSTART;TZID=America/New_York:20260406T190000
DTEND;TZID=America/New_York:20260406T210000
DTSTAMP:20260425T230229
CREATED:20250314T184434Z
LAST-MODIFIED:20250314T184434Z
UID:10000502-1775502000-1775509200@parkerroadcdd.com
SUMMARY:Bible Study
DESCRIPTION:For more information please contact Lisa Coleman
URL:http://parkerroadcdd.com/calendar/bible-study-6/2026-04-06/
LOCATION:Oakmont Clubhouse\, 11701 SW 30th Ave\, Gainesville\, FL\, 32608\, United States
CATEGORIES:Classes,Community Activity
ORGANIZER;CN="Lisa Coleman":MAILTO:lisacoleman0209@gmail.com
END:VEVENT
BEGIN:VEVENT
DTSTART;TZID=America/New_York:20260407T180000
DTEND;TZID=America/New_York:20260407T200000
DTSTAMP:20260425T230229
CREATED:20250314T184632Z
LAST-MODIFIED:20250314T184632Z
UID:10000562-1775584800-1775592000@parkerroadcdd.com
SUMMARY:Game Night
DESCRIPTION:For more information please contact Bev
URL:http://parkerroadcdd.com/calendar/game-night-9/2026-04-07/
LOCATION:Oakmont Clubhouse\, 11701 SW 30th Ave\, Gainesville\, FL\, 32608\, United States
CATEGORIES:Community Activity
ORGANIZER;CN="Beverly Gross":MAILTO:bevgro@yahoo.com
END:VEVENT
BEGIN:VEVENT
DTSTART;TZID=America/New_York:20260408T130000
DTEND;TZID=America/New_York:20260408T160000
DTSTAMP:20260425T230229
CREATED:20250725T133537Z
LAST-MODIFIED:20250725T133537Z
UID:10001687-1775653200-1775664000@parkerroadcdd.com
SUMMARY:Game Day
DESCRIPTION:Contact Loni & Ralph for More information \nralphandloni@gmail.com
URL:http://parkerroadcdd.com/calendar/game-day-30/2026-04-08/
LOCATION:Oakmont Clubhouse\, 11701 SW 30th Ave\, Gainesville\, FL\, 32608\, United States
CATEGORIES:Community Activity
ORGANIZER;CN="Ralph &amp%3B Loni Smith":MAILTO:ralphandloni@gmail.com
END:VEVENT
BEGIN:VEVENT
DTSTART;TZID=America/New_York:20260413T130000
DTEND;TZID=America/New_York:20260413T160000
DTSTAMP:20260425T230229
CREATED:20250725T133537Z
LAST-MODIFIED:20250725T133537Z
UID:10001688-1776085200-1776096000@parkerroadcdd.com
SUMMARY:Game Day
DESCRIPTION:Contact Loni & Ralph for More information \nralphandloni@gmail.com
URL:http://parkerroadcdd.com/calendar/game-day-30/2026-04-13/
LOCATION:Oakmont Clubhouse\, 11701 SW 30th Ave\, Gainesville\, FL\, 32608\, United States
CATEGORIES:Community Activity
ORGANIZER;CN="Ralph &amp%3B Loni Smith":MAILTO:ralphandloni@gmail.com
END:VEVENT
BEGIN:VEVENT
DTSTART;TZID=America/New_York:20260413T190000
DTEND;TZID=America/New_York:20260413T210000
DTSTAMP:20260425T230229
CREATED:20250314T184434Z
LAST-MODIFIED:20250314T184434Z
UID:10000503-1776106800-1776114000@parkerroadcdd.com
SUMMARY:Bible Study
DESCRIPTION:For more information please contact Lisa Coleman
URL:http://parkerroadcdd.com/calendar/bible-study-6/2026-04-13/
LOCATION:Oakmont Clubhouse\, 11701 SW 30th Ave\, Gainesville\, FL\, 32608\, United States
CATEGORIES:Classes,Community Activity
ORGANIZER;CN="Lisa Coleman":MAILTO:lisacoleman0209@gmail.com
END:VEVENT
BEGIN:VEVENT
DTSTART;TZID=America/New_York:20260414T180000
DTEND;TZID=America/New_York:20260414T200000
DTSTAMP:20260425T230229
CREATED:20250314T184632Z
LAST-MODIFIED:20250314T184632Z
UID:10000563-1776189600-1776196800@parkerroadcdd.com
SUMMARY:Game Night
DESCRIPTION:For more information please contact Bev
URL:http://parkerroadcdd.com/calendar/game-night-9/2026-04-14/
LOCATION:Oakmont Clubhouse\, 11701 SW 30th Ave\, Gainesville\, FL\, 32608\, United States
CATEGORIES:Community Activity
ORGANIZER;CN="Beverly Gross":MAILTO:bevgro@yahoo.com
END:VEVENT
BEGIN:VEVENT
DTSTART;TZID=America/New_York:20260415T130000
DTEND;TZID=America/New_York:20260415T160000
DTSTAMP:20260425T230229
CREATED:20250725T133537Z
LAST-MODIFIED:20250725T133537Z
UID:10001689-1776258000-1776268800@parkerroadcdd.com
SUMMARY:Game Day
DESCRIPTION:Contact Loni & Ralph for More information \nralphandloni@gmail.com
URL:http://parkerroadcdd.com/calendar/game-day-30/2026-04-15/
LOCATION:Oakmont Clubhouse\, 11701 SW 30th Ave\, Gainesville\, FL\, 32608\, United States
CATEGORIES:Community Activity
ORGANIZER;CN="Ralph &amp%3B Loni Smith":MAILTO:ralphandloni@gmail.com
END:VEVENT
BEGIN:VEVENT
DTSTART;TZID=America/New_York:20260420T130000
DTEND;TZID=America/New_York:20260420T160000
DTSTAMP:20260425T230229
CREATED:20250725T133537Z
LAST-MODIFIED:20250725T133537Z
UID:10001690-1776690000-1776700800@parkerroadcdd.com
SUMMARY:Game Day
DESCRIPTION:Contact Loni & Ralph for More information \nralphandloni@gmail.com
URL:http://parkerroadcdd.com/calendar/game-day-30/2026-04-20/
LOCATION:Oakmont Clubhouse\, 11701 SW 30th Ave\, Gainesville\, FL\, 32608\, United States
CATEGORIES:Community Activity
ORGANIZER;CN="Ralph &amp%3B Loni Smith":MAILTO:ralphandloni@gmail.com
END:VEVENT
BEGIN:VEVENT
DTSTART;TZID=America/New_York:20260420T190000
DTEND;TZID=America/New_York:20260420T210000
DTSTAMP:20260425T230229
CREATED:20250314T184434Z
LAST-MODIFIED:20250314T184434Z
UID:10000504-1776711600-1776718800@parkerroadcdd.com
SUMMARY:Bible Study
DESCRIPTION:For more information please contact Lisa Coleman
URL:http://parkerroadcdd.com/calendar/bible-study-6/2026-04-20/
LOCATION:Oakmont Clubhouse\, 11701 SW 30th Ave\, Gainesville\, FL\, 32608\, United States
CATEGORIES:Classes,Community Activity
ORGANIZER;CN="Lisa Coleman":MAILTO:lisacoleman0209@gmail.com
END:VEVENT
BEGIN:VEVENT
DTSTART;TZID=America/New_York:20260421T180000
DTEND;TZID=America/New_York:20260421T200000
DTSTAMP:20260425T230229
CREATED:20250314T184632Z
LAST-MODIFIED:20250314T184632Z
UID:10000564-1776794400-1776801600@parkerroadcdd.com
SUMMARY:Game Night
DESCRIPTION:For more information please contact Bev
URL:http://parkerroadcdd.com/calendar/game-night-9/2026-04-21/
LOCATION:Oakmont Clubhouse\, 11701 SW 30th Ave\, Gainesville\, FL\, 32608\, United States
CATEGORIES:Community Activity
ORGANIZER;CN="Beverly Gross":MAILTO:bevgro@yahoo.com
END:VEVENT
BEGIN:VEVENT
DTSTART;TZID=America/New_York:20260422T130000
DTEND;TZID=America/New_York:20260422T160000
DTSTAMP:20260425T230229
CREATED:20250725T133537Z
LAST-MODIFIED:20250725T133537Z
UID:10001691-1776862800-1776873600@parkerroadcdd.com
SUMMARY:Game Day
DESCRIPTION:Contact Loni & Ralph for More information \nralphandloni@gmail.com
URL:http://parkerroadcdd.com/calendar/game-day-30/2026-04-22/
LOCATION:Oakmont Clubhouse\, 11701 SW 30th Ave\, Gainesville\, FL\, 32608\, United States
CATEGORIES:Community Activity
ORGANIZER;CN="Ralph &amp%3B Loni Smith":MAILTO:ralphandloni@gmail.com
END:VEVENT
BEGIN:VEVENT
DTSTART;TZID=America/New_York:20260427T130000
DTEND;TZID=America/New_York:20260427T160000
DTSTAMP:20260425T230229
CREATED:20250725T133537Z
LAST-MODIFIED:20250725T133537Z
UID:10001692-1777294800-1777305600@parkerroadcdd.com
SUMMARY:Game Day
DESCRIPTION:Contact Loni & Ralph for More information \nralphandloni@gmail.com
URL:http://parkerroadcdd.com/calendar/game-day-30/2026-04-27/
LOCATION:Oakmont Clubhouse\, 11701 SW 30th Ave\, Gainesville\, FL\, 32608\, United States
CATEGORIES:Community Activity
ORGANIZER;CN="Ralph &amp%3B Loni Smith":MAILTO:ralphandloni@gmail.com
END:VEVENT
BEGIN:VEVENT
DTSTART;TZID=America/New_York:20260427T190000
DTEND;TZID=America/New_York:20260427T210000
DTSTAMP:20260425T230229
CREATED:20250314T184434Z
LAST-MODIFIED:20250314T184434Z
UID:10000505-1777316400-1777323600@parkerroadcdd.com
SUMMARY:Bible Study
DESCRIPTION:For more information please contact Lisa Coleman
URL:http://parkerroadcdd.com/calendar/bible-study-6/2026-04-27/
LOCATION:Oakmont Clubhouse\, 11701 SW 30th Ave\, Gainesville\, FL\, 32608\, United States
CATEGORIES:Classes,Community Activity
ORGANIZER;CN="Lisa Coleman":MAILTO:lisacoleman0209@gmail.com
END:VEVENT
BEGIN:VEVENT
DTSTART;TZID=America/New_York:20260428T180000
DTEND;TZID=America/New_York:20260428T200000
DTSTAMP:20260425T230229
CREATED:20250314T184632Z
LAST-MODIFIED:20250314T184632Z
UID:10000565-1777399200-1777406400@parkerroadcdd.com
SUMMARY:Game Night
DESCRIPTION:For more information please contact Bev
URL:http://parkerroadcdd.com/calendar/game-night-9/2026-04-28/
LOCATION:Oakmont Clubhouse\, 11701 SW 30th Ave\, Gainesville\, FL\, 32608\, United States
CATEGORIES:Community Activity
ORGANIZER;CN="Beverly Gross":MAILTO:bevgro@yahoo.com
END:VEVENT
BEGIN:VEVENT
DTSTART;TZID=America/New_York:20260429T130000
DTEND;TZID=America/New_York:20260429T160000
DTSTAMP:20260425T230229
CREATED:20250725T133537Z
LAST-MODIFIED:20250725T133537Z
UID:10001693-1777467600-1777478400@parkerroadcdd.com
SUMMARY:Game Day
DESCRIPTION:Contact Loni & Ralph for More information \nralphandloni@gmail.com
URL:http://parkerroadcdd.com/calendar/game-day-30/2026-04-29/
LOCATION:Oakmont Clubhouse\, 11701 SW 30th Ave\, Gainesville\, FL\, 32608\, United States
CATEGORIES:Community Activity
ORGANIZER;CN="Ralph &amp%3B Loni Smith":MAILTO:ralphandloni@gmail.com
END:VEVENT
BEGIN:VEVENT
DTSTART;TZID=America/New_York:20260504T130000
DTEND;TZID=America/New_York:20260504T160000
DTSTAMP:20260425T230229
CREATED:20250725T133537Z
LAST-MODIFIED:20250725T133537Z
UID:10001694-1777899600-1777910400@parkerroadcdd.com
SUMMARY:Game Day
DESCRIPTION:Contact Loni & Ralph for More information \nralphandloni@gmail.com
URL:http://parkerroadcdd.com/calendar/game-day-30/2026-05-04/
LOCATION:Oakmont Clubhouse\, 11701 SW 30th Ave\, Gainesville\, FL\, 32608\, United States
CATEGORIES:Community Activity
ORGANIZER;CN="Ralph &amp%3B Loni Smith":MAILTO:ralphandloni@gmail.com
END:VEVENT
BEGIN:VEVENT
DTSTART;TZID=America/New_York:20260504T190000
DTEND;TZID=America/New_York:20260504T210000
DTSTAMP:20260425T230229
CREATED:20250314T184434Z
LAST-MODIFIED:20250314T184434Z
UID:10000506-1777921200-1777928400@parkerroadcdd.com
SUMMARY:Bible Study
DESCRIPTION:For more information please contact Lisa Coleman
URL:http://parkerroadcdd.com/calendar/bible-study-6/2026-05-04/
LOCATION:Oakmont Clubhouse\, 11701 SW 30th Ave\, Gainesville\, FL\, 32608\, United States
CATEGORIES:Classes,Community Activity
ORGANIZER;CN="Lisa Coleman":MAILTO:lisacoleman0209@gmail.com
END:VEVENT
BEGIN:VEVENT
DTSTART;TZID=America/New_York:20260505T180000
DTEND;TZID=America/New_York:20260505T200000
DTSTAMP:20260425T230229
CREATED:20250314T184632Z
LAST-MODIFIED:20250314T184632Z
UID:10000566-1778004000-1778011200@parkerroadcdd.com
SUMMARY:Game Night
DESCRIPTION:For more information please contact Bev
URL:http://parkerroadcdd.com/calendar/game-night-9/2026-05-05/
LOCATION:Oakmont Clubhouse\, 11701 SW 30th Ave\, Gainesville\, FL\, 32608\, United States
CATEGORIES:Community Activity
ORGANIZER;CN="Beverly Gross":MAILTO:bevgro@yahoo.com
END:VEVENT
END:VCALENDAR