BEGIN:VCALENDAR
VERSION:2.0
PRODID:-//Parker Road CDD - ECPv6.6.2//NONSGML v1.0//EN
CALSCALE:GREGORIAN
METHOD:PUBLISH
X-ORIGINAL-URL:http://parkerroadcdd.com
X-WR-CALDESC:Events for Parker Road CDD
REFRESH-INTERVAL;VALUE=DURATION:PT1H
X-Robots-Tag:noindex
X-PUBLISHED-TTL:PT1H
BEGIN:VTIMEZONE
TZID:America/New_York
BEGIN:DAYLIGHT
TZOFFSETFROM:-0500
TZOFFSETTO:-0400
TZNAME:EDT
DTSTART:20250309T070000
END:DAYLIGHT
BEGIN:STANDARD
TZOFFSETFROM:-0400
TZOFFSETTO:-0500
TZNAME:EST
DTSTART:20251102T060000
END:STANDARD
END:VTIMEZONE
BEGIN:VEVENT
DTSTART;TZID=America/New_York:20250507T120000
DTEND;TZID=America/New_York:20250507T130000
DTSTAMP:20260425T162835
CREATED:20250507T133311Z
LAST-MODIFIED:20250507T133311Z
UID:10000735-1746619200-1746622800@parkerroadcdd.com
SUMMARY:Board of Supervisors Special meeting
DESCRIPTION:For those who are unable to attend in person\, please use the conference call information: \n  \nDial-In:        1-844-621-3956 \nAccess Code:          2536 634 0209 \nhttps://pfmcdd.webex.com/join/carvalhov \n 
URL:http://parkerroadcdd.com/calendar/board-of-supervisors-special-meeting/
LOCATION:Oakmont Clubhouse\, 11701 SW 30th Ave\, Gainesville\, FL\, 32608\, United States
CATEGORIES:Meetings
END:VEVENT
END:VCALENDAR