BEGIN:VCALENDAR
VERSION:2.0
PRODID:-//Parker Road CDD - ECPv6.6.2//NONSGML v1.0//EN
CALSCALE:GREGORIAN
METHOD:PUBLISH
X-ORIGINAL-URL:http://parkerroadcdd.com
X-WR-CALDESC:Events for Parker Road CDD
REFRESH-INTERVAL;VALUE=DURATION:PT1H
X-Robots-Tag:noindex
X-PUBLISHED-TTL:PT1H
BEGIN:VTIMEZONE
TZID:America/New_York
BEGIN:DAYLIGHT
TZOFFSETFROM:-0500
TZOFFSETTO:-0400
TZNAME:EDT
DTSTART:20250309T070000
END:DAYLIGHT
BEGIN:STANDARD
TZOFFSETFROM:-0400
TZOFFSETTO:-0500
TZNAME:EST
DTSTART:20251102T060000
END:STANDARD
END:VTIMEZONE
BEGIN:VEVENT
DTSTART;TZID=America/New_York:20250828T113000
DTEND;TZID=America/New_York:20250828T113000
DTSTAMP:20260423T114231
CREATED:20250703T203819Z
LAST-MODIFIED:20250708T150742Z
UID:10001596-1756380600-1756380600@parkerroadcdd.com
SUMMARY:Parker Road CDD Meeting of the Board of Supervisors
DESCRIPTION:Parker Road CDD Meeting of the Board of Supervisors\nPublic Hearing on the Budget \nFor those of you who are unable to attend in person\, please use the conference call information: \n Conference Call: 1-844-621-3956 \n Access Code: 2536 634 0209 \n\n\n\nJoin online: https://pfmcdd.webex.com/join/carvalhov \n\n\n\n 
URL:http://parkerroadcdd.com/calendar/hold-board-of-supervisors-meeting/
LOCATION:Oakmont Clubhouse\, 11701 SW 30th Ave\, Gainesville\, FL\, 32608\, United States
CATEGORIES:Meetings
END:VEVENT
END:VCALENDAR