BEGIN:VCALENDAR
VERSION:2.0
PRODID:-//Parker Road CDD - ECPv6.6.2//NONSGML v1.0//EN
CALSCALE:GREGORIAN
METHOD:PUBLISH
X-ORIGINAL-URL:http://parkerroadcdd.com
X-WR-CALDESC:Events for Parker Road CDD
REFRESH-INTERVAL;VALUE=DURATION:PT1H
X-Robots-Tag:noindex
X-PUBLISHED-TTL:PT1H
BEGIN:VTIMEZONE
TZID:America/New_York
BEGIN:DAYLIGHT
TZOFFSETFROM:-0500
TZOFFSETTO:-0400
TZNAME:EDT
DTSTART:20250309T070000
END:DAYLIGHT
BEGIN:STANDARD
TZOFFSETFROM:-0400
TZOFFSETTO:-0500
TZNAME:EST
DTSTART:20251102T060000
END:STANDARD
END:VTIMEZONE
BEGIN:VEVENT
DTSTART;TZID=America/New_York:20251121T113000
DTEND;TZID=America/New_York:20251121T113000
DTSTAMP:20260423T064511
CREATED:20250826T144959Z
LAST-MODIFIED:20250828T160448Z
UID:10002213-1763724600-1763724600@parkerroadcdd.com
SUMMARY:Parker Road CDD Board of Supervisors Meeting
DESCRIPTION:Parker Road CDD Board of Supervisors Meeting
URL:http://parkerroadcdd.com/calendar/hold-parker-road-cdd-board-meeting/
LOCATION:Oakmont Clubhouse\, 11701 SW 30th Ave\, Gainesville\, FL\, 32608\, United States
CATEGORIES:Meetings
END:VEVENT
END:VCALENDAR