BEGIN:VCALENDAR
VERSION:2.0
PRODID:-//Parker Road CDD - ECPv6.6.2//NONSGML v1.0//EN
CALSCALE:GREGORIAN
METHOD:PUBLISH
X-ORIGINAL-URL:http://parkerroadcdd.com
X-WR-CALDESC:Events for Parker Road CDD
REFRESH-INTERVAL;VALUE=DURATION:PT1H
X-Robots-Tag:noindex
X-PUBLISHED-TTL:PT1H
BEGIN:VTIMEZONE
TZID:America/New_York
BEGIN:DAYLIGHT
TZOFFSETFROM:-0500
TZOFFSETTO:-0400
TZNAME:EDT
DTSTART:20290311T070000
END:DAYLIGHT
BEGIN:STANDARD
TZOFFSETFROM:-0400
TZOFFSETTO:-0500
TZNAME:EST
DTSTART:20291104T060000
END:STANDARD
END:VTIMEZONE
BEGIN:VEVENT
DTSTART;TZID=America/New_York:20290724T100000
DTEND;TZID=America/New_York:20290724T100000
DTSTAMP:20260421T171533
CREATED:20250929T190718Z
LAST-MODIFIED:20250929T190718Z
UID:10002468-1879581600-1879581600@parkerroadcdd.com
SUMMARY:Empower Fitness$
DESCRIPTION:For more information \nContact Lisa Coleman \nlisacoleman0209@gmail.com
URL:http://parkerroadcdd.com/calendar/empower-fitness/2029-07-24/
LOCATION:Fitness Center Studio Room\, 11701 SW 30th Ave\, Gainesville\, FL\, 32608\, United States
ORGANIZER;CN="Lisa Coleman":MAILTO:lisacoleman0209@gmail.com
END:VEVENT
BEGIN:VEVENT
DTSTART;TZID=America/New_York:20290725T104500
DTEND;TZID=America/New_York:20290725T113000
DTSTAMP:20260421T171533
CREATED:20260324T140219Z
LAST-MODIFIED:20260324T140220Z
UID:10002889-1879670700-1879673400@parkerroadcdd.com
SUMMARY:Aqua Fitness Class
DESCRIPTION:Lisa Coleman
URL:http://parkerroadcdd.com/calendar/fitness-class-2/2029-07-25/
LOCATION:Oakmont Pool\, 11701 SW 30th Avenue\, Gainesville\, FL\, 32608\, United States
CATEGORIES:Classes
ORGANIZER;CN="Lisa Coleman":MAILTO:lisacoleman0209@gmail.com
END:VEVENT
BEGIN:VEVENT
DTSTART;TZID=America/New_York:20290725T130000
DTEND;TZID=America/New_York:20290725T160000
DTSTAMP:20260421T171533
CREATED:20250725T133537Z
LAST-MODIFIED:20250725T133537Z
UID:10002031-1879678800-1879689600@parkerroadcdd.com
SUMMARY:Game Day
DESCRIPTION:Contact Loni & Ralph for More information \nralphandloni@gmail.com
URL:http://parkerroadcdd.com/calendar/game-day-30/2029-07-25/
LOCATION:Oakmont Clubhouse\, 11701 SW 30th Ave\, Gainesville\, FL\, 32608\, United States
CATEGORIES:Community Activity
ORGANIZER;CN="Ralph &amp%3B Loni Smith":MAILTO:ralphandloni@gmail.com
END:VEVENT
BEGIN:VEVENT
DTSTART;TZID=America/New_York:20290729T090000
DTEND;TZID=America/New_York:20290729T110000
DTSTAMP:20260421T171533
CREATED:20250507T170805Z
LAST-MODIFIED:20260112T205858Z
UID:10003196-1880010000-1880017200@parkerroadcdd.com
SUMMARY:Tennis Clinic
DESCRIPTION:Please contact Robert Taylor for more information.
URL:http://parkerroadcdd.com/calendar/tennis-clinic-10/2029-07-29/
LOCATION:Oakmont Tennis Courts\, 11701 SW 30th Ave\, Gainesville\, FL\, 32608\, United States
CATEGORIES:Classes
ORGANIZER;CN="Robert Taylor":MAILTO:rt4tennis@gmail.com
END:VEVENT
BEGIN:VEVENT
DTSTART;TZID=America/New_York:20290730T130000
DTEND;TZID=America/New_York:20290730T160000
DTSTAMP:20260421T171533
CREATED:20250725T133537Z
LAST-MODIFIED:20250725T133537Z
UID:10002032-1880110800-1880121600@parkerroadcdd.com
SUMMARY:Game Day
DESCRIPTION:Contact Loni & Ralph for More information \nralphandloni@gmail.com
URL:http://parkerroadcdd.com/calendar/game-day-30/2029-07-30/
LOCATION:Oakmont Clubhouse\, 11701 SW 30th Ave\, Gainesville\, FL\, 32608\, United States
CATEGORIES:Community Activity
ORGANIZER;CN="Ralph &amp%3B Loni Smith":MAILTO:ralphandloni@gmail.com
END:VEVENT
BEGIN:VEVENT
DTSTART;TZID=America/New_York:20290731T100000
DTEND;TZID=America/New_York:20290731T100000
DTSTAMP:20260421T171533
CREATED:20250929T190718Z
LAST-MODIFIED:20250929T190718Z
UID:10002469-1880186400-1880186400@parkerroadcdd.com
SUMMARY:Empower Fitness$
DESCRIPTION:For more information \nContact Lisa Coleman \nlisacoleman0209@gmail.com
URL:http://parkerroadcdd.com/calendar/empower-fitness/2029-07-31/
LOCATION:Fitness Center Studio Room\, 11701 SW 30th Ave\, Gainesville\, FL\, 32608\, United States
ORGANIZER;CN="Lisa Coleman":MAILTO:lisacoleman0209@gmail.com
END:VEVENT
BEGIN:VEVENT
DTSTART;TZID=America/New_York:20290801T104500
DTEND;TZID=America/New_York:20290801T113000
DTSTAMP:20260421T171533
CREATED:20260324T140219Z
LAST-MODIFIED:20260324T140220Z
UID:10002890-1880275500-1880278200@parkerroadcdd.com
SUMMARY:Aqua Fitness Class
DESCRIPTION:Lisa Coleman
URL:http://parkerroadcdd.com/calendar/fitness-class-2/2029-08-01/
LOCATION:Oakmont Pool\, 11701 SW 30th Avenue\, Gainesville\, FL\, 32608\, United States
CATEGORIES:Classes
ORGANIZER;CN="Lisa Coleman":MAILTO:lisacoleman0209@gmail.com
END:VEVENT
BEGIN:VEVENT
DTSTART;TZID=America/New_York:20290801T130000
DTEND;TZID=America/New_York:20290801T160000
DTSTAMP:20260421T171533
CREATED:20250725T133537Z
LAST-MODIFIED:20250725T133537Z
UID:10002033-1880283600-1880294400@parkerroadcdd.com
SUMMARY:Game Day
DESCRIPTION:Contact Loni & Ralph for More information \nralphandloni@gmail.com
URL:http://parkerroadcdd.com/calendar/game-day-30/2029-08-01/
LOCATION:Oakmont Clubhouse\, 11701 SW 30th Ave\, Gainesville\, FL\, 32608\, United States
CATEGORIES:Community Activity
ORGANIZER;CN="Ralph &amp%3B Loni Smith":MAILTO:ralphandloni@gmail.com
END:VEVENT
BEGIN:VEVENT
DTSTART;TZID=America/New_York:20290805T090000
DTEND;TZID=America/New_York:20290805T110000
DTSTAMP:20260421T171533
CREATED:20250507T170805Z
LAST-MODIFIED:20260112T205858Z
UID:10003197-1880614800-1880622000@parkerroadcdd.com
SUMMARY:Tennis Clinic
DESCRIPTION:Please contact Robert Taylor for more information.
URL:http://parkerroadcdd.com/calendar/tennis-clinic-10/2029-08-05/
LOCATION:Oakmont Tennis Courts\, 11701 SW 30th Ave\, Gainesville\, FL\, 32608\, United States
CATEGORIES:Classes
ORGANIZER;CN="Robert Taylor":MAILTO:rt4tennis@gmail.com
END:VEVENT
BEGIN:VEVENT
DTSTART;TZID=America/New_York:20290806T130000
DTEND;TZID=America/New_York:20290806T160000
DTSTAMP:20260421T171533
CREATED:20250725T133537Z
LAST-MODIFIED:20250725T133537Z
UID:10002034-1880715600-1880726400@parkerroadcdd.com
SUMMARY:Game Day
DESCRIPTION:Contact Loni & Ralph for More information \nralphandloni@gmail.com
URL:http://parkerroadcdd.com/calendar/game-day-30/2029-08-06/
LOCATION:Oakmont Clubhouse\, 11701 SW 30th Ave\, Gainesville\, FL\, 32608\, United States
CATEGORIES:Community Activity
ORGANIZER;CN="Ralph &amp%3B Loni Smith":MAILTO:ralphandloni@gmail.com
END:VEVENT
BEGIN:VEVENT
DTSTART;TZID=America/New_York:20290807T100000
DTEND;TZID=America/New_York:20290807T100000
DTSTAMP:20260421T171533
CREATED:20250929T190718Z
LAST-MODIFIED:20250929T190718Z
UID:10002470-1880791200-1880791200@parkerroadcdd.com
SUMMARY:Empower Fitness$
DESCRIPTION:For more information \nContact Lisa Coleman \nlisacoleman0209@gmail.com
URL:http://parkerroadcdd.com/calendar/empower-fitness/2029-08-07/
LOCATION:Fitness Center Studio Room\, 11701 SW 30th Ave\, Gainesville\, FL\, 32608\, United States
ORGANIZER;CN="Lisa Coleman":MAILTO:lisacoleman0209@gmail.com
END:VEVENT
BEGIN:VEVENT
DTSTART;TZID=America/New_York:20290808T104500
DTEND;TZID=America/New_York:20290808T113000
DTSTAMP:20260421T171534
CREATED:20260324T140219Z
LAST-MODIFIED:20260324T140220Z
UID:10002891-1880880300-1880883000@parkerroadcdd.com
SUMMARY:Aqua Fitness Class
DESCRIPTION:Lisa Coleman
URL:http://parkerroadcdd.com/calendar/fitness-class-2/2029-08-08/
LOCATION:Oakmont Pool\, 11701 SW 30th Avenue\, Gainesville\, FL\, 32608\, United States
CATEGORIES:Classes
ORGANIZER;CN="Lisa Coleman":MAILTO:lisacoleman0209@gmail.com
END:VEVENT
BEGIN:VEVENT
DTSTART;TZID=America/New_York:20290808T130000
DTEND;TZID=America/New_York:20290808T160000
DTSTAMP:20260421T171534
CREATED:20250725T133537Z
LAST-MODIFIED:20250725T133537Z
UID:10002035-1880888400-1880899200@parkerroadcdd.com
SUMMARY:Game Day
DESCRIPTION:Contact Loni & Ralph for More information \nralphandloni@gmail.com
URL:http://parkerroadcdd.com/calendar/game-day-30/2029-08-08/
LOCATION:Oakmont Clubhouse\, 11701 SW 30th Ave\, Gainesville\, FL\, 32608\, United States
CATEGORIES:Community Activity
ORGANIZER;CN="Ralph &amp%3B Loni Smith":MAILTO:ralphandloni@gmail.com
END:VEVENT
BEGIN:VEVENT
DTSTART;TZID=America/New_York:20290812T090000
DTEND;TZID=America/New_York:20290812T110000
DTSTAMP:20260421T171534
CREATED:20250507T170805Z
LAST-MODIFIED:20260112T205858Z
UID:10003198-1881219600-1881226800@parkerroadcdd.com
SUMMARY:Tennis Clinic
DESCRIPTION:Please contact Robert Taylor for more information.
URL:http://parkerroadcdd.com/calendar/tennis-clinic-10/2029-08-12/
LOCATION:Oakmont Tennis Courts\, 11701 SW 30th Ave\, Gainesville\, FL\, 32608\, United States
CATEGORIES:Classes
ORGANIZER;CN="Robert Taylor":MAILTO:rt4tennis@gmail.com
END:VEVENT
BEGIN:VEVENT
DTSTART;TZID=America/New_York:20290813T130000
DTEND;TZID=America/New_York:20290813T160000
DTSTAMP:20260421T171534
CREATED:20250725T133537Z
LAST-MODIFIED:20250725T133537Z
UID:10002036-1881320400-1881331200@parkerroadcdd.com
SUMMARY:Game Day
DESCRIPTION:Contact Loni & Ralph for More information \nralphandloni@gmail.com
URL:http://parkerroadcdd.com/calendar/game-day-30/2029-08-13/
LOCATION:Oakmont Clubhouse\, 11701 SW 30th Ave\, Gainesville\, FL\, 32608\, United States
CATEGORIES:Community Activity
ORGANIZER;CN="Ralph &amp%3B Loni Smith":MAILTO:ralphandloni@gmail.com
END:VEVENT
BEGIN:VEVENT
DTSTART;TZID=America/New_York:20290814T100000
DTEND;TZID=America/New_York:20290814T100000
DTSTAMP:20260421T171534
CREATED:20250929T190718Z
LAST-MODIFIED:20250929T190718Z
UID:10002471-1881396000-1881396000@parkerroadcdd.com
SUMMARY:Empower Fitness$
DESCRIPTION:For more information \nContact Lisa Coleman \nlisacoleman0209@gmail.com
URL:http://parkerroadcdd.com/calendar/empower-fitness/2029-08-14/
LOCATION:Fitness Center Studio Room\, 11701 SW 30th Ave\, Gainesville\, FL\, 32608\, United States
ORGANIZER;CN="Lisa Coleman":MAILTO:lisacoleman0209@gmail.com
END:VEVENT
BEGIN:VEVENT
DTSTART;TZID=America/New_York:20290815T104500
DTEND;TZID=America/New_York:20290815T113000
DTSTAMP:20260421T171534
CREATED:20260324T140219Z
LAST-MODIFIED:20260324T140220Z
UID:10002892-1881485100-1881487800@parkerroadcdd.com
SUMMARY:Aqua Fitness Class
DESCRIPTION:Lisa Coleman
URL:http://parkerroadcdd.com/calendar/fitness-class-2/2029-08-15/
LOCATION:Oakmont Pool\, 11701 SW 30th Avenue\, Gainesville\, FL\, 32608\, United States
CATEGORIES:Classes
ORGANIZER;CN="Lisa Coleman":MAILTO:lisacoleman0209@gmail.com
END:VEVENT
BEGIN:VEVENT
DTSTART;TZID=America/New_York:20290815T130000
DTEND;TZID=America/New_York:20290815T160000
DTSTAMP:20260421T171534
CREATED:20250725T133537Z
LAST-MODIFIED:20250725T133537Z
UID:10002037-1881493200-1881504000@parkerroadcdd.com
SUMMARY:Game Day
DESCRIPTION:Contact Loni & Ralph for More information \nralphandloni@gmail.com
URL:http://parkerroadcdd.com/calendar/game-day-30/2029-08-15/
LOCATION:Oakmont Clubhouse\, 11701 SW 30th Ave\, Gainesville\, FL\, 32608\, United States
CATEGORIES:Community Activity
ORGANIZER;CN="Ralph &amp%3B Loni Smith":MAILTO:ralphandloni@gmail.com
END:VEVENT
BEGIN:VEVENT
DTSTART;TZID=America/New_York:20290819T090000
DTEND;TZID=America/New_York:20290819T110000
DTSTAMP:20260421T171534
CREATED:20250507T170805Z
LAST-MODIFIED:20260112T205858Z
UID:10003199-1881824400-1881831600@parkerroadcdd.com
SUMMARY:Tennis Clinic
DESCRIPTION:Please contact Robert Taylor for more information.
URL:http://parkerroadcdd.com/calendar/tennis-clinic-10/2029-08-19/
LOCATION:Oakmont Tennis Courts\, 11701 SW 30th Ave\, Gainesville\, FL\, 32608\, United States
CATEGORIES:Classes
ORGANIZER;CN="Robert Taylor":MAILTO:rt4tennis@gmail.com
END:VEVENT
BEGIN:VEVENT
DTSTART;TZID=America/New_York:20290820T130000
DTEND;TZID=America/New_York:20290820T160000
DTSTAMP:20260421T171534
CREATED:20250725T133537Z
LAST-MODIFIED:20250725T133537Z
UID:10002038-1881925200-1881936000@parkerroadcdd.com
SUMMARY:Game Day
DESCRIPTION:Contact Loni & Ralph for More information \nralphandloni@gmail.com
URL:http://parkerroadcdd.com/calendar/game-day-30/2029-08-20/
LOCATION:Oakmont Clubhouse\, 11701 SW 30th Ave\, Gainesville\, FL\, 32608\, United States
CATEGORIES:Community Activity
ORGANIZER;CN="Ralph &amp%3B Loni Smith":MAILTO:ralphandloni@gmail.com
END:VEVENT
BEGIN:VEVENT
DTSTART;TZID=America/New_York:20290821T100000
DTEND;TZID=America/New_York:20290821T100000
DTSTAMP:20260421T171534
CREATED:20250929T190718Z
LAST-MODIFIED:20250929T190718Z
UID:10002472-1882000800-1882000800@parkerroadcdd.com
SUMMARY:Empower Fitness$
DESCRIPTION:For more information \nContact Lisa Coleman \nlisacoleman0209@gmail.com
URL:http://parkerroadcdd.com/calendar/empower-fitness/2029-08-21/
LOCATION:Fitness Center Studio Room\, 11701 SW 30th Ave\, Gainesville\, FL\, 32608\, United States
ORGANIZER;CN="Lisa Coleman":MAILTO:lisacoleman0209@gmail.com
END:VEVENT
BEGIN:VEVENT
DTSTART;TZID=America/New_York:20290822T104500
DTEND;TZID=America/New_York:20290822T113000
DTSTAMP:20260421T171534
CREATED:20260324T140219Z
LAST-MODIFIED:20260324T140220Z
UID:10002893-1882089900-1882092600@parkerroadcdd.com
SUMMARY:Aqua Fitness Class
DESCRIPTION:Lisa Coleman
URL:http://parkerroadcdd.com/calendar/fitness-class-2/2029-08-22/
LOCATION:Oakmont Pool\, 11701 SW 30th Avenue\, Gainesville\, FL\, 32608\, United States
CATEGORIES:Classes
ORGANIZER;CN="Lisa Coleman":MAILTO:lisacoleman0209@gmail.com
END:VEVENT
BEGIN:VEVENT
DTSTART;TZID=America/New_York:20290822T130000
DTEND;TZID=America/New_York:20290822T160000
DTSTAMP:20260421T171534
CREATED:20250725T133537Z
LAST-MODIFIED:20250725T133537Z
UID:10002039-1882098000-1882108800@parkerroadcdd.com
SUMMARY:Game Day
DESCRIPTION:Contact Loni & Ralph for More information \nralphandloni@gmail.com
URL:http://parkerroadcdd.com/calendar/game-day-30/2029-08-22/
LOCATION:Oakmont Clubhouse\, 11701 SW 30th Ave\, Gainesville\, FL\, 32608\, United States
CATEGORIES:Community Activity
ORGANIZER;CN="Ralph &amp%3B Loni Smith":MAILTO:ralphandloni@gmail.com
END:VEVENT
BEGIN:VEVENT
DTSTART;TZID=America/New_York:20290826T090000
DTEND;TZID=America/New_York:20290826T110000
DTSTAMP:20260421T171534
CREATED:20250507T170805Z
LAST-MODIFIED:20260112T205858Z
UID:10003200-1882429200-1882436400@parkerroadcdd.com
SUMMARY:Tennis Clinic
DESCRIPTION:Please contact Robert Taylor for more information.
URL:http://parkerroadcdd.com/calendar/tennis-clinic-10/2029-08-26/
LOCATION:Oakmont Tennis Courts\, 11701 SW 30th Ave\, Gainesville\, FL\, 32608\, United States
CATEGORIES:Classes
ORGANIZER;CN="Robert Taylor":MAILTO:rt4tennis@gmail.com
END:VEVENT
BEGIN:VEVENT
DTSTART;TZID=America/New_York:20290827T130000
DTEND;TZID=America/New_York:20290827T160000
DTSTAMP:20260421T171534
CREATED:20250725T133537Z
LAST-MODIFIED:20250725T133537Z
UID:10002040-1882530000-1882540800@parkerroadcdd.com
SUMMARY:Game Day
DESCRIPTION:Contact Loni & Ralph for More information \nralphandloni@gmail.com
URL:http://parkerroadcdd.com/calendar/game-day-30/2029-08-27/
LOCATION:Oakmont Clubhouse\, 11701 SW 30th Ave\, Gainesville\, FL\, 32608\, United States
CATEGORIES:Community Activity
ORGANIZER;CN="Ralph &amp%3B Loni Smith":MAILTO:ralphandloni@gmail.com
END:VEVENT
BEGIN:VEVENT
DTSTART;TZID=America/New_York:20290828T100000
DTEND;TZID=America/New_York:20290828T100000
DTSTAMP:20260421T171534
CREATED:20250929T190718Z
LAST-MODIFIED:20250929T190718Z
UID:10002473-1882605600-1882605600@parkerroadcdd.com
SUMMARY:Empower Fitness$
DESCRIPTION:For more information \nContact Lisa Coleman \nlisacoleman0209@gmail.com
URL:http://parkerroadcdd.com/calendar/empower-fitness/2029-08-28/
LOCATION:Fitness Center Studio Room\, 11701 SW 30th Ave\, Gainesville\, FL\, 32608\, United States
ORGANIZER;CN="Lisa Coleman":MAILTO:lisacoleman0209@gmail.com
END:VEVENT
BEGIN:VEVENT
DTSTART;TZID=America/New_York:20290829T104500
DTEND;TZID=America/New_York:20290829T113000
DTSTAMP:20260421T171534
CREATED:20260324T140219Z
LAST-MODIFIED:20260324T140220Z
UID:10002894-1882694700-1882697400@parkerroadcdd.com
SUMMARY:Aqua Fitness Class
DESCRIPTION:Lisa Coleman
URL:http://parkerroadcdd.com/calendar/fitness-class-2/2029-08-29/
LOCATION:Oakmont Pool\, 11701 SW 30th Avenue\, Gainesville\, FL\, 32608\, United States
CATEGORIES:Classes
ORGANIZER;CN="Lisa Coleman":MAILTO:lisacoleman0209@gmail.com
END:VEVENT
BEGIN:VEVENT
DTSTART;TZID=America/New_York:20290829T130000
DTEND;TZID=America/New_York:20290829T160000
DTSTAMP:20260421T171534
CREATED:20250725T133537Z
LAST-MODIFIED:20250725T133537Z
UID:10002041-1882702800-1882713600@parkerroadcdd.com
SUMMARY:Game Day
DESCRIPTION:Contact Loni & Ralph for More information \nralphandloni@gmail.com
URL:http://parkerroadcdd.com/calendar/game-day-30/2029-08-29/
LOCATION:Oakmont Clubhouse\, 11701 SW 30th Ave\, Gainesville\, FL\, 32608\, United States
CATEGORIES:Community Activity
ORGANIZER;CN="Ralph &amp%3B Loni Smith":MAILTO:ralphandloni@gmail.com
END:VEVENT
BEGIN:VEVENT
DTSTART;TZID=America/New_York:20290902T090000
DTEND;TZID=America/New_York:20290902T110000
DTSTAMP:20260421T171534
CREATED:20250507T170805Z
LAST-MODIFIED:20260112T205858Z
UID:10003201-1883034000-1883041200@parkerroadcdd.com
SUMMARY:Tennis Clinic
DESCRIPTION:Please contact Robert Taylor for more information.
URL:http://parkerroadcdd.com/calendar/tennis-clinic-10/2029-09-02/
LOCATION:Oakmont Tennis Courts\, 11701 SW 30th Ave\, Gainesville\, FL\, 32608\, United States
CATEGORIES:Classes
ORGANIZER;CN="Robert Taylor":MAILTO:rt4tennis@gmail.com
END:VEVENT
BEGIN:VEVENT
DTSTART;TZID=America/New_York:20290903T130000
DTEND;TZID=America/New_York:20290903T160000
DTSTAMP:20260421T171534
CREATED:20250725T133537Z
LAST-MODIFIED:20250725T133537Z
UID:10002042-1883134800-1883145600@parkerroadcdd.com
SUMMARY:Game Day
DESCRIPTION:Contact Loni & Ralph for More information \nralphandloni@gmail.com
URL:http://parkerroadcdd.com/calendar/game-day-30/2029-09-03/
LOCATION:Oakmont Clubhouse\, 11701 SW 30th Ave\, Gainesville\, FL\, 32608\, United States
CATEGORIES:Community Activity
ORGANIZER;CN="Ralph &amp%3B Loni Smith":MAILTO:ralphandloni@gmail.com
END:VEVENT
END:VCALENDAR