BEGIN:VCALENDAR
VERSION:2.0
PRODID:-//Parker Road CDD - ECPv6.6.2//NONSGML v1.0//EN
CALSCALE:GREGORIAN
METHOD:PUBLISH
X-ORIGINAL-URL:http://parkerroadcdd.com
X-WR-CALDESC:Events for Parker Road CDD
REFRESH-INTERVAL;VALUE=DURATION:PT1H
X-Robots-Tag:noindex
X-PUBLISHED-TTL:PT1H
BEGIN:VTIMEZONE
TZID:America/New_York
BEGIN:DAYLIGHT
TZOFFSETFROM:-0500
TZOFFSETTO:-0400
TZNAME:EDT
DTSTART:20300310T070000
END:DAYLIGHT
BEGIN:STANDARD
TZOFFSETFROM:-0400
TZOFFSETTO:-0500
TZNAME:EST
DTSTART:20301103T060000
END:STANDARD
END:VTIMEZONE
BEGIN:VEVENT
DTSTART;TZID=America/New_York:20300917T100000
DTEND;TZID=America/New_York:20300917T100000
DTSTAMP:20260423T111202
CREATED:20250929T190718Z
LAST-MODIFIED:20250929T190718Z
UID:10002528-1915869600-1915869600@parkerroadcdd.com
SUMMARY:Empower Fitness$
DESCRIPTION:For more information \nContact Lisa Coleman \nlisacoleman0209@gmail.com
URL:http://parkerroadcdd.com/calendar/empower-fitness/2030-09-17/
LOCATION:Fitness Center Studio Room\, 11701 SW 30th Ave\, Gainesville\, FL\, 32608\, United States
ORGANIZER;CN="Lisa Coleman":MAILTO:lisacoleman0209@gmail.com
END:VEVENT
BEGIN:VEVENT
DTSTART;TZID=America/New_York:20300918T104500
DTEND;TZID=America/New_York:20300918T113000
DTSTAMP:20260423T111202
CREATED:20260324T140219Z
LAST-MODIFIED:20260324T140220Z
UID:10002949-1915958700-1915961400@parkerroadcdd.com
SUMMARY:Aqua Fitness Class
DESCRIPTION:Lisa Coleman
URL:http://parkerroadcdd.com/calendar/fitness-class-2/2030-09-18/
LOCATION:Oakmont Pool\, 11701 SW 30th Avenue\, Gainesville\, FL\, 32608\, United States
CATEGORIES:Classes
ORGANIZER;CN="Lisa Coleman":MAILTO:lisacoleman0209@gmail.com
END:VEVENT
BEGIN:VEVENT
DTSTART;TZID=America/New_York:20300918T130000
DTEND;TZID=America/New_York:20300918T160000
DTSTAMP:20260423T111202
CREATED:20250725T133537Z
LAST-MODIFIED:20250725T133537Z
UID:10002636-1915966800-1915977600@parkerroadcdd.com
SUMMARY:Game Day
DESCRIPTION:Contact Loni & Ralph for More information \nralphandloni@gmail.com
URL:http://parkerroadcdd.com/calendar/game-day-30/2030-09-18/
LOCATION:Oakmont Clubhouse\, 11701 SW 30th Ave\, Gainesville\, FL\, 32608\, United States
CATEGORIES:Community Activity
ORGANIZER;CN="Ralph &amp%3B Loni Smith":MAILTO:ralphandloni@gmail.com
END:VEVENT
BEGIN:VEVENT
DTSTART;TZID=America/New_York:20300922T090000
DTEND;TZID=America/New_York:20300922T110000
DTSTAMP:20260423T111202
CREATED:20250507T170805Z
LAST-MODIFIED:20260112T205858Z
UID:10003256-1916298000-1916305200@parkerroadcdd.com
SUMMARY:Tennis Clinic
DESCRIPTION:Please contact Robert Taylor for more information.
URL:http://parkerroadcdd.com/calendar/tennis-clinic-10/2030-09-22/
LOCATION:Oakmont Tennis Courts\, 11701 SW 30th Ave\, Gainesville\, FL\, 32608\, United States
CATEGORIES:Classes
ORGANIZER;CN="Robert Taylor":MAILTO:rt4tennis@gmail.com
END:VEVENT
BEGIN:VEVENT
DTSTART;TZID=America/New_York:20300923T130000
DTEND;TZID=America/New_York:20300923T160000
DTSTAMP:20260423T111202
CREATED:20250725T133537Z
LAST-MODIFIED:20250725T133537Z
UID:10002637-1916398800-1916409600@parkerroadcdd.com
SUMMARY:Game Day
DESCRIPTION:Contact Loni & Ralph for More information \nralphandloni@gmail.com
URL:http://parkerroadcdd.com/calendar/game-day-30/2030-09-23/
LOCATION:Oakmont Clubhouse\, 11701 SW 30th Ave\, Gainesville\, FL\, 32608\, United States
CATEGORIES:Community Activity
ORGANIZER;CN="Ralph &amp%3B Loni Smith":MAILTO:ralphandloni@gmail.com
END:VEVENT
BEGIN:VEVENT
DTSTART;TZID=America/New_York:20300924T100000
DTEND;TZID=America/New_York:20300924T100000
DTSTAMP:20260423T111202
CREATED:20250929T190718Z
LAST-MODIFIED:20250929T190718Z
UID:10002529-1916474400-1916474400@parkerroadcdd.com
SUMMARY:Empower Fitness$
DESCRIPTION:For more information \nContact Lisa Coleman \nlisacoleman0209@gmail.com
URL:http://parkerroadcdd.com/calendar/empower-fitness/2030-09-24/
LOCATION:Fitness Center Studio Room\, 11701 SW 30th Ave\, Gainesville\, FL\, 32608\, United States
ORGANIZER;CN="Lisa Coleman":MAILTO:lisacoleman0209@gmail.com
END:VEVENT
BEGIN:VEVENT
DTSTART;TZID=America/New_York:20300925T104500
DTEND;TZID=America/New_York:20300925T113000
DTSTAMP:20260423T111202
CREATED:20260324T140219Z
LAST-MODIFIED:20260324T140220Z
UID:10002950-1916563500-1916566200@parkerroadcdd.com
SUMMARY:Aqua Fitness Class
DESCRIPTION:Lisa Coleman
URL:http://parkerroadcdd.com/calendar/fitness-class-2/2030-09-25/
LOCATION:Oakmont Pool\, 11701 SW 30th Avenue\, Gainesville\, FL\, 32608\, United States
CATEGORIES:Classes
ORGANIZER;CN="Lisa Coleman":MAILTO:lisacoleman0209@gmail.com
END:VEVENT
BEGIN:VEVENT
DTSTART;TZID=America/New_York:20300925T130000
DTEND;TZID=America/New_York:20300925T160000
DTSTAMP:20260423T111202
CREATED:20250725T133537Z
LAST-MODIFIED:20250725T133537Z
UID:10002638-1916571600-1916582400@parkerroadcdd.com
SUMMARY:Game Day
DESCRIPTION:Contact Loni & Ralph for More information \nralphandloni@gmail.com
URL:http://parkerroadcdd.com/calendar/game-day-30/2030-09-25/
LOCATION:Oakmont Clubhouse\, 11701 SW 30th Ave\, Gainesville\, FL\, 32608\, United States
CATEGORIES:Community Activity
ORGANIZER;CN="Ralph &amp%3B Loni Smith":MAILTO:ralphandloni@gmail.com
END:VEVENT
BEGIN:VEVENT
DTSTART;TZID=America/New_York:20300929T090000
DTEND;TZID=America/New_York:20300929T110000
DTSTAMP:20260423T111202
CREATED:20250507T170805Z
LAST-MODIFIED:20260112T205858Z
UID:10003257-1916902800-1916910000@parkerroadcdd.com
SUMMARY:Tennis Clinic
DESCRIPTION:Please contact Robert Taylor for more information.
URL:http://parkerroadcdd.com/calendar/tennis-clinic-10/2030-09-29/
LOCATION:Oakmont Tennis Courts\, 11701 SW 30th Ave\, Gainesville\, FL\, 32608\, United States
CATEGORIES:Classes
ORGANIZER;CN="Robert Taylor":MAILTO:rt4tennis@gmail.com
END:VEVENT
BEGIN:VEVENT
DTSTART;TZID=America/New_York:20300930T130000
DTEND;TZID=America/New_York:20300930T160000
DTSTAMP:20260423T111202
CREATED:20250725T133537Z
LAST-MODIFIED:20250725T133537Z
UID:10002639-1917003600-1917014400@parkerroadcdd.com
SUMMARY:Game Day
DESCRIPTION:Contact Loni & Ralph for More information \nralphandloni@gmail.com
URL:http://parkerroadcdd.com/calendar/game-day-30/2030-09-30/
LOCATION:Oakmont Clubhouse\, 11701 SW 30th Ave\, Gainesville\, FL\, 32608\, United States
CATEGORIES:Community Activity
ORGANIZER;CN="Ralph &amp%3B Loni Smith":MAILTO:ralphandloni@gmail.com
END:VEVENT
BEGIN:VEVENT
DTSTART;TZID=America/New_York:20301002T104500
DTEND;TZID=America/New_York:20301002T113000
DTSTAMP:20260423T111202
CREATED:20260324T140219Z
LAST-MODIFIED:20260324T140220Z
UID:10002951-1917168300-1917171000@parkerroadcdd.com
SUMMARY:Aqua Fitness Class
DESCRIPTION:Lisa Coleman
URL:http://parkerroadcdd.com/calendar/fitness-class-2/2030-10-02/
LOCATION:Oakmont Pool\, 11701 SW 30th Avenue\, Gainesville\, FL\, 32608\, United States
CATEGORIES:Classes
ORGANIZER;CN="Lisa Coleman":MAILTO:lisacoleman0209@gmail.com
END:VEVENT
BEGIN:VEVENT
DTSTART;TZID=America/New_York:20301002T130000
DTEND;TZID=America/New_York:20301002T160000
DTSTAMP:20260423T111202
CREATED:20250725T133537Z
LAST-MODIFIED:20250725T133537Z
UID:10002640-1917176400-1917187200@parkerroadcdd.com
SUMMARY:Game Day
DESCRIPTION:Contact Loni & Ralph for More information \nralphandloni@gmail.com
URL:http://parkerroadcdd.com/calendar/game-day-30/2030-10-02/
LOCATION:Oakmont Clubhouse\, 11701 SW 30th Ave\, Gainesville\, FL\, 32608\, United States
CATEGORIES:Community Activity
ORGANIZER;CN="Ralph &amp%3B Loni Smith":MAILTO:ralphandloni@gmail.com
END:VEVENT
BEGIN:VEVENT
DTSTART;TZID=America/New_York:20301006T090000
DTEND;TZID=America/New_York:20301006T110000
DTSTAMP:20260423T111202
CREATED:20250507T170805Z
LAST-MODIFIED:20260112T205858Z
UID:10003258-1917507600-1917514800@parkerroadcdd.com
SUMMARY:Tennis Clinic
DESCRIPTION:Please contact Robert Taylor for more information.
URL:http://parkerroadcdd.com/calendar/tennis-clinic-10/2030-10-06/
LOCATION:Oakmont Tennis Courts\, 11701 SW 30th Ave\, Gainesville\, FL\, 32608\, United States
CATEGORIES:Classes
ORGANIZER;CN="Robert Taylor":MAILTO:rt4tennis@gmail.com
END:VEVENT
BEGIN:VEVENT
DTSTART;TZID=America/New_York:20301007T130000
DTEND;TZID=America/New_York:20301007T160000
DTSTAMP:20260423T111202
CREATED:20250725T133537Z
LAST-MODIFIED:20250725T133537Z
UID:10002641-1917608400-1917619200@parkerroadcdd.com
SUMMARY:Game Day
DESCRIPTION:Contact Loni & Ralph for More information \nralphandloni@gmail.com
URL:http://parkerroadcdd.com/calendar/game-day-30/2030-10-07/
LOCATION:Oakmont Clubhouse\, 11701 SW 30th Ave\, Gainesville\, FL\, 32608\, United States
CATEGORIES:Community Activity
ORGANIZER;CN="Ralph &amp%3B Loni Smith":MAILTO:ralphandloni@gmail.com
END:VEVENT
BEGIN:VEVENT
DTSTART;TZID=America/New_York:20301009T104500
DTEND;TZID=America/New_York:20301009T113000
DTSTAMP:20260423T111202
CREATED:20260324T140219Z
LAST-MODIFIED:20260324T140220Z
UID:10002952-1917773100-1917775800@parkerroadcdd.com
SUMMARY:Aqua Fitness Class
DESCRIPTION:Lisa Coleman
URL:http://parkerroadcdd.com/calendar/fitness-class-2/2030-10-09/
LOCATION:Oakmont Pool\, 11701 SW 30th Avenue\, Gainesville\, FL\, 32608\, United States
CATEGORIES:Classes
ORGANIZER;CN="Lisa Coleman":MAILTO:lisacoleman0209@gmail.com
END:VEVENT
BEGIN:VEVENT
DTSTART;TZID=America/New_York:20301009T130000
DTEND;TZID=America/New_York:20301009T160000
DTSTAMP:20260423T111202
CREATED:20250725T133537Z
LAST-MODIFIED:20250725T133537Z
UID:10002642-1917781200-1917792000@parkerroadcdd.com
SUMMARY:Game Day
DESCRIPTION:Contact Loni & Ralph for More information \nralphandloni@gmail.com
URL:http://parkerroadcdd.com/calendar/game-day-30/2030-10-09/
LOCATION:Oakmont Clubhouse\, 11701 SW 30th Ave\, Gainesville\, FL\, 32608\, United States
CATEGORIES:Community Activity
ORGANIZER;CN="Ralph &amp%3B Loni Smith":MAILTO:ralphandloni@gmail.com
END:VEVENT
BEGIN:VEVENT
DTSTART;TZID=America/New_York:20301013T090000
DTEND;TZID=America/New_York:20301013T110000
DTSTAMP:20260423T111202
CREATED:20250507T170805Z
LAST-MODIFIED:20260112T205858Z
UID:10003259-1918112400-1918119600@parkerroadcdd.com
SUMMARY:Tennis Clinic
DESCRIPTION:Please contact Robert Taylor for more information.
URL:http://parkerroadcdd.com/calendar/tennis-clinic-10/2030-10-13/
LOCATION:Oakmont Tennis Courts\, 11701 SW 30th Ave\, Gainesville\, FL\, 32608\, United States
CATEGORIES:Classes
ORGANIZER;CN="Robert Taylor":MAILTO:rt4tennis@gmail.com
END:VEVENT
BEGIN:VEVENT
DTSTART;TZID=America/New_York:20301014T130000
DTEND;TZID=America/New_York:20301014T160000
DTSTAMP:20260423T111202
CREATED:20250725T133537Z
LAST-MODIFIED:20250725T133537Z
UID:10002643-1918213200-1918224000@parkerroadcdd.com
SUMMARY:Game Day
DESCRIPTION:Contact Loni & Ralph for More information \nralphandloni@gmail.com
URL:http://parkerroadcdd.com/calendar/game-day-30/2030-10-14/
LOCATION:Oakmont Clubhouse\, 11701 SW 30th Ave\, Gainesville\, FL\, 32608\, United States
CATEGORIES:Community Activity
ORGANIZER;CN="Ralph &amp%3B Loni Smith":MAILTO:ralphandloni@gmail.com
END:VEVENT
BEGIN:VEVENT
DTSTART;TZID=America/New_York:20301016T104500
DTEND;TZID=America/New_York:20301016T113000
DTSTAMP:20260423T111202
CREATED:20260324T140219Z
LAST-MODIFIED:20260324T140220Z
UID:10002953-1918377900-1918380600@parkerroadcdd.com
SUMMARY:Aqua Fitness Class
DESCRIPTION:Lisa Coleman
URL:http://parkerroadcdd.com/calendar/fitness-class-2/2030-10-16/
LOCATION:Oakmont Pool\, 11701 SW 30th Avenue\, Gainesville\, FL\, 32608\, United States
CATEGORIES:Classes
ORGANIZER;CN="Lisa Coleman":MAILTO:lisacoleman0209@gmail.com
END:VEVENT
BEGIN:VEVENT
DTSTART;TZID=America/New_York:20301016T130000
DTEND;TZID=America/New_York:20301016T160000
DTSTAMP:20260423T111202
CREATED:20250725T133537Z
LAST-MODIFIED:20250725T133537Z
UID:10002644-1918386000-1918396800@parkerroadcdd.com
SUMMARY:Game Day
DESCRIPTION:Contact Loni & Ralph for More information \nralphandloni@gmail.com
URL:http://parkerroadcdd.com/calendar/game-day-30/2030-10-16/
LOCATION:Oakmont Clubhouse\, 11701 SW 30th Ave\, Gainesville\, FL\, 32608\, United States
CATEGORIES:Community Activity
ORGANIZER;CN="Ralph &amp%3B Loni Smith":MAILTO:ralphandloni@gmail.com
END:VEVENT
BEGIN:VEVENT
DTSTART;TZID=America/New_York:20301020T090000
DTEND;TZID=America/New_York:20301020T110000
DTSTAMP:20260423T111202
CREATED:20250507T170805Z
LAST-MODIFIED:20260112T205858Z
UID:10003260-1918717200-1918724400@parkerroadcdd.com
SUMMARY:Tennis Clinic
DESCRIPTION:Please contact Robert Taylor for more information.
URL:http://parkerroadcdd.com/calendar/tennis-clinic-10/2030-10-20/
LOCATION:Oakmont Tennis Courts\, 11701 SW 30th Ave\, Gainesville\, FL\, 32608\, United States
CATEGORIES:Classes
ORGANIZER;CN="Robert Taylor":MAILTO:rt4tennis@gmail.com
END:VEVENT
BEGIN:VEVENT
DTSTART;TZID=America/New_York:20301021T130000
DTEND;TZID=America/New_York:20301021T160000
DTSTAMP:20260423T111202
CREATED:20250725T133537Z
LAST-MODIFIED:20250725T133537Z
UID:10002645-1918818000-1918828800@parkerroadcdd.com
SUMMARY:Game Day
DESCRIPTION:Contact Loni & Ralph for More information \nralphandloni@gmail.com
URL:http://parkerroadcdd.com/calendar/game-day-30/2030-10-21/
LOCATION:Oakmont Clubhouse\, 11701 SW 30th Ave\, Gainesville\, FL\, 32608\, United States
CATEGORIES:Community Activity
ORGANIZER;CN="Ralph &amp%3B Loni Smith":MAILTO:ralphandloni@gmail.com
END:VEVENT
BEGIN:VEVENT
DTSTART;TZID=America/New_York:20301023T104500
DTEND;TZID=America/New_York:20301023T113000
DTSTAMP:20260423T111202
CREATED:20260324T140219Z
LAST-MODIFIED:20260324T140220Z
UID:10002954-1918982700-1918985400@parkerroadcdd.com
SUMMARY:Aqua Fitness Class
DESCRIPTION:Lisa Coleman
URL:http://parkerroadcdd.com/calendar/fitness-class-2/2030-10-23/
LOCATION:Oakmont Pool\, 11701 SW 30th Avenue\, Gainesville\, FL\, 32608\, United States
CATEGORIES:Classes
ORGANIZER;CN="Lisa Coleman":MAILTO:lisacoleman0209@gmail.com
END:VEVENT
BEGIN:VEVENT
DTSTART;TZID=America/New_York:20301023T130000
DTEND;TZID=America/New_York:20301023T160000
DTSTAMP:20260423T111202
CREATED:20250725T133537Z
LAST-MODIFIED:20250725T133537Z
UID:10002646-1918990800-1919001600@parkerroadcdd.com
SUMMARY:Game Day
DESCRIPTION:Contact Loni & Ralph for More information \nralphandloni@gmail.com
URL:http://parkerroadcdd.com/calendar/game-day-30/2030-10-23/
LOCATION:Oakmont Clubhouse\, 11701 SW 30th Ave\, Gainesville\, FL\, 32608\, United States
CATEGORIES:Community Activity
ORGANIZER;CN="Ralph &amp%3B Loni Smith":MAILTO:ralphandloni@gmail.com
END:VEVENT
BEGIN:VEVENT
DTSTART;TZID=America/New_York:20301027T090000
DTEND;TZID=America/New_York:20301027T110000
DTSTAMP:20260423T111202
CREATED:20250507T170805Z
LAST-MODIFIED:20260112T205858Z
UID:10003261-1919322000-1919329200@parkerroadcdd.com
SUMMARY:Tennis Clinic
DESCRIPTION:Please contact Robert Taylor for more information.
URL:http://parkerroadcdd.com/calendar/tennis-clinic-10/2030-10-27/
LOCATION:Oakmont Tennis Courts\, 11701 SW 30th Ave\, Gainesville\, FL\, 32608\, United States
CATEGORIES:Classes
ORGANIZER;CN="Robert Taylor":MAILTO:rt4tennis@gmail.com
END:VEVENT
BEGIN:VEVENT
DTSTART;TZID=America/New_York:20301028T130000
DTEND;TZID=America/New_York:20301028T160000
DTSTAMP:20260423T111202
CREATED:20250725T133537Z
LAST-MODIFIED:20250725T133537Z
UID:10002647-1919422800-1919433600@parkerroadcdd.com
SUMMARY:Game Day
DESCRIPTION:Contact Loni & Ralph for More information \nralphandloni@gmail.com
URL:http://parkerroadcdd.com/calendar/game-day-30/2030-10-28/
LOCATION:Oakmont Clubhouse\, 11701 SW 30th Ave\, Gainesville\, FL\, 32608\, United States
CATEGORIES:Community Activity
ORGANIZER;CN="Ralph &amp%3B Loni Smith":MAILTO:ralphandloni@gmail.com
END:VEVENT
BEGIN:VEVENT
DTSTART;TZID=America/New_York:20301030T104500
DTEND;TZID=America/New_York:20301030T113000
DTSTAMP:20260423T111202
CREATED:20260324T140219Z
LAST-MODIFIED:20260324T140220Z
UID:10002955-1919587500-1919590200@parkerroadcdd.com
SUMMARY:Aqua Fitness Class
DESCRIPTION:Lisa Coleman
URL:http://parkerroadcdd.com/calendar/fitness-class-2/2030-10-30/
LOCATION:Oakmont Pool\, 11701 SW 30th Avenue\, Gainesville\, FL\, 32608\, United States
CATEGORIES:Classes
ORGANIZER;CN="Lisa Coleman":MAILTO:lisacoleman0209@gmail.com
END:VEVENT
BEGIN:VEVENT
DTSTART;TZID=America/New_York:20301030T130000
DTEND;TZID=America/New_York:20301030T160000
DTSTAMP:20260423T111202
CREATED:20250725T133537Z
LAST-MODIFIED:20250725T133537Z
UID:10002648-1919595600-1919606400@parkerroadcdd.com
SUMMARY:Game Day
DESCRIPTION:Contact Loni & Ralph for More information \nralphandloni@gmail.com
URL:http://parkerroadcdd.com/calendar/game-day-30/2030-10-30/
LOCATION:Oakmont Clubhouse\, 11701 SW 30th Ave\, Gainesville\, FL\, 32608\, United States
CATEGORIES:Community Activity
ORGANIZER;CN="Ralph &amp%3B Loni Smith":MAILTO:ralphandloni@gmail.com
END:VEVENT
BEGIN:VEVENT
DTSTART;TZID=America/New_York:20301103T090000
DTEND;TZID=America/New_York:20301103T110000
DTSTAMP:20260423T111202
CREATED:20250507T170805Z
LAST-MODIFIED:20260112T205858Z
UID:10003262-1919926800-1919934000@parkerroadcdd.com
SUMMARY:Tennis Clinic
DESCRIPTION:Please contact Robert Taylor for more information.
URL:http://parkerroadcdd.com/calendar/tennis-clinic-10/2030-11-03/
LOCATION:Oakmont Tennis Courts\, 11701 SW 30th Ave\, Gainesville\, FL\, 32608\, United States
CATEGORIES:Classes
ORGANIZER;CN="Robert Taylor":MAILTO:rt4tennis@gmail.com
END:VEVENT
BEGIN:VEVENT
DTSTART;TZID=America/New_York:20301104T130000
DTEND;TZID=America/New_York:20301104T160000
DTSTAMP:20260423T111202
CREATED:20250725T133537Z
LAST-MODIFIED:20250725T133537Z
UID:10002649-1920027600-1920038400@parkerroadcdd.com
SUMMARY:Game Day
DESCRIPTION:Contact Loni & Ralph for More information \nralphandloni@gmail.com
URL:http://parkerroadcdd.com/calendar/game-day-30/2030-11-04/
LOCATION:Oakmont Clubhouse\, 11701 SW 30th Ave\, Gainesville\, FL\, 32608\, United States
CATEGORIES:Community Activity
ORGANIZER;CN="Ralph &amp%3B Loni Smith":MAILTO:ralphandloni@gmail.com
END:VEVENT
END:VCALENDAR