BEGIN:VCALENDAR
VERSION:2.0
PRODID:-//Parker Road CDD - ECPv6.6.2//NONSGML v1.0//EN
CALSCALE:GREGORIAN
METHOD:PUBLISH
X-ORIGINAL-URL:http://parkerroadcdd.com
X-WR-CALDESC:Events for Parker Road CDD
REFRESH-INTERVAL;VALUE=DURATION:PT1H
X-Robots-Tag:noindex
X-PUBLISHED-TTL:PT1H
BEGIN:VTIMEZONE
TZID:America/New_York
BEGIN:DAYLIGHT
TZOFFSETFROM:-0500
TZOFFSETTO:-0400
TZNAME:EDT
DTSTART:20300310T070000
END:DAYLIGHT
BEGIN:STANDARD
TZOFFSETFROM:-0400
TZOFFSETTO:-0500
TZNAME:EST
DTSTART:20301103T060000
END:STANDARD
END:VTIMEZONE
BEGIN:VEVENT
DTSTART;TZID=America/New_York:20301027T090000
DTEND;TZID=America/New_York:20301027T110000
DTSTAMP:20260423T142750
CREATED:20250507T170805Z
LAST-MODIFIED:20260112T205858Z
UID:10003261-1919322000-1919329200@parkerroadcdd.com
SUMMARY:Tennis Clinic
DESCRIPTION:Please contact Robert Taylor for more information.
URL:http://parkerroadcdd.com/calendar/tennis-clinic-10/2030-10-27/
LOCATION:Oakmont Tennis Courts\, 11701 SW 30th Ave\, Gainesville\, FL\, 32608\, United States
CATEGORIES:Classes
ORGANIZER;CN="Robert Taylor":MAILTO:rt4tennis@gmail.com
END:VEVENT
BEGIN:VEVENT
DTSTART;TZID=America/New_York:20301028T130000
DTEND;TZID=America/New_York:20301028T160000
DTSTAMP:20260423T142750
CREATED:20250725T133537Z
LAST-MODIFIED:20250725T133537Z
UID:10002647-1919422800-1919433600@parkerroadcdd.com
SUMMARY:Game Day
DESCRIPTION:Contact Loni & Ralph for More information \nralphandloni@gmail.com
URL:http://parkerroadcdd.com/calendar/game-day-30/2030-10-28/
LOCATION:Oakmont Clubhouse\, 11701 SW 30th Ave\, Gainesville\, FL\, 32608\, United States
CATEGORIES:Community Activity
ORGANIZER;CN="Ralph &amp%3B Loni Smith":MAILTO:ralphandloni@gmail.com
END:VEVENT
BEGIN:VEVENT
DTSTART;TZID=America/New_York:20301030T104500
DTEND;TZID=America/New_York:20301030T113000
DTSTAMP:20260423T142750
CREATED:20260324T140219Z
LAST-MODIFIED:20260324T140220Z
UID:10002955-1919587500-1919590200@parkerroadcdd.com
SUMMARY:Aqua Fitness Class
DESCRIPTION:Lisa Coleman
URL:http://parkerroadcdd.com/calendar/fitness-class-2/2030-10-30/
LOCATION:Oakmont Pool\, 11701 SW 30th Avenue\, Gainesville\, FL\, 32608\, United States
CATEGORIES:Classes
ORGANIZER;CN="Lisa Coleman":MAILTO:lisacoleman0209@gmail.com
END:VEVENT
BEGIN:VEVENT
DTSTART;TZID=America/New_York:20301030T130000
DTEND;TZID=America/New_York:20301030T160000
DTSTAMP:20260423T142750
CREATED:20250725T133537Z
LAST-MODIFIED:20250725T133537Z
UID:10002648-1919595600-1919606400@parkerroadcdd.com
SUMMARY:Game Day
DESCRIPTION:Contact Loni & Ralph for More information \nralphandloni@gmail.com
URL:http://parkerroadcdd.com/calendar/game-day-30/2030-10-30/
LOCATION:Oakmont Clubhouse\, 11701 SW 30th Ave\, Gainesville\, FL\, 32608\, United States
CATEGORIES:Community Activity
ORGANIZER;CN="Ralph &amp%3B Loni Smith":MAILTO:ralphandloni@gmail.com
END:VEVENT
BEGIN:VEVENT
DTSTART;TZID=America/New_York:20301103T090000
DTEND;TZID=America/New_York:20301103T110000
DTSTAMP:20260423T142750
CREATED:20250507T170805Z
LAST-MODIFIED:20260112T205858Z
UID:10003262-1919926800-1919934000@parkerroadcdd.com
SUMMARY:Tennis Clinic
DESCRIPTION:Please contact Robert Taylor for more information.
URL:http://parkerroadcdd.com/calendar/tennis-clinic-10/2030-11-03/
LOCATION:Oakmont Tennis Courts\, 11701 SW 30th Ave\, Gainesville\, FL\, 32608\, United States
CATEGORIES:Classes
ORGANIZER;CN="Robert Taylor":MAILTO:rt4tennis@gmail.com
END:VEVENT
BEGIN:VEVENT
DTSTART;TZID=America/New_York:20301104T130000
DTEND;TZID=America/New_York:20301104T160000
DTSTAMP:20260423T142750
CREATED:20250725T133537Z
LAST-MODIFIED:20250725T133537Z
UID:10002649-1920027600-1920038400@parkerroadcdd.com
SUMMARY:Game Day
DESCRIPTION:Contact Loni & Ralph for More information \nralphandloni@gmail.com
URL:http://parkerroadcdd.com/calendar/game-day-30/2030-11-04/
LOCATION:Oakmont Clubhouse\, 11701 SW 30th Ave\, Gainesville\, FL\, 32608\, United States
CATEGORIES:Community Activity
ORGANIZER;CN="Ralph &amp%3B Loni Smith":MAILTO:ralphandloni@gmail.com
END:VEVENT
BEGIN:VEVENT
DTSTART;TZID=America/New_York:20301106T104500
DTEND;TZID=America/New_York:20301106T113000
DTSTAMP:20260423T142750
CREATED:20260324T140219Z
LAST-MODIFIED:20260324T140220Z
UID:10002956-1920192300-1920195000@parkerroadcdd.com
SUMMARY:Aqua Fitness Class
DESCRIPTION:Lisa Coleman
URL:http://parkerroadcdd.com/calendar/fitness-class-2/2030-11-06/
LOCATION:Oakmont Pool\, 11701 SW 30th Avenue\, Gainesville\, FL\, 32608\, United States
CATEGORIES:Classes
ORGANIZER;CN="Lisa Coleman":MAILTO:lisacoleman0209@gmail.com
END:VEVENT
BEGIN:VEVENT
DTSTART;TZID=America/New_York:20301106T130000
DTEND;TZID=America/New_York:20301106T160000
DTSTAMP:20260423T142750
CREATED:20250725T133537Z
LAST-MODIFIED:20250725T133537Z
UID:10002650-1920200400-1920211200@parkerroadcdd.com
SUMMARY:Game Day
DESCRIPTION:Contact Loni & Ralph for More information \nralphandloni@gmail.com
URL:http://parkerroadcdd.com/calendar/game-day-30/2030-11-06/
LOCATION:Oakmont Clubhouse\, 11701 SW 30th Ave\, Gainesville\, FL\, 32608\, United States
CATEGORIES:Community Activity
ORGANIZER;CN="Ralph &amp%3B Loni Smith":MAILTO:ralphandloni@gmail.com
END:VEVENT
BEGIN:VEVENT
DTSTART;TZID=America/New_York:20301110T090000
DTEND;TZID=America/New_York:20301110T110000
DTSTAMP:20260423T142750
CREATED:20250507T170805Z
LAST-MODIFIED:20260112T205858Z
UID:10003263-1920531600-1920538800@parkerroadcdd.com
SUMMARY:Tennis Clinic
DESCRIPTION:Please contact Robert Taylor for more information.
URL:http://parkerroadcdd.com/calendar/tennis-clinic-10/2030-11-10/
LOCATION:Oakmont Tennis Courts\, 11701 SW 30th Ave\, Gainesville\, FL\, 32608\, United States
CATEGORIES:Classes
ORGANIZER;CN="Robert Taylor":MAILTO:rt4tennis@gmail.com
END:VEVENT
BEGIN:VEVENT
DTSTART;TZID=America/New_York:20301111T130000
DTEND;TZID=America/New_York:20301111T160000
DTSTAMP:20260423T142750
CREATED:20250725T133537Z
LAST-MODIFIED:20250725T133537Z
UID:10002651-1920632400-1920643200@parkerroadcdd.com
SUMMARY:Game Day
DESCRIPTION:Contact Loni & Ralph for More information \nralphandloni@gmail.com
URL:http://parkerroadcdd.com/calendar/game-day-30/2030-11-11/
LOCATION:Oakmont Clubhouse\, 11701 SW 30th Ave\, Gainesville\, FL\, 32608\, United States
CATEGORIES:Community Activity
ORGANIZER;CN="Ralph &amp%3B Loni Smith":MAILTO:ralphandloni@gmail.com
END:VEVENT
BEGIN:VEVENT
DTSTART;TZID=America/New_York:20301113T104500
DTEND;TZID=America/New_York:20301113T113000
DTSTAMP:20260423T142750
CREATED:20260324T140219Z
LAST-MODIFIED:20260324T140220Z
UID:10002957-1920797100-1920799800@parkerroadcdd.com
SUMMARY:Aqua Fitness Class
DESCRIPTION:Lisa Coleman
URL:http://parkerroadcdd.com/calendar/fitness-class-2/2030-11-13/
LOCATION:Oakmont Pool\, 11701 SW 30th Avenue\, Gainesville\, FL\, 32608\, United States
CATEGORIES:Classes
ORGANIZER;CN="Lisa Coleman":MAILTO:lisacoleman0209@gmail.com
END:VEVENT
BEGIN:VEVENT
DTSTART;TZID=America/New_York:20301113T130000
DTEND;TZID=America/New_York:20301113T160000
DTSTAMP:20260423T142750
CREATED:20250725T133537Z
LAST-MODIFIED:20250725T133537Z
UID:10002673-1920805200-1920816000@parkerroadcdd.com
SUMMARY:Game Day
DESCRIPTION:Contact Loni & Ralph for More information \nralphandloni@gmail.com
URL:http://parkerroadcdd.com/calendar/game-day-30/2030-11-13/
LOCATION:Oakmont Clubhouse\, 11701 SW 30th Ave\, Gainesville\, FL\, 32608\, United States
CATEGORIES:Community Activity
ORGANIZER;CN="Ralph &amp%3B Loni Smith":MAILTO:ralphandloni@gmail.com
END:VEVENT
BEGIN:VEVENT
DTSTART;TZID=America/New_York:20301117T090000
DTEND;TZID=America/New_York:20301117T110000
DTSTAMP:20260423T142750
CREATED:20250507T170805Z
LAST-MODIFIED:20260112T205858Z
UID:10003264-1921136400-1921143600@parkerroadcdd.com
SUMMARY:Tennis Clinic
DESCRIPTION:Please contact Robert Taylor for more information.
URL:http://parkerroadcdd.com/calendar/tennis-clinic-10/2030-11-17/
LOCATION:Oakmont Tennis Courts\, 11701 SW 30th Ave\, Gainesville\, FL\, 32608\, United States
CATEGORIES:Classes
ORGANIZER;CN="Robert Taylor":MAILTO:rt4tennis@gmail.com
END:VEVENT
BEGIN:VEVENT
DTSTART;TZID=America/New_York:20301118T130000
DTEND;TZID=America/New_York:20301118T160000
DTSTAMP:20260423T142750
CREATED:20250725T133537Z
LAST-MODIFIED:20250725T133537Z
UID:10002674-1921237200-1921248000@parkerroadcdd.com
SUMMARY:Game Day
DESCRIPTION:Contact Loni & Ralph for More information \nralphandloni@gmail.com
URL:http://parkerroadcdd.com/calendar/game-day-30/2030-11-18/
LOCATION:Oakmont Clubhouse\, 11701 SW 30th Ave\, Gainesville\, FL\, 32608\, United States
CATEGORIES:Community Activity
ORGANIZER;CN="Ralph &amp%3B Loni Smith":MAILTO:ralphandloni@gmail.com
END:VEVENT
BEGIN:VEVENT
DTSTART;TZID=America/New_York:20301120T104500
DTEND;TZID=America/New_York:20301120T113000
DTSTAMP:20260423T142750
CREATED:20260324T140219Z
LAST-MODIFIED:20260324T140220Z
UID:10002958-1921401900-1921404600@parkerroadcdd.com
SUMMARY:Aqua Fitness Class
DESCRIPTION:Lisa Coleman
URL:http://parkerroadcdd.com/calendar/fitness-class-2/2030-11-20/
LOCATION:Oakmont Pool\, 11701 SW 30th Avenue\, Gainesville\, FL\, 32608\, United States
CATEGORIES:Classes
ORGANIZER;CN="Lisa Coleman":MAILTO:lisacoleman0209@gmail.com
END:VEVENT
BEGIN:VEVENT
DTSTART;TZID=America/New_York:20301120T130000
DTEND;TZID=America/New_York:20301120T160000
DTSTAMP:20260423T142750
CREATED:20250725T133537Z
LAST-MODIFIED:20250725T133537Z
UID:10002675-1921410000-1921420800@parkerroadcdd.com
SUMMARY:Game Day
DESCRIPTION:Contact Loni & Ralph for More information \nralphandloni@gmail.com
URL:http://parkerroadcdd.com/calendar/game-day-30/2030-11-20/
LOCATION:Oakmont Clubhouse\, 11701 SW 30th Ave\, Gainesville\, FL\, 32608\, United States
CATEGORIES:Community Activity
ORGANIZER;CN="Ralph &amp%3B Loni Smith":MAILTO:ralphandloni@gmail.com
END:VEVENT
BEGIN:VEVENT
DTSTART;TZID=America/New_York:20301124T090000
DTEND;TZID=America/New_York:20301124T110000
DTSTAMP:20260423T142750
CREATED:20250507T170805Z
LAST-MODIFIED:20260112T205858Z
UID:10003265-1921741200-1921748400@parkerroadcdd.com
SUMMARY:Tennis Clinic
DESCRIPTION:Please contact Robert Taylor for more information.
URL:http://parkerroadcdd.com/calendar/tennis-clinic-10/2030-11-24/
LOCATION:Oakmont Tennis Courts\, 11701 SW 30th Ave\, Gainesville\, FL\, 32608\, United States
CATEGORIES:Classes
ORGANIZER;CN="Robert Taylor":MAILTO:rt4tennis@gmail.com
END:VEVENT
BEGIN:VEVENT
DTSTART;TZID=America/New_York:20301125T130000
DTEND;TZID=America/New_York:20301125T160000
DTSTAMP:20260423T142750
CREATED:20250725T133537Z
LAST-MODIFIED:20250725T133537Z
UID:10002676-1921842000-1921852800@parkerroadcdd.com
SUMMARY:Game Day
DESCRIPTION:Contact Loni & Ralph for More information \nralphandloni@gmail.com
URL:http://parkerroadcdd.com/calendar/game-day-30/2030-11-25/
LOCATION:Oakmont Clubhouse\, 11701 SW 30th Ave\, Gainesville\, FL\, 32608\, United States
CATEGORIES:Community Activity
ORGANIZER;CN="Ralph &amp%3B Loni Smith":MAILTO:ralphandloni@gmail.com
END:VEVENT
BEGIN:VEVENT
DTSTART;TZID=America/New_York:20301127T104500
DTEND;TZID=America/New_York:20301127T113000
DTSTAMP:20260423T142750
CREATED:20260324T140219Z
LAST-MODIFIED:20260324T140220Z
UID:10002959-1922006700-1922009400@parkerroadcdd.com
SUMMARY:Aqua Fitness Class
DESCRIPTION:Lisa Coleman
URL:http://parkerroadcdd.com/calendar/fitness-class-2/2030-11-27/
LOCATION:Oakmont Pool\, 11701 SW 30th Avenue\, Gainesville\, FL\, 32608\, United States
CATEGORIES:Classes
ORGANIZER;CN="Lisa Coleman":MAILTO:lisacoleman0209@gmail.com
END:VEVENT
BEGIN:VEVENT
DTSTART;TZID=America/New_York:20301127T130000
DTEND;TZID=America/New_York:20301127T160000
DTSTAMP:20260423T142750
CREATED:20250725T133537Z
LAST-MODIFIED:20250725T133537Z
UID:10002677-1922014800-1922025600@parkerroadcdd.com
SUMMARY:Game Day
DESCRIPTION:Contact Loni & Ralph for More information \nralphandloni@gmail.com
URL:http://parkerroadcdd.com/calendar/game-day-30/2030-11-27/
LOCATION:Oakmont Clubhouse\, 11701 SW 30th Ave\, Gainesville\, FL\, 32608\, United States
CATEGORIES:Community Activity
ORGANIZER;CN="Ralph &amp%3B Loni Smith":MAILTO:ralphandloni@gmail.com
END:VEVENT
BEGIN:VEVENT
DTSTART;TZID=America/New_York:20301201T090000
DTEND;TZID=America/New_York:20301201T110000
DTSTAMP:20260423T142750
CREATED:20250507T170805Z
LAST-MODIFIED:20260112T205858Z
UID:10003266-1922346000-1922353200@parkerroadcdd.com
SUMMARY:Tennis Clinic
DESCRIPTION:Please contact Robert Taylor for more information.
URL:http://parkerroadcdd.com/calendar/tennis-clinic-10/2030-12-01/
LOCATION:Oakmont Tennis Courts\, 11701 SW 30th Ave\, Gainesville\, FL\, 32608\, United States
CATEGORIES:Classes
ORGANIZER;CN="Robert Taylor":MAILTO:rt4tennis@gmail.com
END:VEVENT
BEGIN:VEVENT
DTSTART;TZID=America/New_York:20301202T130000
DTEND;TZID=America/New_York:20301202T160000
DTSTAMP:20260423T142750
CREATED:20250725T133537Z
LAST-MODIFIED:20250725T133537Z
UID:10002686-1922446800-1922457600@parkerroadcdd.com
SUMMARY:Game Day
DESCRIPTION:Contact Loni & Ralph for More information \nralphandloni@gmail.com
URL:http://parkerroadcdd.com/calendar/game-day-30/2030-12-02/
LOCATION:Oakmont Clubhouse\, 11701 SW 30th Ave\, Gainesville\, FL\, 32608\, United States
CATEGORIES:Community Activity
ORGANIZER;CN="Ralph &amp%3B Loni Smith":MAILTO:ralphandloni@gmail.com
END:VEVENT
BEGIN:VEVENT
DTSTART;TZID=America/New_York:20301204T104500
DTEND;TZID=America/New_York:20301204T113000
DTSTAMP:20260423T142750
CREATED:20260324T140219Z
LAST-MODIFIED:20260324T140220Z
UID:10002960-1922611500-1922614200@parkerroadcdd.com
SUMMARY:Aqua Fitness Class
DESCRIPTION:Lisa Coleman
URL:http://parkerroadcdd.com/calendar/fitness-class-2/2030-12-04/
LOCATION:Oakmont Pool\, 11701 SW 30th Avenue\, Gainesville\, FL\, 32608\, United States
CATEGORIES:Classes
ORGANIZER;CN="Lisa Coleman":MAILTO:lisacoleman0209@gmail.com
END:VEVENT
BEGIN:VEVENT
DTSTART;TZID=America/New_York:20301204T130000
DTEND;TZID=America/New_York:20301204T160000
DTSTAMP:20260423T142750
CREATED:20250725T133537Z
LAST-MODIFIED:20250725T133537Z
UID:10002687-1922619600-1922630400@parkerroadcdd.com
SUMMARY:Game Day
DESCRIPTION:Contact Loni & Ralph for More information \nralphandloni@gmail.com
URL:http://parkerroadcdd.com/calendar/game-day-30/2030-12-04/
LOCATION:Oakmont Clubhouse\, 11701 SW 30th Ave\, Gainesville\, FL\, 32608\, United States
CATEGORIES:Community Activity
ORGANIZER;CN="Ralph &amp%3B Loni Smith":MAILTO:ralphandloni@gmail.com
END:VEVENT
BEGIN:VEVENT
DTSTART;TZID=America/New_York:20301208T090000
DTEND;TZID=America/New_York:20301208T110000
DTSTAMP:20260423T142750
CREATED:20250507T170805Z
LAST-MODIFIED:20260112T205858Z
UID:10003267-1922950800-1922958000@parkerroadcdd.com
SUMMARY:Tennis Clinic
DESCRIPTION:Please contact Robert Taylor for more information.
URL:http://parkerroadcdd.com/calendar/tennis-clinic-10/2030-12-08/
LOCATION:Oakmont Tennis Courts\, 11701 SW 30th Ave\, Gainesville\, FL\, 32608\, United States
CATEGORIES:Classes
ORGANIZER;CN="Robert Taylor":MAILTO:rt4tennis@gmail.com
END:VEVENT
BEGIN:VEVENT
DTSTART;TZID=America/New_York:20301209T130000
DTEND;TZID=America/New_York:20301209T160000
DTSTAMP:20260423T142750
CREATED:20250725T133537Z
LAST-MODIFIED:20250725T133537Z
UID:10002688-1923051600-1923062400@parkerroadcdd.com
SUMMARY:Game Day
DESCRIPTION:Contact Loni & Ralph for More information \nralphandloni@gmail.com
URL:http://parkerroadcdd.com/calendar/game-day-30/2030-12-09/
LOCATION:Oakmont Clubhouse\, 11701 SW 30th Ave\, Gainesville\, FL\, 32608\, United States
CATEGORIES:Community Activity
ORGANIZER;CN="Ralph &amp%3B Loni Smith":MAILTO:ralphandloni@gmail.com
END:VEVENT
BEGIN:VEVENT
DTSTART;TZID=America/New_York:20301211T104500
DTEND;TZID=America/New_York:20301211T113000
DTSTAMP:20260423T142750
CREATED:20260324T140219Z
LAST-MODIFIED:20260324T140220Z
UID:10002961-1923216300-1923219000@parkerroadcdd.com
SUMMARY:Aqua Fitness Class
DESCRIPTION:Lisa Coleman
URL:http://parkerroadcdd.com/calendar/fitness-class-2/2030-12-11/
LOCATION:Oakmont Pool\, 11701 SW 30th Avenue\, Gainesville\, FL\, 32608\, United States
CATEGORIES:Classes
ORGANIZER;CN="Lisa Coleman":MAILTO:lisacoleman0209@gmail.com
END:VEVENT
BEGIN:VEVENT
DTSTART;TZID=America/New_York:20301211T130000
DTEND;TZID=America/New_York:20301211T160000
DTSTAMP:20260423T142750
CREATED:20250725T133537Z
LAST-MODIFIED:20250725T133537Z
UID:10002689-1923224400-1923235200@parkerroadcdd.com
SUMMARY:Game Day
DESCRIPTION:Contact Loni & Ralph for More information \nralphandloni@gmail.com
URL:http://parkerroadcdd.com/calendar/game-day-30/2030-12-11/
LOCATION:Oakmont Clubhouse\, 11701 SW 30th Ave\, Gainesville\, FL\, 32608\, United States
CATEGORIES:Community Activity
ORGANIZER;CN="Ralph &amp%3B Loni Smith":MAILTO:ralphandloni@gmail.com
END:VEVENT
BEGIN:VEVENT
DTSTART;TZID=America/New_York:20301215T090000
DTEND;TZID=America/New_York:20301215T110000
DTSTAMP:20260423T142750
CREATED:20250507T170805Z
LAST-MODIFIED:20260112T205858Z
UID:10003268-1923555600-1923562800@parkerroadcdd.com
SUMMARY:Tennis Clinic
DESCRIPTION:Please contact Robert Taylor for more information.
URL:http://parkerroadcdd.com/calendar/tennis-clinic-10/2030-12-15/
LOCATION:Oakmont Tennis Courts\, 11701 SW 30th Ave\, Gainesville\, FL\, 32608\, United States
CATEGORIES:Classes
ORGANIZER;CN="Robert Taylor":MAILTO:rt4tennis@gmail.com
END:VEVENT
BEGIN:VEVENT
DTSTART;TZID=America/New_York:20301216T130000
DTEND;TZID=America/New_York:20301216T160000
DTSTAMP:20260423T142750
CREATED:20250725T133537Z
LAST-MODIFIED:20250725T133537Z
UID:10002690-1923656400-1923667200@parkerroadcdd.com
SUMMARY:Game Day
DESCRIPTION:Contact Loni & Ralph for More information \nralphandloni@gmail.com
URL:http://parkerroadcdd.com/calendar/game-day-30/2030-12-16/
LOCATION:Oakmont Clubhouse\, 11701 SW 30th Ave\, Gainesville\, FL\, 32608\, United States
CATEGORIES:Community Activity
ORGANIZER;CN="Ralph &amp%3B Loni Smith":MAILTO:ralphandloni@gmail.com
END:VEVENT
END:VCALENDAR