BEGIN:VCALENDAR
VERSION:2.0
PRODID:-//Parker Road CDD - ECPv6.6.2//NONSGML v1.0//EN
CALSCALE:GREGORIAN
METHOD:PUBLISH
X-ORIGINAL-URL:http://parkerroadcdd.com
X-WR-CALDESC:Events for Parker Road CDD
REFRESH-INTERVAL;VALUE=DURATION:PT1H
X-Robots-Tag:noindex
X-PUBLISHED-TTL:PT1H
BEGIN:VTIMEZONE
TZID:America/New_York
BEGIN:DAYLIGHT
TZOFFSETFROM:-0500
TZOFFSETTO:-0400
TZNAME:EDT
DTSTART:20300310T070000
END:DAYLIGHT
BEGIN:STANDARD
TZOFFSETFROM:-0400
TZOFFSETTO:-0500
TZNAME:EST
DTSTART:20301103T060000
END:STANDARD
END:VTIMEZONE
BEGIN:VEVENT
DTSTART;TZID=America/New_York:20300123T104500
DTEND;TZID=America/New_York:20300123T113000
DTSTAMP:20260424T040037
CREATED:20260324T140219Z
LAST-MODIFIED:20260324T140220Z
UID:10002915-1895395500-1895398200@parkerroadcdd.com
SUMMARY:Aqua Fitness Class
DESCRIPTION:Lisa Coleman
URL:http://parkerroadcdd.com/calendar/fitness-class-2/2030-01-23/
LOCATION:Oakmont Pool\, 11701 SW 30th Avenue\, Gainesville\, FL\, 32608\, United States
CATEGORIES:Classes
ORGANIZER;CN="Lisa Coleman":MAILTO:lisacoleman0209@gmail.com
END:VEVENT
BEGIN:VEVENT
DTSTART;TZID=America/New_York:20300123T130000
DTEND;TZID=America/New_York:20300123T160000
DTSTAMP:20260424T040037
CREATED:20250725T133537Z
LAST-MODIFIED:20250725T133537Z
UID:10002083-1895403600-1895414400@parkerroadcdd.com
SUMMARY:Game Day
DESCRIPTION:Contact Loni & Ralph for More information \nralphandloni@gmail.com
URL:http://parkerroadcdd.com/calendar/game-day-30/2030-01-23/
LOCATION:Oakmont Clubhouse\, 11701 SW 30th Ave\, Gainesville\, FL\, 32608\, United States
CATEGORIES:Community Activity
ORGANIZER;CN="Ralph &amp%3B Loni Smith":MAILTO:ralphandloni@gmail.com
END:VEVENT
BEGIN:VEVENT
DTSTART;TZID=America/New_York:20300127T090000
DTEND;TZID=America/New_York:20300127T110000
DTSTAMP:20260424T040037
CREATED:20250507T170805Z
LAST-MODIFIED:20260112T205858Z
UID:10003222-1895734800-1895742000@parkerroadcdd.com
SUMMARY:Tennis Clinic
DESCRIPTION:Please contact Robert Taylor for more information.
URL:http://parkerroadcdd.com/calendar/tennis-clinic-10/2030-01-27/
LOCATION:Oakmont Tennis Courts\, 11701 SW 30th Ave\, Gainesville\, FL\, 32608\, United States
CATEGORIES:Classes
ORGANIZER;CN="Robert Taylor":MAILTO:rt4tennis@gmail.com
END:VEVENT
BEGIN:VEVENT
DTSTART;TZID=America/New_York:20300128T130000
DTEND;TZID=America/New_York:20300128T160000
DTSTAMP:20260424T040037
CREATED:20250725T133537Z
LAST-MODIFIED:20250725T133537Z
UID:10002084-1895835600-1895846400@parkerroadcdd.com
SUMMARY:Game Day
DESCRIPTION:Contact Loni & Ralph for More information \nralphandloni@gmail.com
URL:http://parkerroadcdd.com/calendar/game-day-30/2030-01-28/
LOCATION:Oakmont Clubhouse\, 11701 SW 30th Ave\, Gainesville\, FL\, 32608\, United States
CATEGORIES:Community Activity
ORGANIZER;CN="Ralph &amp%3B Loni Smith":MAILTO:ralphandloni@gmail.com
END:VEVENT
BEGIN:VEVENT
DTSTART;TZID=America/New_York:20300129T100000
DTEND;TZID=America/New_York:20300129T100000
DTSTAMP:20260424T040037
CREATED:20250929T190718Z
LAST-MODIFIED:20250929T190718Z
UID:10002495-1895911200-1895911200@parkerroadcdd.com
SUMMARY:Empower Fitness$
DESCRIPTION:For more information \nContact Lisa Coleman \nlisacoleman0209@gmail.com
URL:http://parkerroadcdd.com/calendar/empower-fitness/2030-01-29/
LOCATION:Fitness Center Studio Room\, 11701 SW 30th Ave\, Gainesville\, FL\, 32608\, United States
ORGANIZER;CN="Lisa Coleman":MAILTO:lisacoleman0209@gmail.com
END:VEVENT
BEGIN:VEVENT
DTSTART;TZID=America/New_York:20300130T104500
DTEND;TZID=America/New_York:20300130T113000
DTSTAMP:20260424T040037
CREATED:20260324T140219Z
LAST-MODIFIED:20260324T140220Z
UID:10002916-1896000300-1896003000@parkerroadcdd.com
SUMMARY:Aqua Fitness Class
DESCRIPTION:Lisa Coleman
URL:http://parkerroadcdd.com/calendar/fitness-class-2/2030-01-30/
LOCATION:Oakmont Pool\, 11701 SW 30th Avenue\, Gainesville\, FL\, 32608\, United States
CATEGORIES:Classes
ORGANIZER;CN="Lisa Coleman":MAILTO:lisacoleman0209@gmail.com
END:VEVENT
BEGIN:VEVENT
DTSTART;TZID=America/New_York:20300130T130000
DTEND;TZID=America/New_York:20300130T160000
DTSTAMP:20260424T040037
CREATED:20250725T133537Z
LAST-MODIFIED:20250725T133537Z
UID:10002085-1896008400-1896019200@parkerroadcdd.com
SUMMARY:Game Day
DESCRIPTION:Contact Loni & Ralph for More information \nralphandloni@gmail.com
URL:http://parkerroadcdd.com/calendar/game-day-30/2030-01-30/
LOCATION:Oakmont Clubhouse\, 11701 SW 30th Ave\, Gainesville\, FL\, 32608\, United States
CATEGORIES:Community Activity
ORGANIZER;CN="Ralph &amp%3B Loni Smith":MAILTO:ralphandloni@gmail.com
END:VEVENT
BEGIN:VEVENT
DTSTART;TZID=America/New_York:20300203T090000
DTEND;TZID=America/New_York:20300203T110000
DTSTAMP:20260424T040037
CREATED:20250507T170805Z
LAST-MODIFIED:20260112T205858Z
UID:10003223-1896339600-1896346800@parkerroadcdd.com
SUMMARY:Tennis Clinic
DESCRIPTION:Please contact Robert Taylor for more information.
URL:http://parkerroadcdd.com/calendar/tennis-clinic-10/2030-02-03/
LOCATION:Oakmont Tennis Courts\, 11701 SW 30th Ave\, Gainesville\, FL\, 32608\, United States
CATEGORIES:Classes
ORGANIZER;CN="Robert Taylor":MAILTO:rt4tennis@gmail.com
END:VEVENT
BEGIN:VEVENT
DTSTART;TZID=America/New_York:20300204T130000
DTEND;TZID=America/New_York:20300204T160000
DTSTAMP:20260424T040037
CREATED:20250725T133537Z
LAST-MODIFIED:20250725T133537Z
UID:10002086-1896440400-1896451200@parkerroadcdd.com
SUMMARY:Game Day
DESCRIPTION:Contact Loni & Ralph for More information \nralphandloni@gmail.com
URL:http://parkerroadcdd.com/calendar/game-day-30/2030-02-04/
LOCATION:Oakmont Clubhouse\, 11701 SW 30th Ave\, Gainesville\, FL\, 32608\, United States
CATEGORIES:Community Activity
ORGANIZER;CN="Ralph &amp%3B Loni Smith":MAILTO:ralphandloni@gmail.com
END:VEVENT
BEGIN:VEVENT
DTSTART;TZID=America/New_York:20300205T100000
DTEND;TZID=America/New_York:20300205T100000
DTSTAMP:20260424T040037
CREATED:20250929T190718Z
LAST-MODIFIED:20250929T190718Z
UID:10002496-1896516000-1896516000@parkerroadcdd.com
SUMMARY:Empower Fitness$
DESCRIPTION:For more information \nContact Lisa Coleman \nlisacoleman0209@gmail.com
URL:http://parkerroadcdd.com/calendar/empower-fitness/2030-02-05/
LOCATION:Fitness Center Studio Room\, 11701 SW 30th Ave\, Gainesville\, FL\, 32608\, United States
ORGANIZER;CN="Lisa Coleman":MAILTO:lisacoleman0209@gmail.com
END:VEVENT
BEGIN:VEVENT
DTSTART;TZID=America/New_York:20300206T104500
DTEND;TZID=America/New_York:20300206T113000
DTSTAMP:20260424T040037
CREATED:20260324T140219Z
LAST-MODIFIED:20260324T140220Z
UID:10002917-1896605100-1896607800@parkerroadcdd.com
SUMMARY:Aqua Fitness Class
DESCRIPTION:Lisa Coleman
URL:http://parkerroadcdd.com/calendar/fitness-class-2/2030-02-06/
LOCATION:Oakmont Pool\, 11701 SW 30th Avenue\, Gainesville\, FL\, 32608\, United States
CATEGORIES:Classes
ORGANIZER;CN="Lisa Coleman":MAILTO:lisacoleman0209@gmail.com
END:VEVENT
BEGIN:VEVENT
DTSTART;TZID=America/New_York:20300206T130000
DTEND;TZID=America/New_York:20300206T160000
DTSTAMP:20260424T040037
CREATED:20250725T133537Z
LAST-MODIFIED:20250725T133537Z
UID:10002087-1896613200-1896624000@parkerroadcdd.com
SUMMARY:Game Day
DESCRIPTION:Contact Loni & Ralph for More information \nralphandloni@gmail.com
URL:http://parkerroadcdd.com/calendar/game-day-30/2030-02-06/
LOCATION:Oakmont Clubhouse\, 11701 SW 30th Ave\, Gainesville\, FL\, 32608\, United States
CATEGORIES:Community Activity
ORGANIZER;CN="Ralph &amp%3B Loni Smith":MAILTO:ralphandloni@gmail.com
END:VEVENT
BEGIN:VEVENT
DTSTART;TZID=America/New_York:20300210T090000
DTEND;TZID=America/New_York:20300210T110000
DTSTAMP:20260424T040037
CREATED:20250507T170805Z
LAST-MODIFIED:20260112T205858Z
UID:10003224-1896944400-1896951600@parkerroadcdd.com
SUMMARY:Tennis Clinic
DESCRIPTION:Please contact Robert Taylor for more information.
URL:http://parkerroadcdd.com/calendar/tennis-clinic-10/2030-02-10/
LOCATION:Oakmont Tennis Courts\, 11701 SW 30th Ave\, Gainesville\, FL\, 32608\, United States
CATEGORIES:Classes
ORGANIZER;CN="Robert Taylor":MAILTO:rt4tennis@gmail.com
END:VEVENT
BEGIN:VEVENT
DTSTART;TZID=America/New_York:20300211T130000
DTEND;TZID=America/New_York:20300211T160000
DTSTAMP:20260424T040037
CREATED:20250725T133537Z
LAST-MODIFIED:20250725T133537Z
UID:10002088-1897045200-1897056000@parkerroadcdd.com
SUMMARY:Game Day
DESCRIPTION:Contact Loni & Ralph for More information \nralphandloni@gmail.com
URL:http://parkerroadcdd.com/calendar/game-day-30/2030-02-11/
LOCATION:Oakmont Clubhouse\, 11701 SW 30th Ave\, Gainesville\, FL\, 32608\, United States
CATEGORIES:Community Activity
ORGANIZER;CN="Ralph &amp%3B Loni Smith":MAILTO:ralphandloni@gmail.com
END:VEVENT
BEGIN:VEVENT
DTSTART;TZID=America/New_York:20300212T100000
DTEND;TZID=America/New_York:20300212T100000
DTSTAMP:20260424T040037
CREATED:20250929T190718Z
LAST-MODIFIED:20250929T190718Z
UID:10002497-1897120800-1897120800@parkerroadcdd.com
SUMMARY:Empower Fitness$
DESCRIPTION:For more information \nContact Lisa Coleman \nlisacoleman0209@gmail.com
URL:http://parkerroadcdd.com/calendar/empower-fitness/2030-02-12/
LOCATION:Fitness Center Studio Room\, 11701 SW 30th Ave\, Gainesville\, FL\, 32608\, United States
ORGANIZER;CN="Lisa Coleman":MAILTO:lisacoleman0209@gmail.com
END:VEVENT
BEGIN:VEVENT
DTSTART;TZID=America/New_York:20300213T104500
DTEND;TZID=America/New_York:20300213T113000
DTSTAMP:20260424T040037
CREATED:20260324T140219Z
LAST-MODIFIED:20260324T140220Z
UID:10002918-1897209900-1897212600@parkerroadcdd.com
SUMMARY:Aqua Fitness Class
DESCRIPTION:Lisa Coleman
URL:http://parkerroadcdd.com/calendar/fitness-class-2/2030-02-13/
LOCATION:Oakmont Pool\, 11701 SW 30th Avenue\, Gainesville\, FL\, 32608\, United States
CATEGORIES:Classes
ORGANIZER;CN="Lisa Coleman":MAILTO:lisacoleman0209@gmail.com
END:VEVENT
BEGIN:VEVENT
DTSTART;TZID=America/New_York:20300213T130000
DTEND;TZID=America/New_York:20300213T160000
DTSTAMP:20260424T040037
CREATED:20250725T133537Z
LAST-MODIFIED:20250725T133537Z
UID:10002089-1897218000-1897228800@parkerroadcdd.com
SUMMARY:Game Day
DESCRIPTION:Contact Loni & Ralph for More information \nralphandloni@gmail.com
URL:http://parkerroadcdd.com/calendar/game-day-30/2030-02-13/
LOCATION:Oakmont Clubhouse\, 11701 SW 30th Ave\, Gainesville\, FL\, 32608\, United States
CATEGORIES:Community Activity
ORGANIZER;CN="Ralph &amp%3B Loni Smith":MAILTO:ralphandloni@gmail.com
END:VEVENT
BEGIN:VEVENT
DTSTART;TZID=America/New_York:20300217T090000
DTEND;TZID=America/New_York:20300217T110000
DTSTAMP:20260424T040037
CREATED:20250507T170805Z
LAST-MODIFIED:20260112T205858Z
UID:10003225-1897549200-1897556400@parkerroadcdd.com
SUMMARY:Tennis Clinic
DESCRIPTION:Please contact Robert Taylor for more information.
URL:http://parkerroadcdd.com/calendar/tennis-clinic-10/2030-02-17/
LOCATION:Oakmont Tennis Courts\, 11701 SW 30th Ave\, Gainesville\, FL\, 32608\, United States
CATEGORIES:Classes
ORGANIZER;CN="Robert Taylor":MAILTO:rt4tennis@gmail.com
END:VEVENT
BEGIN:VEVENT
DTSTART;TZID=America/New_York:20300218T130000
DTEND;TZID=America/New_York:20300218T160000
DTSTAMP:20260424T040037
CREATED:20250725T133537Z
LAST-MODIFIED:20250725T133537Z
UID:10002090-1897650000-1897660800@parkerroadcdd.com
SUMMARY:Game Day
DESCRIPTION:Contact Loni & Ralph for More information \nralphandloni@gmail.com
URL:http://parkerroadcdd.com/calendar/game-day-30/2030-02-18/
LOCATION:Oakmont Clubhouse\, 11701 SW 30th Ave\, Gainesville\, FL\, 32608\, United States
CATEGORIES:Community Activity
ORGANIZER;CN="Ralph &amp%3B Loni Smith":MAILTO:ralphandloni@gmail.com
END:VEVENT
BEGIN:VEVENT
DTSTART;TZID=America/New_York:20300219T100000
DTEND;TZID=America/New_York:20300219T100000
DTSTAMP:20260424T040037
CREATED:20250929T190718Z
LAST-MODIFIED:20250929T190718Z
UID:10002498-1897725600-1897725600@parkerroadcdd.com
SUMMARY:Empower Fitness$
DESCRIPTION:For more information \nContact Lisa Coleman \nlisacoleman0209@gmail.com
URL:http://parkerroadcdd.com/calendar/empower-fitness/2030-02-19/
LOCATION:Fitness Center Studio Room\, 11701 SW 30th Ave\, Gainesville\, FL\, 32608\, United States
ORGANIZER;CN="Lisa Coleman":MAILTO:lisacoleman0209@gmail.com
END:VEVENT
BEGIN:VEVENT
DTSTART;TZID=America/New_York:20300220T104500
DTEND;TZID=America/New_York:20300220T113000
DTSTAMP:20260424T040037
CREATED:20260324T140219Z
LAST-MODIFIED:20260324T140220Z
UID:10002919-1897814700-1897817400@parkerroadcdd.com
SUMMARY:Aqua Fitness Class
DESCRIPTION:Lisa Coleman
URL:http://parkerroadcdd.com/calendar/fitness-class-2/2030-02-20/
LOCATION:Oakmont Pool\, 11701 SW 30th Avenue\, Gainesville\, FL\, 32608\, United States
CATEGORIES:Classes
ORGANIZER;CN="Lisa Coleman":MAILTO:lisacoleman0209@gmail.com
END:VEVENT
BEGIN:VEVENT
DTSTART;TZID=America/New_York:20300220T130000
DTEND;TZID=America/New_York:20300220T160000
DTSTAMP:20260424T040037
CREATED:20250725T133537Z
LAST-MODIFIED:20250725T133537Z
UID:10002091-1897822800-1897833600@parkerroadcdd.com
SUMMARY:Game Day
DESCRIPTION:Contact Loni & Ralph for More information \nralphandloni@gmail.com
URL:http://parkerroadcdd.com/calendar/game-day-30/2030-02-20/
LOCATION:Oakmont Clubhouse\, 11701 SW 30th Ave\, Gainesville\, FL\, 32608\, United States
CATEGORIES:Community Activity
ORGANIZER;CN="Ralph &amp%3B Loni Smith":MAILTO:ralphandloni@gmail.com
END:VEVENT
BEGIN:VEVENT
DTSTART;TZID=America/New_York:20300224T090000
DTEND;TZID=America/New_York:20300224T110000
DTSTAMP:20260424T040037
CREATED:20250507T170805Z
LAST-MODIFIED:20260112T205858Z
UID:10003226-1898154000-1898161200@parkerroadcdd.com
SUMMARY:Tennis Clinic
DESCRIPTION:Please contact Robert Taylor for more information.
URL:http://parkerroadcdd.com/calendar/tennis-clinic-10/2030-02-24/
LOCATION:Oakmont Tennis Courts\, 11701 SW 30th Ave\, Gainesville\, FL\, 32608\, United States
CATEGORIES:Classes
ORGANIZER;CN="Robert Taylor":MAILTO:rt4tennis@gmail.com
END:VEVENT
BEGIN:VEVENT
DTSTART;TZID=America/New_York:20300225T130000
DTEND;TZID=America/New_York:20300225T160000
DTSTAMP:20260424T040037
CREATED:20250725T133537Z
LAST-MODIFIED:20250725T133537Z
UID:10002092-1898254800-1898265600@parkerroadcdd.com
SUMMARY:Game Day
DESCRIPTION:Contact Loni & Ralph for More information \nralphandloni@gmail.com
URL:http://parkerroadcdd.com/calendar/game-day-30/2030-02-25/
LOCATION:Oakmont Clubhouse\, 11701 SW 30th Ave\, Gainesville\, FL\, 32608\, United States
CATEGORIES:Community Activity
ORGANIZER;CN="Ralph &amp%3B Loni Smith":MAILTO:ralphandloni@gmail.com
END:VEVENT
BEGIN:VEVENT
DTSTART;TZID=America/New_York:20300226T100000
DTEND;TZID=America/New_York:20300226T100000
DTSTAMP:20260424T040037
CREATED:20250929T190718Z
LAST-MODIFIED:20250929T190718Z
UID:10002499-1898330400-1898330400@parkerroadcdd.com
SUMMARY:Empower Fitness$
DESCRIPTION:For more information \nContact Lisa Coleman \nlisacoleman0209@gmail.com
URL:http://parkerroadcdd.com/calendar/empower-fitness/2030-02-26/
LOCATION:Fitness Center Studio Room\, 11701 SW 30th Ave\, Gainesville\, FL\, 32608\, United States
ORGANIZER;CN="Lisa Coleman":MAILTO:lisacoleman0209@gmail.com
END:VEVENT
BEGIN:VEVENT
DTSTART;TZID=America/New_York:20300227T104500
DTEND;TZID=America/New_York:20300227T113000
DTSTAMP:20260424T040037
CREATED:20260324T140219Z
LAST-MODIFIED:20260324T140220Z
UID:10002920-1898419500-1898422200@parkerroadcdd.com
SUMMARY:Aqua Fitness Class
DESCRIPTION:Lisa Coleman
URL:http://parkerroadcdd.com/calendar/fitness-class-2/2030-02-27/
LOCATION:Oakmont Pool\, 11701 SW 30th Avenue\, Gainesville\, FL\, 32608\, United States
CATEGORIES:Classes
ORGANIZER;CN="Lisa Coleman":MAILTO:lisacoleman0209@gmail.com
END:VEVENT
BEGIN:VEVENT
DTSTART;TZID=America/New_York:20300227T130000
DTEND;TZID=America/New_York:20300227T160000
DTSTAMP:20260424T040037
CREATED:20250725T133537Z
LAST-MODIFIED:20250725T133537Z
UID:10002093-1898427600-1898438400@parkerroadcdd.com
SUMMARY:Game Day
DESCRIPTION:Contact Loni & Ralph for More information \nralphandloni@gmail.com
URL:http://parkerroadcdd.com/calendar/game-day-30/2030-02-27/
LOCATION:Oakmont Clubhouse\, 11701 SW 30th Ave\, Gainesville\, FL\, 32608\, United States
CATEGORIES:Community Activity
ORGANIZER;CN="Ralph &amp%3B Loni Smith":MAILTO:ralphandloni@gmail.com
END:VEVENT
BEGIN:VEVENT
DTSTART;TZID=America/New_York:20300303T090000
DTEND;TZID=America/New_York:20300303T110000
DTSTAMP:20260424T040037
CREATED:20250507T170805Z
LAST-MODIFIED:20260112T205858Z
UID:10003227-1898758800-1898766000@parkerroadcdd.com
SUMMARY:Tennis Clinic
DESCRIPTION:Please contact Robert Taylor for more information.
URL:http://parkerroadcdd.com/calendar/tennis-clinic-10/2030-03-03/
LOCATION:Oakmont Tennis Courts\, 11701 SW 30th Ave\, Gainesville\, FL\, 32608\, United States
CATEGORIES:Classes
ORGANIZER;CN="Robert Taylor":MAILTO:rt4tennis@gmail.com
END:VEVENT
BEGIN:VEVENT
DTSTART;TZID=America/New_York:20300304T130000
DTEND;TZID=America/New_York:20300304T160000
DTSTAMP:20260424T040037
CREATED:20250725T133537Z
LAST-MODIFIED:20250725T133537Z
UID:10002094-1898859600-1898870400@parkerroadcdd.com
SUMMARY:Game Day
DESCRIPTION:Contact Loni & Ralph for More information \nralphandloni@gmail.com
URL:http://parkerroadcdd.com/calendar/game-day-30/2030-03-04/
LOCATION:Oakmont Clubhouse\, 11701 SW 30th Ave\, Gainesville\, FL\, 32608\, United States
CATEGORIES:Community Activity
ORGANIZER;CN="Ralph &amp%3B Loni Smith":MAILTO:ralphandloni@gmail.com
END:VEVENT
BEGIN:VEVENT
DTSTART;TZID=America/New_York:20300305T100000
DTEND;TZID=America/New_York:20300305T100000
DTSTAMP:20260424T040037
CREATED:20250929T190718Z
LAST-MODIFIED:20250929T190718Z
UID:10002500-1898935200-1898935200@parkerroadcdd.com
SUMMARY:Empower Fitness$
DESCRIPTION:For more information \nContact Lisa Coleman \nlisacoleman0209@gmail.com
URL:http://parkerroadcdd.com/calendar/empower-fitness/2030-03-05/
LOCATION:Fitness Center Studio Room\, 11701 SW 30th Ave\, Gainesville\, FL\, 32608\, United States
ORGANIZER;CN="Lisa Coleman":MAILTO:lisacoleman0209@gmail.com
END:VEVENT
END:VCALENDAR