BEGIN:VCALENDAR
VERSION:2.0
PRODID:-//Parker Road CDD - ECPv6.6.2//NONSGML v1.0//EN
CALSCALE:GREGORIAN
METHOD:PUBLISH
X-ORIGINAL-URL:http://parkerroadcdd.com
X-WR-CALDESC:Events for Parker Road CDD
REFRESH-INTERVAL;VALUE=DURATION:PT1H
X-Robots-Tag:noindex
X-PUBLISHED-TTL:PT1H
BEGIN:VTIMEZONE
TZID:America/New_York
BEGIN:DAYLIGHT
TZOFFSETFROM:-0500
TZOFFSETTO:-0400
TZNAME:EDT
DTSTART:20260308T070000
END:DAYLIGHT
BEGIN:STANDARD
TZOFFSETFROM:-0400
TZOFFSETTO:-0500
TZNAME:EST
DTSTART:20261101T060000
END:STANDARD
END:VTIMEZONE
BEGIN:VEVENT
DTSTART;TZID=America/New_York:20260525T190000
DTEND;TZID=America/New_York:20260525T210000
DTSTAMP:20260424T112218
CREATED:20250314T184434Z
LAST-MODIFIED:20250314T184434Z
UID:10000509-1779735600-1779742800@parkerroadcdd.com
SUMMARY:Bible Study
DESCRIPTION:For more information please contact Lisa Coleman
URL:http://parkerroadcdd.com/calendar/bible-study-6/2026-05-25/
LOCATION:Oakmont Clubhouse\, 11701 SW 30th Ave\, Gainesville\, FL\, 32608\, United States
CATEGORIES:Classes,Community Activity
ORGANIZER;CN="Lisa Coleman":MAILTO:lisacoleman0209@gmail.com
END:VEVENT
BEGIN:VEVENT
DTSTART;TZID=America/New_York:20260526T100000
DTEND;TZID=America/New_York:20260526T100000
DTSTAMP:20260424T112218
CREATED:20250929T190718Z
LAST-MODIFIED:20250929T190718Z
UID:10002303-1779789600-1779789600@parkerroadcdd.com
SUMMARY:Empower Fitness$
DESCRIPTION:For more information \nContact Lisa Coleman \nlisacoleman0209@gmail.com
URL:http://parkerroadcdd.com/calendar/empower-fitness/2026-05-26/
LOCATION:Fitness Center Studio Room\, 11701 SW 30th Ave\, Gainesville\, FL\, 32608\, United States
ORGANIZER;CN="Lisa Coleman":MAILTO:lisacoleman0209@gmail.com
END:VEVENT
BEGIN:VEVENT
DTSTART;TZID=America/New_York:20260527T104500
DTEND;TZID=America/New_York:20260527T113000
DTSTAMP:20260424T112218
CREATED:20260324T140219Z
LAST-MODIFIED:20260324T140220Z
UID:10002724-1779878700-1779881400@parkerroadcdd.com
SUMMARY:Aqua Fitness Class
DESCRIPTION:Lisa Coleman
URL:http://parkerroadcdd.com/calendar/fitness-class-2/2026-05-27/
LOCATION:Oakmont Pool\, 11701 SW 30th Avenue\, Gainesville\, FL\, 32608\, United States
CATEGORIES:Classes
ORGANIZER;CN="Lisa Coleman":MAILTO:lisacoleman0209@gmail.com
END:VEVENT
BEGIN:VEVENT
DTSTART;TZID=America/New_York:20260602T100000
DTEND;TZID=America/New_York:20260602T100000
DTSTAMP:20260424T112218
CREATED:20250929T190718Z
LAST-MODIFIED:20250929T190718Z
UID:10002304-1780394400-1780394400@parkerroadcdd.com
SUMMARY:Empower Fitness$
DESCRIPTION:For more information \nContact Lisa Coleman \nlisacoleman0209@gmail.com
URL:http://parkerroadcdd.com/calendar/empower-fitness/2026-06-02/
LOCATION:Fitness Center Studio Room\, 11701 SW 30th Ave\, Gainesville\, FL\, 32608\, United States
ORGANIZER;CN="Lisa Coleman":MAILTO:lisacoleman0209@gmail.com
END:VEVENT
BEGIN:VEVENT
DTSTART;TZID=America/New_York:20260603T104500
DTEND;TZID=America/New_York:20260603T113000
DTSTAMP:20260424T112218
CREATED:20260324T140219Z
LAST-MODIFIED:20260324T140220Z
UID:10002725-1780483500-1780486200@parkerroadcdd.com
SUMMARY:Aqua Fitness Class
DESCRIPTION:Lisa Coleman
URL:http://parkerroadcdd.com/calendar/fitness-class-2/2026-06-03/
LOCATION:Oakmont Pool\, 11701 SW 30th Avenue\, Gainesville\, FL\, 32608\, United States
CATEGORIES:Classes
ORGANIZER;CN="Lisa Coleman":MAILTO:lisacoleman0209@gmail.com
END:VEVENT
BEGIN:VEVENT
DTSTART;TZID=America/New_York:20260604T183000
DTEND;TZID=America/New_York:20260604T193000
DTSTAMP:20260424T112218
CREATED:20260402T145853Z
LAST-MODIFIED:20260402T145853Z
UID:10003413-1780597800-1780601400@parkerroadcdd.com
SUMMARY:Living Well Workshop Series
DESCRIPTION:🌿 Living Well Workshop Series 🌿 ✨ Come explore wellness in every dimension and take steps toward a healthier lifestyle! RSVP: ddawson@bermancorp.com
URL:http://parkerroadcdd.com/calendar/living-well-workshop-series/
LOCATION:Oakmont Clubhouse\, 11701 SW 30th Ave\, Gainesville\, FL\, 32608\, United States
ORGANIZER;CN="Lisa Coleman":MAILTO:lisacoleman0209@gmail.com
END:VEVENT
BEGIN:VEVENT
DTSTART;TZID=America/New_York:20260609T100000
DTEND;TZID=America/New_York:20260609T100000
DTSTAMP:20260424T112218
CREATED:20250929T190718Z
LAST-MODIFIED:20250929T190718Z
UID:10002305-1780999200-1780999200@parkerroadcdd.com
SUMMARY:Empower Fitness$
DESCRIPTION:For more information \nContact Lisa Coleman \nlisacoleman0209@gmail.com
URL:http://parkerroadcdd.com/calendar/empower-fitness/2026-06-09/
LOCATION:Fitness Center Studio Room\, 11701 SW 30th Ave\, Gainesville\, FL\, 32608\, United States
ORGANIZER;CN="Lisa Coleman":MAILTO:lisacoleman0209@gmail.com
END:VEVENT
BEGIN:VEVENT
DTSTART;TZID=America/New_York:20260610T104500
DTEND;TZID=America/New_York:20260610T113000
DTSTAMP:20260424T112218
CREATED:20260324T140219Z
LAST-MODIFIED:20260324T140220Z
UID:10002726-1781088300-1781091000@parkerroadcdd.com
SUMMARY:Aqua Fitness Class
DESCRIPTION:Lisa Coleman
URL:http://parkerroadcdd.com/calendar/fitness-class-2/2026-06-10/
LOCATION:Oakmont Pool\, 11701 SW 30th Avenue\, Gainesville\, FL\, 32608\, United States
CATEGORIES:Classes
ORGANIZER;CN="Lisa Coleman":MAILTO:lisacoleman0209@gmail.com
END:VEVENT
BEGIN:VEVENT
DTSTART;TZID=America/New_York:20260616T100000
DTEND;TZID=America/New_York:20260616T100000
DTSTAMP:20260424T112218
CREATED:20250929T190718Z
LAST-MODIFIED:20250929T190718Z
UID:10002306-1781604000-1781604000@parkerroadcdd.com
SUMMARY:Empower Fitness$
DESCRIPTION:For more information \nContact Lisa Coleman \nlisacoleman0209@gmail.com
URL:http://parkerroadcdd.com/calendar/empower-fitness/2026-06-16/
LOCATION:Fitness Center Studio Room\, 11701 SW 30th Ave\, Gainesville\, FL\, 32608\, United States
ORGANIZER;CN="Lisa Coleman":MAILTO:lisacoleman0209@gmail.com
END:VEVENT
BEGIN:VEVENT
DTSTART;TZID=America/New_York:20260617T104500
DTEND;TZID=America/New_York:20260617T113000
DTSTAMP:20260424T112218
CREATED:20260324T140219Z
LAST-MODIFIED:20260324T140220Z
UID:10002727-1781693100-1781695800@parkerroadcdd.com
SUMMARY:Aqua Fitness Class
DESCRIPTION:Lisa Coleman
URL:http://parkerroadcdd.com/calendar/fitness-class-2/2026-06-17/
LOCATION:Oakmont Pool\, 11701 SW 30th Avenue\, Gainesville\, FL\, 32608\, United States
CATEGORIES:Classes
ORGANIZER;CN="Lisa Coleman":MAILTO:lisacoleman0209@gmail.com
END:VEVENT
BEGIN:VEVENT
DTSTART;TZID=America/New_York:20260623T100000
DTEND;TZID=America/New_York:20260623T100000
DTSTAMP:20260424T112218
CREATED:20250929T190718Z
LAST-MODIFIED:20250929T190718Z
UID:10002307-1782208800-1782208800@parkerroadcdd.com
SUMMARY:Empower Fitness$
DESCRIPTION:For more information \nContact Lisa Coleman \nlisacoleman0209@gmail.com
URL:http://parkerroadcdd.com/calendar/empower-fitness/2026-06-23/
LOCATION:Fitness Center Studio Room\, 11701 SW 30th Ave\, Gainesville\, FL\, 32608\, United States
ORGANIZER;CN="Lisa Coleman":MAILTO:lisacoleman0209@gmail.com
END:VEVENT
BEGIN:VEVENT
DTSTART;TZID=America/New_York:20260624T104500
DTEND;TZID=America/New_York:20260624T113000
DTSTAMP:20260424T112218
CREATED:20260324T140219Z
LAST-MODIFIED:20260324T140220Z
UID:10002728-1782297900-1782300600@parkerroadcdd.com
SUMMARY:Aqua Fitness Class
DESCRIPTION:Lisa Coleman
URL:http://parkerroadcdd.com/calendar/fitness-class-2/2026-06-24/
LOCATION:Oakmont Pool\, 11701 SW 30th Avenue\, Gainesville\, FL\, 32608\, United States
CATEGORIES:Classes
ORGANIZER;CN="Lisa Coleman":MAILTO:lisacoleman0209@gmail.com
END:VEVENT
BEGIN:VEVENT
DTSTART;TZID=America/New_York:20260630T100000
DTEND;TZID=America/New_York:20260630T100000
DTSTAMP:20260424T112218
CREATED:20250929T190718Z
LAST-MODIFIED:20250929T190718Z
UID:10002308-1782813600-1782813600@parkerroadcdd.com
SUMMARY:Empower Fitness$
DESCRIPTION:For more information \nContact Lisa Coleman \nlisacoleman0209@gmail.com
URL:http://parkerroadcdd.com/calendar/empower-fitness/2026-06-30/
LOCATION:Fitness Center Studio Room\, 11701 SW 30th Ave\, Gainesville\, FL\, 32608\, United States
ORGANIZER;CN="Lisa Coleman":MAILTO:lisacoleman0209@gmail.com
END:VEVENT
BEGIN:VEVENT
DTSTART;TZID=America/New_York:20260701T104500
DTEND;TZID=America/New_York:20260701T113000
DTSTAMP:20260424T112218
CREATED:20260324T140219Z
LAST-MODIFIED:20260324T140220Z
UID:10002729-1782902700-1782905400@parkerroadcdd.com
SUMMARY:Aqua Fitness Class
DESCRIPTION:Lisa Coleman
URL:http://parkerroadcdd.com/calendar/fitness-class-2/2026-07-01/
LOCATION:Oakmont Pool\, 11701 SW 30th Avenue\, Gainesville\, FL\, 32608\, United States
CATEGORIES:Classes
ORGANIZER;CN="Lisa Coleman":MAILTO:lisacoleman0209@gmail.com
END:VEVENT
BEGIN:VEVENT
DTSTART;TZID=America/New_York:20260707T100000
DTEND;TZID=America/New_York:20260707T100000
DTSTAMP:20260424T112218
CREATED:20250929T190718Z
LAST-MODIFIED:20250929T190718Z
UID:10002309-1783418400-1783418400@parkerroadcdd.com
SUMMARY:Empower Fitness$
DESCRIPTION:For more information \nContact Lisa Coleman \nlisacoleman0209@gmail.com
URL:http://parkerroadcdd.com/calendar/empower-fitness/2026-07-07/
LOCATION:Fitness Center Studio Room\, 11701 SW 30th Ave\, Gainesville\, FL\, 32608\, United States
ORGANIZER;CN="Lisa Coleman":MAILTO:lisacoleman0209@gmail.com
END:VEVENT
BEGIN:VEVENT
DTSTART;TZID=America/New_York:20260708T104500
DTEND;TZID=America/New_York:20260708T113000
DTSTAMP:20260424T112218
CREATED:20260324T140219Z
LAST-MODIFIED:20260324T140220Z
UID:10002730-1783507500-1783510200@parkerroadcdd.com
SUMMARY:Aqua Fitness Class
DESCRIPTION:Lisa Coleman
URL:http://parkerroadcdd.com/calendar/fitness-class-2/2026-07-08/
LOCATION:Oakmont Pool\, 11701 SW 30th Avenue\, Gainesville\, FL\, 32608\, United States
CATEGORIES:Classes
ORGANIZER;CN="Lisa Coleman":MAILTO:lisacoleman0209@gmail.com
END:VEVENT
BEGIN:VEVENT
DTSTART;TZID=America/New_York:20260714T100000
DTEND;TZID=America/New_York:20260714T100000
DTSTAMP:20260424T112218
CREATED:20250929T190718Z
LAST-MODIFIED:20250929T190718Z
UID:10002310-1784023200-1784023200@parkerroadcdd.com
SUMMARY:Empower Fitness$
DESCRIPTION:For more information \nContact Lisa Coleman \nlisacoleman0209@gmail.com
URL:http://parkerroadcdd.com/calendar/empower-fitness/2026-07-14/
LOCATION:Fitness Center Studio Room\, 11701 SW 30th Ave\, Gainesville\, FL\, 32608\, United States
ORGANIZER;CN="Lisa Coleman":MAILTO:lisacoleman0209@gmail.com
END:VEVENT
BEGIN:VEVENT
DTSTART;TZID=America/New_York:20260715T104500
DTEND;TZID=America/New_York:20260715T113000
DTSTAMP:20260424T112218
CREATED:20260324T140219Z
LAST-MODIFIED:20260324T140220Z
UID:10002731-1784112300-1784115000@parkerroadcdd.com
SUMMARY:Aqua Fitness Class
DESCRIPTION:Lisa Coleman
URL:http://parkerroadcdd.com/calendar/fitness-class-2/2026-07-15/
LOCATION:Oakmont Pool\, 11701 SW 30th Avenue\, Gainesville\, FL\, 32608\, United States
CATEGORIES:Classes
ORGANIZER;CN="Lisa Coleman":MAILTO:lisacoleman0209@gmail.com
END:VEVENT
BEGIN:VEVENT
DTSTART;TZID=America/New_York:20260721T100000
DTEND;TZID=America/New_York:20260721T100000
DTSTAMP:20260424T112218
CREATED:20250929T190718Z
LAST-MODIFIED:20250929T190718Z
UID:10002311-1784628000-1784628000@parkerroadcdd.com
SUMMARY:Empower Fitness$
DESCRIPTION:For more information \nContact Lisa Coleman \nlisacoleman0209@gmail.com
URL:http://parkerroadcdd.com/calendar/empower-fitness/2026-07-21/
LOCATION:Fitness Center Studio Room\, 11701 SW 30th Ave\, Gainesville\, FL\, 32608\, United States
ORGANIZER;CN="Lisa Coleman":MAILTO:lisacoleman0209@gmail.com
END:VEVENT
BEGIN:VEVENT
DTSTART;TZID=America/New_York:20260722T104500
DTEND;TZID=America/New_York:20260722T113000
DTSTAMP:20260424T112218
CREATED:20260324T140219Z
LAST-MODIFIED:20260324T140220Z
UID:10002732-1784717100-1784719800@parkerroadcdd.com
SUMMARY:Aqua Fitness Class
DESCRIPTION:Lisa Coleman
URL:http://parkerroadcdd.com/calendar/fitness-class-2/2026-07-22/
LOCATION:Oakmont Pool\, 11701 SW 30th Avenue\, Gainesville\, FL\, 32608\, United States
CATEGORIES:Classes
ORGANIZER;CN="Lisa Coleman":MAILTO:lisacoleman0209@gmail.com
END:VEVENT
BEGIN:VEVENT
DTSTART;TZID=America/New_York:20260728T100000
DTEND;TZID=America/New_York:20260728T100000
DTSTAMP:20260424T112218
CREATED:20250929T190718Z
LAST-MODIFIED:20250929T190718Z
UID:10002312-1785232800-1785232800@parkerroadcdd.com
SUMMARY:Empower Fitness$
DESCRIPTION:For more information \nContact Lisa Coleman \nlisacoleman0209@gmail.com
URL:http://parkerroadcdd.com/calendar/empower-fitness/2026-07-28/
LOCATION:Fitness Center Studio Room\, 11701 SW 30th Ave\, Gainesville\, FL\, 32608\, United States
ORGANIZER;CN="Lisa Coleman":MAILTO:lisacoleman0209@gmail.com
END:VEVENT
BEGIN:VEVENT
DTSTART;TZID=America/New_York:20260729T104500
DTEND;TZID=America/New_York:20260729T113000
DTSTAMP:20260424T112218
CREATED:20260324T140219Z
LAST-MODIFIED:20260324T140220Z
UID:10002733-1785321900-1785324600@parkerroadcdd.com
SUMMARY:Aqua Fitness Class
DESCRIPTION:Lisa Coleman
URL:http://parkerroadcdd.com/calendar/fitness-class-2/2026-07-29/
LOCATION:Oakmont Pool\, 11701 SW 30th Avenue\, Gainesville\, FL\, 32608\, United States
CATEGORIES:Classes
ORGANIZER;CN="Lisa Coleman":MAILTO:lisacoleman0209@gmail.com
END:VEVENT
BEGIN:VEVENT
DTSTART;TZID=America/New_York:20260804T100000
DTEND;TZID=America/New_York:20260804T100000
DTSTAMP:20260424T112218
CREATED:20250929T190718Z
LAST-MODIFIED:20250929T190718Z
UID:10002313-1785837600-1785837600@parkerroadcdd.com
SUMMARY:Empower Fitness$
DESCRIPTION:For more information \nContact Lisa Coleman \nlisacoleman0209@gmail.com
URL:http://parkerroadcdd.com/calendar/empower-fitness/2026-08-04/
LOCATION:Fitness Center Studio Room\, 11701 SW 30th Ave\, Gainesville\, FL\, 32608\, United States
ORGANIZER;CN="Lisa Coleman":MAILTO:lisacoleman0209@gmail.com
END:VEVENT
BEGIN:VEVENT
DTSTART;TZID=America/New_York:20260805T104500
DTEND;TZID=America/New_York:20260805T113000
DTSTAMP:20260424T112218
CREATED:20260324T140219Z
LAST-MODIFIED:20260324T140220Z
UID:10002734-1785926700-1785929400@parkerroadcdd.com
SUMMARY:Aqua Fitness Class
DESCRIPTION:Lisa Coleman
URL:http://parkerroadcdd.com/calendar/fitness-class-2/2026-08-05/
LOCATION:Oakmont Pool\, 11701 SW 30th Avenue\, Gainesville\, FL\, 32608\, United States
CATEGORIES:Classes
ORGANIZER;CN="Lisa Coleman":MAILTO:lisacoleman0209@gmail.com
END:VEVENT
BEGIN:VEVENT
DTSTART;TZID=America/New_York:20260811T100000
DTEND;TZID=America/New_York:20260811T100000
DTSTAMP:20260424T112218
CREATED:20250929T190718Z
LAST-MODIFIED:20250929T190718Z
UID:10002314-1786442400-1786442400@parkerroadcdd.com
SUMMARY:Empower Fitness$
DESCRIPTION:For more information \nContact Lisa Coleman \nlisacoleman0209@gmail.com
URL:http://parkerroadcdd.com/calendar/empower-fitness/2026-08-11/
LOCATION:Fitness Center Studio Room\, 11701 SW 30th Ave\, Gainesville\, FL\, 32608\, United States
ORGANIZER;CN="Lisa Coleman":MAILTO:lisacoleman0209@gmail.com
END:VEVENT
BEGIN:VEVENT
DTSTART;TZID=America/New_York:20260812T104500
DTEND;TZID=America/New_York:20260812T113000
DTSTAMP:20260424T112218
CREATED:20260324T140219Z
LAST-MODIFIED:20260324T140220Z
UID:10002735-1786531500-1786534200@parkerroadcdd.com
SUMMARY:Aqua Fitness Class
DESCRIPTION:Lisa Coleman
URL:http://parkerroadcdd.com/calendar/fitness-class-2/2026-08-12/
LOCATION:Oakmont Pool\, 11701 SW 30th Avenue\, Gainesville\, FL\, 32608\, United States
CATEGORIES:Classes
ORGANIZER;CN="Lisa Coleman":MAILTO:lisacoleman0209@gmail.com
END:VEVENT
BEGIN:VEVENT
DTSTART;TZID=America/New_York:20260818T100000
DTEND;TZID=America/New_York:20260818T100000
DTSTAMP:20260424T112218
CREATED:20250929T190718Z
LAST-MODIFIED:20250929T190718Z
UID:10002315-1787047200-1787047200@parkerroadcdd.com
SUMMARY:Empower Fitness$
DESCRIPTION:For more information \nContact Lisa Coleman \nlisacoleman0209@gmail.com
URL:http://parkerroadcdd.com/calendar/empower-fitness/2026-08-18/
LOCATION:Fitness Center Studio Room\, 11701 SW 30th Ave\, Gainesville\, FL\, 32608\, United States
ORGANIZER;CN="Lisa Coleman":MAILTO:lisacoleman0209@gmail.com
END:VEVENT
BEGIN:VEVENT
DTSTART;TZID=America/New_York:20260819T104500
DTEND;TZID=America/New_York:20260819T113000
DTSTAMP:20260424T112218
CREATED:20260324T140219Z
LAST-MODIFIED:20260324T140220Z
UID:10002736-1787136300-1787139000@parkerroadcdd.com
SUMMARY:Aqua Fitness Class
DESCRIPTION:Lisa Coleman
URL:http://parkerroadcdd.com/calendar/fitness-class-2/2026-08-19/
LOCATION:Oakmont Pool\, 11701 SW 30th Avenue\, Gainesville\, FL\, 32608\, United States
CATEGORIES:Classes
ORGANIZER;CN="Lisa Coleman":MAILTO:lisacoleman0209@gmail.com
END:VEVENT
BEGIN:VEVENT
DTSTART;TZID=America/New_York:20260825T100000
DTEND;TZID=America/New_York:20260825T100000
DTSTAMP:20260424T112218
CREATED:20250929T190718Z
LAST-MODIFIED:20250929T190718Z
UID:10002316-1787652000-1787652000@parkerroadcdd.com
SUMMARY:Empower Fitness$
DESCRIPTION:For more information \nContact Lisa Coleman \nlisacoleman0209@gmail.com
URL:http://parkerroadcdd.com/calendar/empower-fitness/2026-08-25/
LOCATION:Fitness Center Studio Room\, 11701 SW 30th Ave\, Gainesville\, FL\, 32608\, United States
ORGANIZER;CN="Lisa Coleman":MAILTO:lisacoleman0209@gmail.com
END:VEVENT
BEGIN:VEVENT
DTSTART;TZID=America/New_York:20260826T104500
DTEND;TZID=America/New_York:20260826T113000
DTSTAMP:20260424T112218
CREATED:20260324T140219Z
LAST-MODIFIED:20260324T140220Z
UID:10002737-1787741100-1787743800@parkerroadcdd.com
SUMMARY:Aqua Fitness Class
DESCRIPTION:Lisa Coleman
URL:http://parkerroadcdd.com/calendar/fitness-class-2/2026-08-26/
LOCATION:Oakmont Pool\, 11701 SW 30th Avenue\, Gainesville\, FL\, 32608\, United States
CATEGORIES:Classes
ORGANIZER;CN="Lisa Coleman":MAILTO:lisacoleman0209@gmail.com
END:VEVENT
END:VCALENDAR