BEGIN:VCALENDAR
VERSION:2.0
PRODID:-//Parker Road CDD - ECPv6.6.2//NONSGML v1.0//EN
CALSCALE:GREGORIAN
METHOD:PUBLISH
X-WR-CALNAME:Parker Road CDD
X-ORIGINAL-URL:http://parkerroadcdd.com
X-WR-CALDESC:Events for Parker Road CDD
REFRESH-INTERVAL;VALUE=DURATION:PT1H
X-Robots-Tag:noindex
X-PUBLISHED-TTL:PT1H
BEGIN:VTIMEZONE
TZID:America/New_York
BEGIN:DAYLIGHT
TZOFFSETFROM:-0500
TZOFFSETTO:-0400
TZNAME:EDT
DTSTART:20260308T070000
END:DAYLIGHT
BEGIN:STANDARD
TZOFFSETFROM:-0400
TZOFFSETTO:-0500
TZNAME:EST
DTSTART:20261101T060000
END:STANDARD
END:VTIMEZONE
BEGIN:VEVENT
DTSTART;TZID=America/New_York:20260302T190000
DTEND;TZID=America/New_York:20260302T210000
DTSTAMP:20260424T153105
CREATED:20250314T184434Z
LAST-MODIFIED:20250314T184434Z
UID:10000497-1772478000-1772485200@parkerroadcdd.com
SUMMARY:Bible Study
DESCRIPTION:For more information please contact Lisa Coleman
URL:http://parkerroadcdd.com/calendar/bible-study-6/2026-03-02/
LOCATION:Oakmont Clubhouse\, 11701 SW 30th Ave\, Gainesville\, FL\, 32608\, United States
CATEGORIES:Classes,Community Activity
ORGANIZER;CN="Lisa Coleman":MAILTO:lisacoleman0209@gmail.com
END:VEVENT
BEGIN:VEVENT
DTSTART;TZID=America/New_York:20260225T104500
DTEND;TZID=America/New_York:20260225T113000
DTSTAMP:20260424T153105
CREATED:20260106T201112Z
LAST-MODIFIED:20260106T201112Z
UID:10002711-1772016300-1772019000@parkerroadcdd.com
SUMMARY:Fitness Class
DESCRIPTION:Lisa Coleman
URL:http://parkerroadcdd.com/calendar/fitness-class/2026-02-25/
LOCATION:Fitness Center Studio Room\, 11701 SW 30th Ave\, Gainesville\, FL\, 32608\, United States
CATEGORIES:Classes
ORGANIZER;CN="Lisa Coleman":MAILTO:lisacoleman0209@gmail.com
END:VEVENT
BEGIN:VEVENT
DTSTART;TZID=America/New_York:20260224T100000
DTEND;TZID=America/New_York:20260224T100000
DTSTAMP:20260424T153105
CREATED:20250929T190718Z
LAST-MODIFIED:20250929T190718Z
UID:10002290-1771927200-1771927200@parkerroadcdd.com
SUMMARY:Empower Fitness$
DESCRIPTION:For more information \nContact Lisa Coleman \nlisacoleman0209@gmail.com
URL:http://parkerroadcdd.com/calendar/empower-fitness/2026-02-24/
LOCATION:Fitness Center Studio Room\, 11701 SW 30th Ave\, Gainesville\, FL\, 32608\, United States
ORGANIZER;CN="Lisa Coleman":MAILTO:lisacoleman0209@gmail.com
END:VEVENT
BEGIN:VEVENT
DTSTART;TZID=America/New_York:20260223T190000
DTEND;TZID=America/New_York:20260223T210000
DTSTAMP:20260424T153105
CREATED:20250314T184434Z
LAST-MODIFIED:20250314T184434Z
UID:10000496-1771873200-1771880400@parkerroadcdd.com
SUMMARY:Bible Study
DESCRIPTION:For more information please contact Lisa Coleman
URL:http://parkerroadcdd.com/calendar/bible-study-6/2026-02-23/
LOCATION:Oakmont Clubhouse\, 11701 SW 30th Ave\, Gainesville\, FL\, 32608\, United States
CATEGORIES:Classes,Community Activity
ORGANIZER;CN="Lisa Coleman":MAILTO:lisacoleman0209@gmail.com
END:VEVENT
BEGIN:VEVENT
DTSTART;TZID=America/New_York:20260218T104500
DTEND;TZID=America/New_York:20260218T113000
DTSTAMP:20260424T153105
CREATED:20260106T201112Z
LAST-MODIFIED:20260106T201112Z
UID:10002710-1771411500-1771414200@parkerroadcdd.com
SUMMARY:Fitness Class
DESCRIPTION:Lisa Coleman
URL:http://parkerroadcdd.com/calendar/fitness-class/2026-02-18/
LOCATION:Fitness Center Studio Room\, 11701 SW 30th Ave\, Gainesville\, FL\, 32608\, United States
CATEGORIES:Classes
ORGANIZER;CN="Lisa Coleman":MAILTO:lisacoleman0209@gmail.com
END:VEVENT
BEGIN:VEVENT
DTSTART;TZID=America/New_York:20260217T100000
DTEND;TZID=America/New_York:20260217T100000
DTSTAMP:20260424T153105
CREATED:20250929T190718Z
LAST-MODIFIED:20250929T190718Z
UID:10002289-1771322400-1771322400@parkerroadcdd.com
SUMMARY:Empower Fitness$
DESCRIPTION:For more information \nContact Lisa Coleman \nlisacoleman0209@gmail.com
URL:http://parkerroadcdd.com/calendar/empower-fitness/2026-02-17/
LOCATION:Fitness Center Studio Room\, 11701 SW 30th Ave\, Gainesville\, FL\, 32608\, United States
ORGANIZER;CN="Lisa Coleman":MAILTO:lisacoleman0209@gmail.com
END:VEVENT
BEGIN:VEVENT
DTSTART;TZID=America/New_York:20260216T190000
DTEND;TZID=America/New_York:20260216T210000
DTSTAMP:20260424T153105
CREATED:20250314T184434Z
LAST-MODIFIED:20250314T184434Z
UID:10000495-1771268400-1771275600@parkerroadcdd.com
SUMMARY:Bible Study
DESCRIPTION:For more information please contact Lisa Coleman
URL:http://parkerroadcdd.com/calendar/bible-study-6/2026-02-16/
LOCATION:Oakmont Clubhouse\, 11701 SW 30th Ave\, Gainesville\, FL\, 32608\, United States
CATEGORIES:Classes,Community Activity
ORGANIZER;CN="Lisa Coleman":MAILTO:lisacoleman0209@gmail.com
END:VEVENT
BEGIN:VEVENT
DTSTART;TZID=America/New_York:20260211T104500
DTEND;TZID=America/New_York:20260211T113000
DTSTAMP:20260424T153105
CREATED:20260106T201112Z
LAST-MODIFIED:20260106T201112Z
UID:10002709-1770806700-1770809400@parkerroadcdd.com
SUMMARY:Fitness Class
DESCRIPTION:Lisa Coleman
URL:http://parkerroadcdd.com/calendar/fitness-class/2026-02-11/
LOCATION:Fitness Center Studio Room\, 11701 SW 30th Ave\, Gainesville\, FL\, 32608\, United States
CATEGORIES:Classes
ORGANIZER;CN="Lisa Coleman":MAILTO:lisacoleman0209@gmail.com
END:VEVENT
BEGIN:VEVENT
DTSTART;TZID=America/New_York:20260210T100000
DTEND;TZID=America/New_York:20260210T100000
DTSTAMP:20260424T153105
CREATED:20250929T190718Z
LAST-MODIFIED:20250929T190718Z
UID:10002288-1770717600-1770717600@parkerroadcdd.com
SUMMARY:Empower Fitness$
DESCRIPTION:For more information \nContact Lisa Coleman \nlisacoleman0209@gmail.com
URL:http://parkerroadcdd.com/calendar/empower-fitness/2026-02-10/
LOCATION:Fitness Center Studio Room\, 11701 SW 30th Ave\, Gainesville\, FL\, 32608\, United States
ORGANIZER;CN="Lisa Coleman":MAILTO:lisacoleman0209@gmail.com
END:VEVENT
BEGIN:VEVENT
DTSTART;TZID=America/New_York:20260209T190000
DTEND;TZID=America/New_York:20260209T210000
DTSTAMP:20260424T153105
CREATED:20260119T202237Z
LAST-MODIFIED:20260119T202338Z
UID:10000494-1770663600-1770670800@parkerroadcdd.com
SUMMARY:Cxl -Bible Study
DESCRIPTION:For more information please contact Lisa Coleman
URL:http://parkerroadcdd.com/calendar/bible-study-6-4/
LOCATION:Oakmont Clubhouse\, 11701 SW 30th Ave\, Gainesville\, FL\, 32608\, United States
CATEGORIES:Classes,Community Activity
ORGANIZER;CN="Lisa Coleman":MAILTO:lisacoleman0209@gmail.com
END:VEVENT
BEGIN:VEVENT
DTSTART;TZID=America/New_York:20260204T104500
DTEND;TZID=America/New_York:20260204T113000
DTSTAMP:20260424T153105
CREATED:20260106T201112Z
LAST-MODIFIED:20260106T201112Z
UID:10002708-1770201900-1770204600@parkerroadcdd.com
SUMMARY:Fitness Class
DESCRIPTION:Lisa Coleman
URL:http://parkerroadcdd.com/calendar/fitness-class/2026-02-04/
LOCATION:Fitness Center Studio Room\, 11701 SW 30th Ave\, Gainesville\, FL\, 32608\, United States
CATEGORIES:Classes
ORGANIZER;CN="Lisa Coleman":MAILTO:lisacoleman0209@gmail.com
END:VEVENT
BEGIN:VEVENT
DTSTART;TZID=America/New_York:20260204T060000
DTEND;TZID=America/New_York:20260204T064500
DTSTAMP:20260424T153105
CREATED:20260108T215238Z
LAST-MODIFIED:20260108T215238Z
UID:10002977-1770184800-1770187500@parkerroadcdd.com
SUMMARY:Fitness Boot Camp
DESCRIPTION:Lisa A Coleman\, CFT\, CFSC\, FMS \nRevision Fitness
URL:http://parkerroadcdd.com/calendar/fitness-boot-camp/2026-02-04/
LOCATION:Fitness Center Studio Room\, 11701 SW 30th Ave\, Gainesville\, FL\, 32608\, United States
ORGANIZER;CN="Lisa Coleman":MAILTO:lisacoleman0209@gmail.com
END:VEVENT
BEGIN:VEVENT
DTSTART;TZID=America/New_York:20260203T100000
DTEND;TZID=America/New_York:20260203T100000
DTSTAMP:20260424T153105
CREATED:20250929T190718Z
LAST-MODIFIED:20250929T190718Z
UID:10002287-1770112800-1770112800@parkerroadcdd.com
SUMMARY:Empower Fitness$
DESCRIPTION:For more information \nContact Lisa Coleman \nlisacoleman0209@gmail.com
URL:http://parkerroadcdd.com/calendar/empower-fitness/2026-02-03/
LOCATION:Fitness Center Studio Room\, 11701 SW 30th Ave\, Gainesville\, FL\, 32608\, United States
ORGANIZER;CN="Lisa Coleman":MAILTO:lisacoleman0209@gmail.com
END:VEVENT
BEGIN:VEVENT
DTSTART;TZID=America/New_York:20260202T190000
DTEND;TZID=America/New_York:20260202T210000
DTSTAMP:20260424T153105
CREATED:20250314T184434Z
LAST-MODIFIED:20250314T184434Z
UID:10000493-1770058800-1770066000@parkerroadcdd.com
SUMMARY:Bible Study
DESCRIPTION:For more information please contact Lisa Coleman
URL:http://parkerroadcdd.com/calendar/bible-study-6/2026-02-02/
LOCATION:Oakmont Clubhouse\, 11701 SW 30th Ave\, Gainesville\, FL\, 32608\, United States
CATEGORIES:Classes,Community Activity
ORGANIZER;CN="Lisa Coleman":MAILTO:lisacoleman0209@gmail.com
END:VEVENT
BEGIN:VEVENT
DTSTART;TZID=America/New_York:20260202T060000
DTEND;TZID=America/New_York:20260202T064500
DTSTAMP:20260424T153105
CREATED:20260108T215238Z
LAST-MODIFIED:20260108T215238Z
UID:10002976-1770012000-1770014700@parkerroadcdd.com
SUMMARY:Fitness Boot Camp
DESCRIPTION:Lisa A Coleman\, CFT\, CFSC\, FMS \nRevision Fitness
URL:http://parkerroadcdd.com/calendar/fitness-boot-camp/2026-02-02/
LOCATION:Fitness Center Studio Room\, 11701 SW 30th Ave\, Gainesville\, FL\, 32608\, United States
ORGANIZER;CN="Lisa Coleman":MAILTO:lisacoleman0209@gmail.com
END:VEVENT
BEGIN:VEVENT
DTSTART;TZID=America/New_York:20260128T104500
DTEND;TZID=America/New_York:20260128T113000
DTSTAMP:20260424T153105
CREATED:20260106T201112Z
LAST-MODIFIED:20260106T201112Z
UID:10002707-1769597100-1769599800@parkerroadcdd.com
SUMMARY:Fitness Class
DESCRIPTION:Lisa Coleman
URL:http://parkerroadcdd.com/calendar/fitness-class/2026-01-28/
LOCATION:Fitness Center Studio Room\, 11701 SW 30th Ave\, Gainesville\, FL\, 32608\, United States
CATEGORIES:Classes
ORGANIZER;CN="Lisa Coleman":MAILTO:lisacoleman0209@gmail.com
END:VEVENT
BEGIN:VEVENT
DTSTART;TZID=America/New_York:20260128T060000
DTEND;TZID=America/New_York:20260128T064500
DTSTAMP:20260424T153105
CREATED:20260108T215238Z
LAST-MODIFIED:20260108T215238Z
UID:10002975-1769580000-1769582700@parkerroadcdd.com
SUMMARY:Fitness Boot Camp
DESCRIPTION:Lisa A Coleman\, CFT\, CFSC\, FMS \nRevision Fitness
URL:http://parkerroadcdd.com/calendar/fitness-boot-camp/2026-01-28/
LOCATION:Fitness Center Studio Room\, 11701 SW 30th Ave\, Gainesville\, FL\, 32608\, United States
ORGANIZER;CN="Lisa Coleman":MAILTO:lisacoleman0209@gmail.com
END:VEVENT
BEGIN:VEVENT
DTSTART;TZID=America/New_York:20260127T100000
DTEND;TZID=America/New_York:20260127T100000
DTSTAMP:20260424T153105
CREATED:20250929T190718Z
LAST-MODIFIED:20250929T190718Z
UID:10002286-1769508000-1769508000@parkerroadcdd.com
SUMMARY:Empower Fitness$
DESCRIPTION:For more information \nContact Lisa Coleman \nlisacoleman0209@gmail.com
URL:http://parkerroadcdd.com/calendar/empower-fitness/2026-01-27/
LOCATION:Fitness Center Studio Room\, 11701 SW 30th Ave\, Gainesville\, FL\, 32608\, United States
ORGANIZER;CN="Lisa Coleman":MAILTO:lisacoleman0209@gmail.com
END:VEVENT
BEGIN:VEVENT
DTSTART;TZID=America/New_York:20260126T190000
DTEND;TZID=America/New_York:20260126T210000
DTSTAMP:20260424T153105
CREATED:20250314T184434Z
LAST-MODIFIED:20250314T184434Z
UID:10000492-1769454000-1769461200@parkerroadcdd.com
SUMMARY:Bible Study
DESCRIPTION:For more information please contact Lisa Coleman
URL:http://parkerroadcdd.com/calendar/bible-study-6/2026-01-26/
LOCATION:Oakmont Clubhouse\, 11701 SW 30th Ave\, Gainesville\, FL\, 32608\, United States
CATEGORIES:Classes,Community Activity
ORGANIZER;CN="Lisa Coleman":MAILTO:lisacoleman0209@gmail.com
END:VEVENT
BEGIN:VEVENT
DTSTART;TZID=America/New_York:20260126T060000
DTEND;TZID=America/New_York:20260126T064500
DTSTAMP:20260424T153105
CREATED:20260108T215238Z
LAST-MODIFIED:20260108T215238Z
UID:10002974-1769407200-1769409900@parkerroadcdd.com
SUMMARY:Fitness Boot Camp
DESCRIPTION:Lisa A Coleman\, CFT\, CFSC\, FMS \nRevision Fitness
URL:http://parkerroadcdd.com/calendar/fitness-boot-camp/2026-01-26/
LOCATION:Fitness Center Studio Room\, 11701 SW 30th Ave\, Gainesville\, FL\, 32608\, United States
ORGANIZER;CN="Lisa Coleman":MAILTO:lisacoleman0209@gmail.com
END:VEVENT
BEGIN:VEVENT
DTSTART;TZID=America/New_York:20260121T104500
DTEND;TZID=America/New_York:20260121T113000
DTSTAMP:20260424T153105
CREATED:20260106T201112Z
LAST-MODIFIED:20260106T201112Z
UID:10002706-1768992300-1768995000@parkerroadcdd.com
SUMMARY:Fitness Class
DESCRIPTION:Lisa Coleman
URL:http://parkerroadcdd.com/calendar/fitness-class/2026-01-21/
LOCATION:Fitness Center Studio Room\, 11701 SW 30th Ave\, Gainesville\, FL\, 32608\, United States
CATEGORIES:Classes
ORGANIZER;CN="Lisa Coleman":MAILTO:lisacoleman0209@gmail.com
END:VEVENT
BEGIN:VEVENT
DTSTART;TZID=America/New_York:20260121T060000
DTEND;TZID=America/New_York:20260121T064500
DTSTAMP:20260424T153105
CREATED:20260108T215238Z
LAST-MODIFIED:20260108T215238Z
UID:10002973-1768975200-1768977900@parkerroadcdd.com
SUMMARY:Fitness Boot Camp
DESCRIPTION:Lisa A Coleman\, CFT\, CFSC\, FMS \nRevision Fitness
URL:http://parkerroadcdd.com/calendar/fitness-boot-camp/2026-01-21/
LOCATION:Fitness Center Studio Room\, 11701 SW 30th Ave\, Gainesville\, FL\, 32608\, United States
ORGANIZER;CN="Lisa Coleman":MAILTO:lisacoleman0209@gmail.com
END:VEVENT
BEGIN:VEVENT
DTSTART;TZID=America/New_York:20260120T100000
DTEND;TZID=America/New_York:20260120T100000
DTSTAMP:20260424T153105
CREATED:20250929T190718Z
LAST-MODIFIED:20250929T190718Z
UID:10002285-1768903200-1768903200@parkerroadcdd.com
SUMMARY:Empower Fitness$
DESCRIPTION:For more information \nContact Lisa Coleman \nlisacoleman0209@gmail.com
URL:http://parkerroadcdd.com/calendar/empower-fitness/2026-01-20/
LOCATION:Fitness Center Studio Room\, 11701 SW 30th Ave\, Gainesville\, FL\, 32608\, United States
ORGANIZER;CN="Lisa Coleman":MAILTO:lisacoleman0209@gmail.com
END:VEVENT
BEGIN:VEVENT
DTSTART;TZID=America/New_York:20260119T190000
DTEND;TZID=America/New_York:20260119T210000
DTSTAMP:20260424T153105
CREATED:20250314T184434Z
LAST-MODIFIED:20250314T184434Z
UID:10000491-1768849200-1768856400@parkerroadcdd.com
SUMMARY:Bible Study
DESCRIPTION:For more information please contact Lisa Coleman
URL:http://parkerroadcdd.com/calendar/bible-study-6/2026-01-19/
LOCATION:Oakmont Clubhouse\, 11701 SW 30th Ave\, Gainesville\, FL\, 32608\, United States
CATEGORIES:Classes,Community Activity
ORGANIZER;CN="Lisa Coleman":MAILTO:lisacoleman0209@gmail.com
END:VEVENT
BEGIN:VEVENT
DTSTART;TZID=America/New_York:20260119T060000
DTEND;TZID=America/New_York:20260119T064500
DTSTAMP:20260424T153105
CREATED:20260108T215238Z
LAST-MODIFIED:20260108T215238Z
UID:10002972-1768802400-1768805100@parkerroadcdd.com
SUMMARY:Fitness Boot Camp
DESCRIPTION:Lisa A Coleman\, CFT\, CFSC\, FMS \nRevision Fitness
URL:http://parkerroadcdd.com/calendar/fitness-boot-camp/2026-01-19/
LOCATION:Fitness Center Studio Room\, 11701 SW 30th Ave\, Gainesville\, FL\, 32608\, United States
ORGANIZER;CN="Lisa Coleman":MAILTO:lisacoleman0209@gmail.com
END:VEVENT
BEGIN:VEVENT
DTSTART;TZID=America/New_York:20260114T104500
DTEND;TZID=America/New_York:20260114T113000
DTSTAMP:20260424T153105
CREATED:20260106T201112Z
LAST-MODIFIED:20260106T201112Z
UID:10002705-1768387500-1768390200@parkerroadcdd.com
SUMMARY:Fitness Class
DESCRIPTION:Lisa Coleman
URL:http://parkerroadcdd.com/calendar/fitness-class/2026-01-14/
LOCATION:Fitness Center Studio Room\, 11701 SW 30th Ave\, Gainesville\, FL\, 32608\, United States
CATEGORIES:Classes
ORGANIZER;CN="Lisa Coleman":MAILTO:lisacoleman0209@gmail.com
END:VEVENT
BEGIN:VEVENT
DTSTART;TZID=America/New_York:20260114T060000
DTEND;TZID=America/New_York:20260114T064500
DTSTAMP:20260424T153105
CREATED:20260108T215238Z
LAST-MODIFIED:20260108T215238Z
UID:10002971-1768370400-1768373100@parkerroadcdd.com
SUMMARY:Fitness Boot Camp
DESCRIPTION:Lisa A Coleman\, CFT\, CFSC\, FMS \nRevision Fitness
URL:http://parkerroadcdd.com/calendar/fitness-boot-camp/2026-01-14/
LOCATION:Fitness Center Studio Room\, 11701 SW 30th Ave\, Gainesville\, FL\, 32608\, United States
ORGANIZER;CN="Lisa Coleman":MAILTO:lisacoleman0209@gmail.com
END:VEVENT
BEGIN:VEVENT
DTSTART;TZID=America/New_York:20260113T100000
DTEND;TZID=America/New_York:20260113T100000
DTSTAMP:20260424T153105
CREATED:20250929T190718Z
LAST-MODIFIED:20250929T190718Z
UID:10002284-1768298400-1768298400@parkerroadcdd.com
SUMMARY:Empower Fitness$
DESCRIPTION:For more information \nContact Lisa Coleman \nlisacoleman0209@gmail.com
URL:http://parkerroadcdd.com/calendar/empower-fitness/2026-01-13/
LOCATION:Fitness Center Studio Room\, 11701 SW 30th Ave\, Gainesville\, FL\, 32608\, United States
ORGANIZER;CN="Lisa Coleman":MAILTO:lisacoleman0209@gmail.com
END:VEVENT
BEGIN:VEVENT
DTSTART;TZID=America/New_York:20260112T190000
DTEND;TZID=America/New_York:20260112T210000
DTSTAMP:20260424T153105
CREATED:20250314T184434Z
LAST-MODIFIED:20250314T184434Z
UID:10000490-1768244400-1768251600@parkerroadcdd.com
SUMMARY:Bible Study
DESCRIPTION:For more information please contact Lisa Coleman
URL:http://parkerroadcdd.com/calendar/bible-study-6/2026-01-12/
LOCATION:Oakmont Clubhouse\, 11701 SW 30th Ave\, Gainesville\, FL\, 32608\, United States
CATEGORIES:Classes,Community Activity
ORGANIZER;CN="Lisa Coleman":MAILTO:lisacoleman0209@gmail.com
END:VEVENT
BEGIN:VEVENT
DTSTART;TZID=America/New_York:20260112T060000
DTEND;TZID=America/New_York:20260112T064500
DTSTAMP:20260424T153105
CREATED:20260108T215238Z
LAST-MODIFIED:20260108T215238Z
UID:10002970-1768197600-1768200300@parkerroadcdd.com
SUMMARY:Fitness Boot Camp
DESCRIPTION:Lisa A Coleman\, CFT\, CFSC\, FMS \nRevision Fitness
URL:http://parkerroadcdd.com/calendar/fitness-boot-camp/2026-01-12/
LOCATION:Fitness Center Studio Room\, 11701 SW 30th Ave\, Gainesville\, FL\, 32608\, United States
ORGANIZER;CN="Lisa Coleman":MAILTO:lisacoleman0209@gmail.com
END:VEVENT
END:VCALENDAR