BEGIN:VCALENDAR
VERSION:2.0
PRODID:-//Parker Road CDD - ECPv6.6.2//NONSGML v1.0//EN
CALSCALE:GREGORIAN
METHOD:PUBLISH
X-WR-CALNAME:Parker Road CDD
X-ORIGINAL-URL:http://parkerroadcdd.com
X-WR-CALDESC:Events for Parker Road CDD
REFRESH-INTERVAL;VALUE=DURATION:PT1H
X-Robots-Tag:noindex
X-PUBLISHED-TTL:PT1H
BEGIN:VTIMEZONE
TZID:America/New_York
BEGIN:DAYLIGHT
TZOFFSETFROM:-0500
TZOFFSETTO:-0400
TZNAME:EDT
DTSTART:20250309T070000
END:DAYLIGHT
BEGIN:STANDARD
TZOFFSETFROM:-0400
TZOFFSETTO:-0500
TZNAME:EST
DTSTART:20251102T060000
END:STANDARD
END:VTIMEZONE
BEGIN:VEVENT
DTSTART;TZID=America/New_York:20251111T100000
DTEND;TZID=America/New_York:20251111T100000
DTSTAMP:20260424T211225
CREATED:20250929T190718Z
LAST-MODIFIED:20250929T190718Z
UID:10002275-1762855200-1762855200@parkerroadcdd.com
SUMMARY:Empower Fitness$
DESCRIPTION:For more information \nContact Lisa Coleman \nlisacoleman0209@gmail.com
URL:http://parkerroadcdd.com/calendar/empower-fitness/2025-11-11/
LOCATION:Fitness Center Studio Room\, 11701 SW 30th Ave\, Gainesville\, FL\, 32608\, United States
ORGANIZER;CN="Lisa Coleman":MAILTO:lisacoleman0209@gmail.com
END:VEVENT
BEGIN:VEVENT
DTSTART;TZID=America/New_York:20251110T190000
DTEND;TZID=America/New_York:20251110T210000
DTSTAMP:20260424T211225
CREATED:20250314T184434Z
LAST-MODIFIED:20250314T184434Z
UID:10000481-1762801200-1762808400@parkerroadcdd.com
SUMMARY:Bible Study
DESCRIPTION:For more information please contact Lisa Coleman
URL:http://parkerroadcdd.com/calendar/bible-study-6/2025-11-10/
LOCATION:Oakmont Clubhouse\, 11701 SW 30th Ave\, Gainesville\, FL\, 32608\, United States
CATEGORIES:Classes,Community Activity
ORGANIZER;CN="Lisa Coleman":MAILTO:lisacoleman0209@gmail.com
END:VEVENT
BEGIN:VEVENT
DTSTART;TZID=America/New_York:20251108T073000
DTEND;TZID=America/New_York:20251108T081500
DTSTAMP:20260424T211225
CREATED:20250918T191744Z
LAST-MODIFIED:20250918T191744Z
UID:10002261-1762587000-1762589700@parkerroadcdd.com
SUMMARY:POP UP - Kick Boxing Class
DESCRIPTION:For more information \nLisa A Coleman\, CFT \nRevision Fitness \n315-271-4454
URL:http://parkerroadcdd.com/calendar/pop-up-kick-boxing-class/2025-11-08/
LOCATION:Oakmont Fitness Center\, 11701 SW 30th Ave\, Gainesville\, Florida\, 32608
ORGANIZER;CN="Lisa Coleman":MAILTO:lisacoleman0209@gmail.com
END:VEVENT
BEGIN:VEVENT
DTSTART;TZID=America/New_York:20251105T104500
DTEND;TZID=America/New_York:20251105T113000
DTSTAMP:20260424T211225
CREATED:20250302T142402Z
LAST-MODIFIED:20250410T192809Z
UID:10000690-1762339500-1762342200@parkerroadcdd.com
SUMMARY:Aqua Fitness Class
DESCRIPTION:Contact Lisa Coleman to Schedule
URL:http://parkerroadcdd.com/calendar/aqua-fitness-13/2025-11-05/
LOCATION:Oakmont Fitness Center\, 11701 SW 30th Ave\, Gainesville\, Florida\, 32608
CATEGORIES:Classes
ORGANIZER;CN="Lisa Coleman":MAILTO:lisacoleman0209@gmail.com
END:VEVENT
BEGIN:VEVENT
DTSTART;TZID=America/New_York:20251104T100000
DTEND;TZID=America/New_York:20251104T100000
DTSTAMP:20260424T211225
CREATED:20250929T190718Z
LAST-MODIFIED:20250929T190718Z
UID:10002274-1762250400-1762250400@parkerroadcdd.com
SUMMARY:Empower Fitness$
DESCRIPTION:For more information \nContact Lisa Coleman \nlisacoleman0209@gmail.com
URL:http://parkerroadcdd.com/calendar/empower-fitness/2025-11-04/
LOCATION:Fitness Center Studio Room\, 11701 SW 30th Ave\, Gainesville\, FL\, 32608\, United States
ORGANIZER;CN="Lisa Coleman":MAILTO:lisacoleman0209@gmail.com
END:VEVENT
BEGIN:VEVENT
DTSTART;TZID=America/New_York:20251103T190000
DTEND;TZID=America/New_York:20251103T210000
DTSTAMP:20260424T211225
CREATED:20250314T184434Z
LAST-MODIFIED:20250314T184434Z
UID:10000480-1762196400-1762203600@parkerroadcdd.com
SUMMARY:Bible Study
DESCRIPTION:For more information please contact Lisa Coleman
URL:http://parkerroadcdd.com/calendar/bible-study-6/2025-11-03/
LOCATION:Oakmont Clubhouse\, 11701 SW 30th Ave\, Gainesville\, FL\, 32608\, United States
CATEGORIES:Classes,Community Activity
ORGANIZER;CN="Lisa Coleman":MAILTO:lisacoleman0209@gmail.com
END:VEVENT
BEGIN:VEVENT
DTSTART;TZID=America/New_York:20251101T073000
DTEND;TZID=America/New_York:20251101T081500
DTSTAMP:20260424T211225
CREATED:20250918T191744Z
LAST-MODIFIED:20250918T191744Z
UID:10002260-1761982200-1761984900@parkerroadcdd.com
SUMMARY:POP UP - Kick Boxing Class
DESCRIPTION:For more information \nLisa A Coleman\, CFT \nRevision Fitness \n315-271-4454
URL:http://parkerroadcdd.com/calendar/pop-up-kick-boxing-class/2025-11-01/
LOCATION:Oakmont Fitness Center\, 11701 SW 30th Ave\, Gainesville\, Florida\, 32608
ORGANIZER;CN="Lisa Coleman":MAILTO:lisacoleman0209@gmail.com
END:VEVENT
BEGIN:VEVENT
DTSTART;TZID=America/New_York:20251029T104500
DTEND;TZID=America/New_York:20251029T113000
DTSTAMP:20260424T211225
CREATED:20250302T142402Z
LAST-MODIFIED:20250410T192809Z
UID:10000689-1761734700-1761737400@parkerroadcdd.com
SUMMARY:Aqua Fitness Class
DESCRIPTION:Contact Lisa Coleman to Schedule
URL:http://parkerroadcdd.com/calendar/aqua-fitness-13/2025-10-29/
LOCATION:Oakmont Fitness Center\, 11701 SW 30th Ave\, Gainesville\, Florida\, 32608
CATEGORIES:Classes
ORGANIZER;CN="Lisa Coleman":MAILTO:lisacoleman0209@gmail.com
END:VEVENT
BEGIN:VEVENT
DTSTART;TZID=America/New_York:20251028T100000
DTEND;TZID=America/New_York:20251028T100000
DTSTAMP:20260424T211225
CREATED:20250929T190718Z
LAST-MODIFIED:20250929T190718Z
UID:10002273-1761645600-1761645600@parkerroadcdd.com
SUMMARY:Empower Fitness$
DESCRIPTION:For more information \nContact Lisa Coleman \nlisacoleman0209@gmail.com
URL:http://parkerroadcdd.com/calendar/empower-fitness/2025-10-28/
LOCATION:Fitness Center Studio Room\, 11701 SW 30th Ave\, Gainesville\, FL\, 32608\, United States
ORGANIZER;CN="Lisa Coleman":MAILTO:lisacoleman0209@gmail.com
END:VEVENT
BEGIN:VEVENT
DTSTART;TZID=America/New_York:20251027T190000
DTEND;TZID=America/New_York:20251027T210000
DTSTAMP:20260424T211225
CREATED:20250314T184434Z
LAST-MODIFIED:20250314T184434Z
UID:10000479-1761591600-1761598800@parkerroadcdd.com
SUMMARY:Bible Study
DESCRIPTION:For more information please contact Lisa Coleman
URL:http://parkerroadcdd.com/calendar/bible-study-6/2025-10-27/
LOCATION:Oakmont Clubhouse\, 11701 SW 30th Ave\, Gainesville\, FL\, 32608\, United States
CATEGORIES:Classes,Community Activity
ORGANIZER;CN="Lisa Coleman":MAILTO:lisacoleman0209@gmail.com
END:VEVENT
BEGIN:VEVENT
DTSTART;TZID=America/New_York:20251022T104500
DTEND;TZID=America/New_York:20251022T113000
DTSTAMP:20260424T211225
CREATED:20250302T142402Z
LAST-MODIFIED:20250410T192809Z
UID:10000688-1761129900-1761132600@parkerroadcdd.com
SUMMARY:Aqua Fitness Class
DESCRIPTION:Contact Lisa Coleman to Schedule
URL:http://parkerroadcdd.com/calendar/aqua-fitness-13/2025-10-22/
LOCATION:Oakmont Fitness Center\, 11701 SW 30th Ave\, Gainesville\, Florida\, 32608
CATEGORIES:Classes
ORGANIZER;CN="Lisa Coleman":MAILTO:lisacoleman0209@gmail.com
END:VEVENT
BEGIN:VEVENT
DTSTART;TZID=America/New_York:20251021T100000
DTEND;TZID=America/New_York:20251021T100000
DTSTAMP:20260424T211225
CREATED:20250929T190718Z
LAST-MODIFIED:20250929T190718Z
UID:10002272-1761040800-1761040800@parkerroadcdd.com
SUMMARY:Empower Fitness$
DESCRIPTION:For more information \nContact Lisa Coleman \nlisacoleman0209@gmail.com
URL:http://parkerroadcdd.com/calendar/empower-fitness/2025-10-21/
LOCATION:Fitness Center Studio Room\, 11701 SW 30th Ave\, Gainesville\, FL\, 32608\, United States
ORGANIZER;CN="Lisa Coleman":MAILTO:lisacoleman0209@gmail.com
END:VEVENT
BEGIN:VEVENT
DTSTART;TZID=America/New_York:20251020T190000
DTEND;TZID=America/New_York:20251020T210000
DTSTAMP:20260424T211225
CREATED:20250314T184434Z
LAST-MODIFIED:20250314T184434Z
UID:10000478-1760986800-1760994000@parkerroadcdd.com
SUMMARY:Bible Study
DESCRIPTION:For more information please contact Lisa Coleman
URL:http://parkerroadcdd.com/calendar/bible-study-6/2025-10-20/
LOCATION:Oakmont Clubhouse\, 11701 SW 30th Ave\, Gainesville\, FL\, 32608\, United States
CATEGORIES:Classes,Community Activity
ORGANIZER;CN="Lisa Coleman":MAILTO:lisacoleman0209@gmail.com
END:VEVENT
BEGIN:VEVENT
DTSTART;TZID=America/New_York:20251018T073000
DTEND;TZID=America/New_York:20251018T081500
DTSTAMP:20260424T211225
CREATED:20250918T191744Z
LAST-MODIFIED:20250918T191744Z
UID:10002259-1760772600-1760775300@parkerroadcdd.com
SUMMARY:POP UP - Kick Boxing Class
DESCRIPTION:For more information \nLisa A Coleman\, CFT \nRevision Fitness \n315-271-4454
URL:http://parkerroadcdd.com/calendar/pop-up-kick-boxing-class/2025-10-18/
LOCATION:Oakmont Fitness Center\, 11701 SW 30th Ave\, Gainesville\, Florida\, 32608
ORGANIZER;CN="Lisa Coleman":MAILTO:lisacoleman0209@gmail.com
END:VEVENT
BEGIN:VEVENT
DTSTART;TZID=America/New_York:20251015T104500
DTEND;TZID=America/New_York:20251015T113000
DTSTAMP:20260424T211225
CREATED:20250302T142402Z
LAST-MODIFIED:20250410T192809Z
UID:10000687-1760525100-1760527800@parkerroadcdd.com
SUMMARY:Aqua Fitness Class
DESCRIPTION:Contact Lisa Coleman to Schedule
URL:http://parkerroadcdd.com/calendar/aqua-fitness-13/2025-10-15/
LOCATION:Oakmont Fitness Center\, 11701 SW 30th Ave\, Gainesville\, Florida\, 32608
CATEGORIES:Classes
ORGANIZER;CN="Lisa Coleman":MAILTO:lisacoleman0209@gmail.com
END:VEVENT
BEGIN:VEVENT
DTSTART;TZID=America/New_York:20251014T100000
DTEND;TZID=America/New_York:20251014T100000
DTSTAMP:20260424T211225
CREATED:20250929T190718Z
LAST-MODIFIED:20250929T190718Z
UID:10002271-1760436000-1760436000@parkerroadcdd.com
SUMMARY:Empower Fitness$
DESCRIPTION:For more information \nContact Lisa Coleman \nlisacoleman0209@gmail.com
URL:http://parkerroadcdd.com/calendar/empower-fitness/2025-10-14/
LOCATION:Fitness Center Studio Room\, 11701 SW 30th Ave\, Gainesville\, FL\, 32608\, United States
ORGANIZER;CN="Lisa Coleman":MAILTO:lisacoleman0209@gmail.com
END:VEVENT
BEGIN:VEVENT
DTSTART;TZID=America/New_York:20251013T190000
DTEND;TZID=America/New_York:20251013T210000
DTSTAMP:20260424T211225
CREATED:20250314T184434Z
LAST-MODIFIED:20250314T184434Z
UID:10000477-1760382000-1760389200@parkerroadcdd.com
SUMMARY:Bible Study
DESCRIPTION:For more information please contact Lisa Coleman
URL:http://parkerroadcdd.com/calendar/bible-study-6/2025-10-13/
LOCATION:Oakmont Clubhouse\, 11701 SW 30th Ave\, Gainesville\, FL\, 32608\, United States
CATEGORIES:Classes,Community Activity
ORGANIZER;CN="Lisa Coleman":MAILTO:lisacoleman0209@gmail.com
END:VEVENT
BEGIN:VEVENT
DTSTART;TZID=America/New_York:20251011T073000
DTEND;TZID=America/New_York:20251011T081500
DTSTAMP:20260424T211225
CREATED:20250918T191744Z
LAST-MODIFIED:20250918T191744Z
UID:10002258-1760167800-1760170500@parkerroadcdd.com
SUMMARY:POP UP - Kick Boxing Class
DESCRIPTION:For more information \nLisa A Coleman\, CFT \nRevision Fitness \n315-271-4454
URL:http://parkerroadcdd.com/calendar/pop-up-kick-boxing-class/2025-10-11/
LOCATION:Oakmont Fitness Center\, 11701 SW 30th Ave\, Gainesville\, Florida\, 32608
ORGANIZER;CN="Lisa Coleman":MAILTO:lisacoleman0209@gmail.com
END:VEVENT
BEGIN:VEVENT
DTSTART;TZID=America/New_York:20251008T104500
DTEND;TZID=America/New_York:20251008T113000
DTSTAMP:20260424T211225
CREATED:20250302T142402Z
LAST-MODIFIED:20250410T192809Z
UID:10000686-1759920300-1759923000@parkerroadcdd.com
SUMMARY:Aqua Fitness Class
DESCRIPTION:Contact Lisa Coleman to Schedule
URL:http://parkerroadcdd.com/calendar/aqua-fitness-13/2025-10-08/
LOCATION:Oakmont Fitness Center\, 11701 SW 30th Ave\, Gainesville\, Florida\, 32608
CATEGORIES:Classes
ORGANIZER;CN="Lisa Coleman":MAILTO:lisacoleman0209@gmail.com
END:VEVENT
BEGIN:VEVENT
DTSTART;TZID=America/New_York:20251007T100000
DTEND;TZID=America/New_York:20251007T100000
DTSTAMP:20260424T211225
CREATED:20250929T190718Z
LAST-MODIFIED:20250929T190718Z
UID:10002270-1759831200-1759831200@parkerroadcdd.com
SUMMARY:Empower Fitness$
DESCRIPTION:For more information \nContact Lisa Coleman \nlisacoleman0209@gmail.com
URL:http://parkerroadcdd.com/calendar/empower-fitness/2025-10-07/
LOCATION:Fitness Center Studio Room\, 11701 SW 30th Ave\, Gainesville\, FL\, 32608\, United States
ORGANIZER;CN="Lisa Coleman":MAILTO:lisacoleman0209@gmail.com
END:VEVENT
BEGIN:VEVENT
DTSTART;TZID=America/New_York:20251006T190000
DTEND;TZID=America/New_York:20251006T210000
DTSTAMP:20260424T211225
CREATED:20250314T184434Z
LAST-MODIFIED:20250314T184434Z
UID:10000476-1759777200-1759784400@parkerroadcdd.com
SUMMARY:Bible Study
DESCRIPTION:For more information please contact Lisa Coleman
URL:http://parkerroadcdd.com/calendar/bible-study-6/2025-10-06/
LOCATION:Oakmont Clubhouse\, 11701 SW 30th Ave\, Gainesville\, FL\, 32608\, United States
CATEGORIES:Classes,Community Activity
ORGANIZER;CN="Lisa Coleman":MAILTO:lisacoleman0209@gmail.com
END:VEVENT
BEGIN:VEVENT
DTSTART;TZID=America/New_York:20251004T073000
DTEND;TZID=America/New_York:20251004T081500
DTSTAMP:20260424T211225
CREATED:20250918T191744Z
LAST-MODIFIED:20250918T191744Z
UID:10002257-1759563000-1759565700@parkerroadcdd.com
SUMMARY:POP UP - Kick Boxing Class
DESCRIPTION:For more information \nLisa A Coleman\, CFT \nRevision Fitness \n315-271-4454
URL:http://parkerroadcdd.com/calendar/pop-up-kick-boxing-class/2025-10-04/
LOCATION:Oakmont Fitness Center\, 11701 SW 30th Ave\, Gainesville\, Florida\, 32608
ORGANIZER;CN="Lisa Coleman":MAILTO:lisacoleman0209@gmail.com
END:VEVENT
BEGIN:VEVENT
DTSTART;TZID=America/New_York:20251001T104500
DTEND;TZID=America/New_York:20251001T113000
DTSTAMP:20260424T211225
CREATED:20250926T193103Z
LAST-MODIFIED:20250926T193104Z
UID:10000685-1759315500-1759318200@parkerroadcdd.com
SUMMARY:CXL Aqua Fitness Class
DESCRIPTION:Contact Lisa Coleman to Schedule
URL:http://parkerroadcdd.com/calendar/aqua-fitness-13-2/
LOCATION:Oakmont Fitness Center\, 11701 SW 30th Ave\, Gainesville\, Florida\, 32608
CATEGORIES:Classes
ORGANIZER;CN="Lisa Coleman":MAILTO:lisacoleman0209@gmail.com
END:VEVENT
BEGIN:VEVENT
DTSTART;TZID=America/New_York:20250929T190000
DTEND;TZID=America/New_York:20250929T210000
DTSTAMP:20260424T211225
CREATED:20250926T193006Z
LAST-MODIFIED:20250926T193007Z
UID:10000475-1759172400-1759179600@parkerroadcdd.com
SUMMARY:CXL Bible Study
DESCRIPTION:For more information please contact Lisa Coleman
URL:http://parkerroadcdd.com/calendar/bible-study-6-3/
LOCATION:Oakmont Clubhouse\, 11701 SW 30th Ave\, Gainesville\, FL\, 32608\, United States
CATEGORIES:Classes,Community Activity
ORGANIZER;CN="Lisa Coleman":MAILTO:lisacoleman0209@gmail.com
END:VEVENT
BEGIN:VEVENT
DTSTART;TZID=America/New_York:20250927T073000
DTEND;TZID=America/New_York:20250927T081500
DTSTAMP:20260424T211225
CREATED:20250918T191744Z
LAST-MODIFIED:20250918T191744Z
UID:10002256-1758958200-1758960900@parkerroadcdd.com
SUMMARY:POP UP - Kick Boxing Class
DESCRIPTION:For more information \nLisa A Coleman\, CFT \nRevision Fitness \n315-271-4454
URL:http://parkerroadcdd.com/calendar/pop-up-kick-boxing-class/2025-09-27/
LOCATION:Oakmont Fitness Center\, 11701 SW 30th Ave\, Gainesville\, Florida\, 32608
ORGANIZER;CN="Lisa Coleman":MAILTO:lisacoleman0209@gmail.com
END:VEVENT
BEGIN:VEVENT
DTSTART;TZID=America/New_York:20250924T104500
DTEND;TZID=America/New_York:20250924T113000
DTSTAMP:20260424T211225
CREATED:20250302T142402Z
LAST-MODIFIED:20250410T192809Z
UID:10000684-1758710700-1758713400@parkerroadcdd.com
SUMMARY:Aqua Fitness Class
DESCRIPTION:Contact Lisa Coleman to Schedule
URL:http://parkerroadcdd.com/calendar/aqua-fitness-13/2025-09-24/
LOCATION:Oakmont Fitness Center\, 11701 SW 30th Ave\, Gainesville\, Florida\, 32608
CATEGORIES:Classes
ORGANIZER;CN="Lisa Coleman":MAILTO:lisacoleman0209@gmail.com
END:VEVENT
BEGIN:VEVENT
DTSTART;TZID=America/New_York:20250922T190000
DTEND;TZID=America/New_York:20250922T210000
DTSTAMP:20260424T211225
CREATED:20250314T184434Z
LAST-MODIFIED:20250314T184434Z
UID:10000474-1758567600-1758574800@parkerroadcdd.com
SUMMARY:Bible Study
DESCRIPTION:For more information please contact Lisa Coleman
URL:http://parkerroadcdd.com/calendar/bible-study-6/2025-09-22/
LOCATION:Oakmont Clubhouse\, 11701 SW 30th Ave\, Gainesville\, FL\, 32608\, United States
CATEGORIES:Classes,Community Activity
ORGANIZER;CN="Lisa Coleman":MAILTO:lisacoleman0209@gmail.com
END:VEVENT
BEGIN:VEVENT
DTSTART;TZID=America/New_York:20250917T104500
DTEND;TZID=America/New_York:20250917T113000
DTSTAMP:20260424T211225
CREATED:20250302T142402Z
LAST-MODIFIED:20250410T192809Z
UID:10000683-1758105900-1758108600@parkerroadcdd.com
SUMMARY:Aqua Fitness Class
DESCRIPTION:Contact Lisa Coleman to Schedule
URL:http://parkerroadcdd.com/calendar/aqua-fitness-13/2025-09-17/
LOCATION:Oakmont Fitness Center\, 11701 SW 30th Ave\, Gainesville\, Florida\, 32608
CATEGORIES:Classes
ORGANIZER;CN="Lisa Coleman":MAILTO:lisacoleman0209@gmail.com
END:VEVENT
BEGIN:VEVENT
DTSTART;TZID=America/New_York:20250915T190000
DTEND;TZID=America/New_York:20250915T210000
DTSTAMP:20260424T211225
CREATED:20250314T184434Z
LAST-MODIFIED:20250314T184434Z
UID:10000473-1757962800-1757970000@parkerroadcdd.com
SUMMARY:Bible Study
DESCRIPTION:For more information please contact Lisa Coleman
URL:http://parkerroadcdd.com/calendar/bible-study-6/2025-09-15/
LOCATION:Oakmont Clubhouse\, 11701 SW 30th Ave\, Gainesville\, FL\, 32608\, United States
CATEGORIES:Classes,Community Activity
ORGANIZER;CN="Lisa Coleman":MAILTO:lisacoleman0209@gmail.com
END:VEVENT
BEGIN:VEVENT
DTSTART;TZID=America/New_York:20250910T104500
DTEND;TZID=America/New_York:20250910T113000
DTSTAMP:20260424T211225
CREATED:20250302T142402Z
LAST-MODIFIED:20250410T192809Z
UID:10000682-1757501100-1757503800@parkerroadcdd.com
SUMMARY:Aqua Fitness Class
DESCRIPTION:Contact Lisa Coleman to Schedule
URL:http://parkerroadcdd.com/calendar/aqua-fitness-13/2025-09-10/
LOCATION:Oakmont Fitness Center\, 11701 SW 30th Ave\, Gainesville\, Florida\, 32608
CATEGORIES:Classes
ORGANIZER;CN="Lisa Coleman":MAILTO:lisacoleman0209@gmail.com
END:VEVENT
END:VCALENDAR