BEGIN:VCALENDAR
VERSION:2.0
PRODID:-//Parker Road CDD - ECPv6.6.2//NONSGML v1.0//EN
CALSCALE:GREGORIAN
METHOD:PUBLISH
X-WR-CALNAME:Parker Road CDD
X-ORIGINAL-URL:http://parkerroadcdd.com
X-WR-CALDESC:Events for Parker Road CDD
REFRESH-INTERVAL;VALUE=DURATION:PT1H
X-Robots-Tag:noindex
X-PUBLISHED-TTL:PT1H
BEGIN:VTIMEZONE
TZID:America/New_York
BEGIN:DAYLIGHT
TZOFFSETFROM:-0500
TZOFFSETTO:-0400
TZNAME:EDT
DTSTART:20290311T070000
END:DAYLIGHT
BEGIN:STANDARD
TZOFFSETFROM:-0400
TZOFFSETTO:-0500
TZNAME:EST
DTSTART:20291104T060000
END:STANDARD
BEGIN:DAYLIGHT
TZOFFSETFROM:-0500
TZOFFSETTO:-0400
TZNAME:EDT
DTSTART:20300310T070000
END:DAYLIGHT
BEGIN:STANDARD
TZOFFSETFROM:-0400
TZOFFSETTO:-0500
TZNAME:EST
DTSTART:20301103T060000
END:STANDARD
END:VTIMEZONE
BEGIN:VEVENT
DTSTART;TZID=America/New_York:20291230T090000
DTEND;TZID=America/New_York:20291230T110000
DTSTAMP:20260424T165701
CREATED:20250507T170805Z
LAST-MODIFIED:20260112T205858Z
UID:10003218-1893315600-1893322800@parkerroadcdd.com
SUMMARY:Tennis Clinic
DESCRIPTION:Please contact Robert Taylor for more information.
URL:http://parkerroadcdd.com/calendar/tennis-clinic-10/2029-12-30/
LOCATION:Oakmont Tennis Courts\, 11701 SW 30th Ave\, Gainesville\, FL\, 32608\, United States
CATEGORIES:Classes
ORGANIZER;CN="Robert Taylor":MAILTO:rt4tennis@gmail.com
END:VEVENT
BEGIN:VEVENT
DTSTART;TZID=America/New_York:20300106T090000
DTEND;TZID=America/New_York:20300106T110000
DTSTAMP:20260424T165701
CREATED:20250507T170805Z
LAST-MODIFIED:20260112T205858Z
UID:10003219-1893920400-1893927600@parkerroadcdd.com
SUMMARY:Tennis Clinic
DESCRIPTION:Please contact Robert Taylor for more information.
URL:http://parkerroadcdd.com/calendar/tennis-clinic-10/2030-01-06/
LOCATION:Oakmont Tennis Courts\, 11701 SW 30th Ave\, Gainesville\, FL\, 32608\, United States
CATEGORIES:Classes
ORGANIZER;CN="Robert Taylor":MAILTO:rt4tennis@gmail.com
END:VEVENT
BEGIN:VEVENT
DTSTART;TZID=America/New_York:20300113T090000
DTEND;TZID=America/New_York:20300113T110000
DTSTAMP:20260424T165701
CREATED:20250507T170805Z
LAST-MODIFIED:20260112T205858Z
UID:10003220-1894525200-1894532400@parkerroadcdd.com
SUMMARY:Tennis Clinic
DESCRIPTION:Please contact Robert Taylor for more information.
URL:http://parkerroadcdd.com/calendar/tennis-clinic-10/2030-01-13/
LOCATION:Oakmont Tennis Courts\, 11701 SW 30th Ave\, Gainesville\, FL\, 32608\, United States
CATEGORIES:Classes
ORGANIZER;CN="Robert Taylor":MAILTO:rt4tennis@gmail.com
END:VEVENT
BEGIN:VEVENT
DTSTART;TZID=America/New_York:20300120T090000
DTEND;TZID=America/New_York:20300120T110000
DTSTAMP:20260424T165701
CREATED:20250507T170805Z
LAST-MODIFIED:20260112T205858Z
UID:10003221-1895130000-1895137200@parkerroadcdd.com
SUMMARY:Tennis Clinic
DESCRIPTION:Please contact Robert Taylor for more information.
URL:http://parkerroadcdd.com/calendar/tennis-clinic-10/2030-01-20/
LOCATION:Oakmont Tennis Courts\, 11701 SW 30th Ave\, Gainesville\, FL\, 32608\, United States
CATEGORIES:Classes
ORGANIZER;CN="Robert Taylor":MAILTO:rt4tennis@gmail.com
END:VEVENT
BEGIN:VEVENT
DTSTART;TZID=America/New_York:20300127T090000
DTEND;TZID=America/New_York:20300127T110000
DTSTAMP:20260424T165701
CREATED:20250507T170805Z
LAST-MODIFIED:20260112T205858Z
UID:10003222-1895734800-1895742000@parkerroadcdd.com
SUMMARY:Tennis Clinic
DESCRIPTION:Please contact Robert Taylor for more information.
URL:http://parkerroadcdd.com/calendar/tennis-clinic-10/2030-01-27/
LOCATION:Oakmont Tennis Courts\, 11701 SW 30th Ave\, Gainesville\, FL\, 32608\, United States
CATEGORIES:Classes
ORGANIZER;CN="Robert Taylor":MAILTO:rt4tennis@gmail.com
END:VEVENT
BEGIN:VEVENT
DTSTART;TZID=America/New_York:20300203T090000
DTEND;TZID=America/New_York:20300203T110000
DTSTAMP:20260424T165701
CREATED:20250507T170805Z
LAST-MODIFIED:20260112T205858Z
UID:10003223-1896339600-1896346800@parkerroadcdd.com
SUMMARY:Tennis Clinic
DESCRIPTION:Please contact Robert Taylor for more information.
URL:http://parkerroadcdd.com/calendar/tennis-clinic-10/2030-02-03/
LOCATION:Oakmont Tennis Courts\, 11701 SW 30th Ave\, Gainesville\, FL\, 32608\, United States
CATEGORIES:Classes
ORGANIZER;CN="Robert Taylor":MAILTO:rt4tennis@gmail.com
END:VEVENT
BEGIN:VEVENT
DTSTART;TZID=America/New_York:20300210T090000
DTEND;TZID=America/New_York:20300210T110000
DTSTAMP:20260424T165701
CREATED:20250507T170805Z
LAST-MODIFIED:20260112T205858Z
UID:10003224-1896944400-1896951600@parkerroadcdd.com
SUMMARY:Tennis Clinic
DESCRIPTION:Please contact Robert Taylor for more information.
URL:http://parkerroadcdd.com/calendar/tennis-clinic-10/2030-02-10/
LOCATION:Oakmont Tennis Courts\, 11701 SW 30th Ave\, Gainesville\, FL\, 32608\, United States
CATEGORIES:Classes
ORGANIZER;CN="Robert Taylor":MAILTO:rt4tennis@gmail.com
END:VEVENT
BEGIN:VEVENT
DTSTART;TZID=America/New_York:20300217T090000
DTEND;TZID=America/New_York:20300217T110000
DTSTAMP:20260424T165701
CREATED:20250507T170805Z
LAST-MODIFIED:20260112T205858Z
UID:10003225-1897549200-1897556400@parkerroadcdd.com
SUMMARY:Tennis Clinic
DESCRIPTION:Please contact Robert Taylor for more information.
URL:http://parkerroadcdd.com/calendar/tennis-clinic-10/2030-02-17/
LOCATION:Oakmont Tennis Courts\, 11701 SW 30th Ave\, Gainesville\, FL\, 32608\, United States
CATEGORIES:Classes
ORGANIZER;CN="Robert Taylor":MAILTO:rt4tennis@gmail.com
END:VEVENT
BEGIN:VEVENT
DTSTART;TZID=America/New_York:20300224T090000
DTEND;TZID=America/New_York:20300224T110000
DTSTAMP:20260424T165701
CREATED:20250507T170805Z
LAST-MODIFIED:20260112T205858Z
UID:10003226-1898154000-1898161200@parkerroadcdd.com
SUMMARY:Tennis Clinic
DESCRIPTION:Please contact Robert Taylor for more information.
URL:http://parkerroadcdd.com/calendar/tennis-clinic-10/2030-02-24/
LOCATION:Oakmont Tennis Courts\, 11701 SW 30th Ave\, Gainesville\, FL\, 32608\, United States
CATEGORIES:Classes
ORGANIZER;CN="Robert Taylor":MAILTO:rt4tennis@gmail.com
END:VEVENT
BEGIN:VEVENT
DTSTART;TZID=America/New_York:20300303T090000
DTEND;TZID=America/New_York:20300303T110000
DTSTAMP:20260424T165701
CREATED:20250507T170805Z
LAST-MODIFIED:20260112T205858Z
UID:10003227-1898758800-1898766000@parkerroadcdd.com
SUMMARY:Tennis Clinic
DESCRIPTION:Please contact Robert Taylor for more information.
URL:http://parkerroadcdd.com/calendar/tennis-clinic-10/2030-03-03/
LOCATION:Oakmont Tennis Courts\, 11701 SW 30th Ave\, Gainesville\, FL\, 32608\, United States
CATEGORIES:Classes
ORGANIZER;CN="Robert Taylor":MAILTO:rt4tennis@gmail.com
END:VEVENT
BEGIN:VEVENT
DTSTART;TZID=America/New_York:20300310T090000
DTEND;TZID=America/New_York:20300310T110000
DTSTAMP:20260424T165701
CREATED:20250507T170805Z
LAST-MODIFIED:20260112T205858Z
UID:10003228-1899363600-1899370800@parkerroadcdd.com
SUMMARY:Tennis Clinic
DESCRIPTION:Please contact Robert Taylor for more information.
URL:http://parkerroadcdd.com/calendar/tennis-clinic-10/2030-03-10/
LOCATION:Oakmont Tennis Courts\, 11701 SW 30th Ave\, Gainesville\, FL\, 32608\, United States
CATEGORIES:Classes
ORGANIZER;CN="Robert Taylor":MAILTO:rt4tennis@gmail.com
END:VEVENT
BEGIN:VEVENT
DTSTART;TZID=America/New_York:20300317T090000
DTEND;TZID=America/New_York:20300317T110000
DTSTAMP:20260424T165701
CREATED:20250507T170805Z
LAST-MODIFIED:20260112T205858Z
UID:10003229-1899968400-1899975600@parkerroadcdd.com
SUMMARY:Tennis Clinic
DESCRIPTION:Please contact Robert Taylor for more information.
URL:http://parkerroadcdd.com/calendar/tennis-clinic-10/2030-03-17/
LOCATION:Oakmont Tennis Courts\, 11701 SW 30th Ave\, Gainesville\, FL\, 32608\, United States
CATEGORIES:Classes
ORGANIZER;CN="Robert Taylor":MAILTO:rt4tennis@gmail.com
END:VEVENT
BEGIN:VEVENT
DTSTART;TZID=America/New_York:20300324T090000
DTEND;TZID=America/New_York:20300324T110000
DTSTAMP:20260424T165701
CREATED:20250507T170805Z
LAST-MODIFIED:20260112T205858Z
UID:10003230-1900573200-1900580400@parkerroadcdd.com
SUMMARY:Tennis Clinic
DESCRIPTION:Please contact Robert Taylor for more information.
URL:http://parkerroadcdd.com/calendar/tennis-clinic-10/2030-03-24/
LOCATION:Oakmont Tennis Courts\, 11701 SW 30th Ave\, Gainesville\, FL\, 32608\, United States
CATEGORIES:Classes
ORGANIZER;CN="Robert Taylor":MAILTO:rt4tennis@gmail.com
END:VEVENT
BEGIN:VEVENT
DTSTART;TZID=America/New_York:20300331T090000
DTEND;TZID=America/New_York:20300331T110000
DTSTAMP:20260424T165701
CREATED:20250507T170805Z
LAST-MODIFIED:20260112T205858Z
UID:10003231-1901178000-1901185200@parkerroadcdd.com
SUMMARY:Tennis Clinic
DESCRIPTION:Please contact Robert Taylor for more information.
URL:http://parkerroadcdd.com/calendar/tennis-clinic-10/2030-03-31/
LOCATION:Oakmont Tennis Courts\, 11701 SW 30th Ave\, Gainesville\, FL\, 32608\, United States
CATEGORIES:Classes
ORGANIZER;CN="Robert Taylor":MAILTO:rt4tennis@gmail.com
END:VEVENT
BEGIN:VEVENT
DTSTART;TZID=America/New_York:20300407T090000
DTEND;TZID=America/New_York:20300407T110000
DTSTAMP:20260424T165701
CREATED:20250507T170805Z
LAST-MODIFIED:20260112T205858Z
UID:10003232-1901782800-1901790000@parkerroadcdd.com
SUMMARY:Tennis Clinic
DESCRIPTION:Please contact Robert Taylor for more information.
URL:http://parkerroadcdd.com/calendar/tennis-clinic-10/2030-04-07/
LOCATION:Oakmont Tennis Courts\, 11701 SW 30th Ave\, Gainesville\, FL\, 32608\, United States
CATEGORIES:Classes
ORGANIZER;CN="Robert Taylor":MAILTO:rt4tennis@gmail.com
END:VEVENT
BEGIN:VEVENT
DTSTART;TZID=America/New_York:20300414T090000
DTEND;TZID=America/New_York:20300414T110000
DTSTAMP:20260424T165701
CREATED:20250507T170805Z
LAST-MODIFIED:20260112T205858Z
UID:10003233-1902387600-1902394800@parkerroadcdd.com
SUMMARY:Tennis Clinic
DESCRIPTION:Please contact Robert Taylor for more information.
URL:http://parkerroadcdd.com/calendar/tennis-clinic-10/2030-04-14/
LOCATION:Oakmont Tennis Courts\, 11701 SW 30th Ave\, Gainesville\, FL\, 32608\, United States
CATEGORIES:Classes
ORGANIZER;CN="Robert Taylor":MAILTO:rt4tennis@gmail.com
END:VEVENT
BEGIN:VEVENT
DTSTART;TZID=America/New_York:20300421T090000
DTEND;TZID=America/New_York:20300421T110000
DTSTAMP:20260424T165701
CREATED:20250507T170805Z
LAST-MODIFIED:20260112T205858Z
UID:10003234-1902992400-1902999600@parkerroadcdd.com
SUMMARY:Tennis Clinic
DESCRIPTION:Please contact Robert Taylor for more information.
URL:http://parkerroadcdd.com/calendar/tennis-clinic-10/2030-04-21/
LOCATION:Oakmont Tennis Courts\, 11701 SW 30th Ave\, Gainesville\, FL\, 32608\, United States
CATEGORIES:Classes
ORGANIZER;CN="Robert Taylor":MAILTO:rt4tennis@gmail.com
END:VEVENT
BEGIN:VEVENT
DTSTART;TZID=America/New_York:20300428T090000
DTEND;TZID=America/New_York:20300428T110000
DTSTAMP:20260424T165701
CREATED:20250507T170805Z
LAST-MODIFIED:20260112T205858Z
UID:10003235-1903597200-1903604400@parkerroadcdd.com
SUMMARY:Tennis Clinic
DESCRIPTION:Please contact Robert Taylor for more information.
URL:http://parkerroadcdd.com/calendar/tennis-clinic-10/2030-04-28/
LOCATION:Oakmont Tennis Courts\, 11701 SW 30th Ave\, Gainesville\, FL\, 32608\, United States
CATEGORIES:Classes
ORGANIZER;CN="Robert Taylor":MAILTO:rt4tennis@gmail.com
END:VEVENT
BEGIN:VEVENT
DTSTART;TZID=America/New_York:20300505T090000
DTEND;TZID=America/New_York:20300505T110000
DTSTAMP:20260424T165701
CREATED:20250507T170805Z
LAST-MODIFIED:20260112T205858Z
UID:10003236-1904202000-1904209200@parkerroadcdd.com
SUMMARY:Tennis Clinic
DESCRIPTION:Please contact Robert Taylor for more information.
URL:http://parkerroadcdd.com/calendar/tennis-clinic-10/2030-05-05/
LOCATION:Oakmont Tennis Courts\, 11701 SW 30th Ave\, Gainesville\, FL\, 32608\, United States
CATEGORIES:Classes
ORGANIZER;CN="Robert Taylor":MAILTO:rt4tennis@gmail.com
END:VEVENT
BEGIN:VEVENT
DTSTART;TZID=America/New_York:20300512T090000
DTEND;TZID=America/New_York:20300512T110000
DTSTAMP:20260424T165701
CREATED:20250507T170805Z
LAST-MODIFIED:20260112T205858Z
UID:10003237-1904806800-1904814000@parkerroadcdd.com
SUMMARY:Tennis Clinic
DESCRIPTION:Please contact Robert Taylor for more information.
URL:http://parkerroadcdd.com/calendar/tennis-clinic-10/2030-05-12/
LOCATION:Oakmont Tennis Courts\, 11701 SW 30th Ave\, Gainesville\, FL\, 32608\, United States
CATEGORIES:Classes
ORGANIZER;CN="Robert Taylor":MAILTO:rt4tennis@gmail.com
END:VEVENT
BEGIN:VEVENT
DTSTART;TZID=America/New_York:20300519T090000
DTEND;TZID=America/New_York:20300519T110000
DTSTAMP:20260424T165701
CREATED:20250507T170805Z
LAST-MODIFIED:20260112T205858Z
UID:10003238-1905411600-1905418800@parkerroadcdd.com
SUMMARY:Tennis Clinic
DESCRIPTION:Please contact Robert Taylor for more information.
URL:http://parkerroadcdd.com/calendar/tennis-clinic-10/2030-05-19/
LOCATION:Oakmont Tennis Courts\, 11701 SW 30th Ave\, Gainesville\, FL\, 32608\, United States
CATEGORIES:Classes
ORGANIZER;CN="Robert Taylor":MAILTO:rt4tennis@gmail.com
END:VEVENT
BEGIN:VEVENT
DTSTART;TZID=America/New_York:20300526T090000
DTEND;TZID=America/New_York:20300526T110000
DTSTAMP:20260424T165701
CREATED:20250507T170805Z
LAST-MODIFIED:20260112T205858Z
UID:10003239-1906016400-1906023600@parkerroadcdd.com
SUMMARY:Tennis Clinic
DESCRIPTION:Please contact Robert Taylor for more information.
URL:http://parkerroadcdd.com/calendar/tennis-clinic-10/2030-05-26/
LOCATION:Oakmont Tennis Courts\, 11701 SW 30th Ave\, Gainesville\, FL\, 32608\, United States
CATEGORIES:Classes
ORGANIZER;CN="Robert Taylor":MAILTO:rt4tennis@gmail.com
END:VEVENT
BEGIN:VEVENT
DTSTART;TZID=America/New_York:20300602T090000
DTEND;TZID=America/New_York:20300602T110000
DTSTAMP:20260424T165701
CREATED:20250507T170805Z
LAST-MODIFIED:20260112T205858Z
UID:10003240-1906621200-1906628400@parkerroadcdd.com
SUMMARY:Tennis Clinic
DESCRIPTION:Please contact Robert Taylor for more information.
URL:http://parkerroadcdd.com/calendar/tennis-clinic-10/2030-06-02/
LOCATION:Oakmont Tennis Courts\, 11701 SW 30th Ave\, Gainesville\, FL\, 32608\, United States
CATEGORIES:Classes
ORGANIZER;CN="Robert Taylor":MAILTO:rt4tennis@gmail.com
END:VEVENT
BEGIN:VEVENT
DTSTART;TZID=America/New_York:20300609T090000
DTEND;TZID=America/New_York:20300609T110000
DTSTAMP:20260424T165701
CREATED:20250507T170805Z
LAST-MODIFIED:20260112T205858Z
UID:10003241-1907226000-1907233200@parkerroadcdd.com
SUMMARY:Tennis Clinic
DESCRIPTION:Please contact Robert Taylor for more information.
URL:http://parkerroadcdd.com/calendar/tennis-clinic-10/2030-06-09/
LOCATION:Oakmont Tennis Courts\, 11701 SW 30th Ave\, Gainesville\, FL\, 32608\, United States
CATEGORIES:Classes
ORGANIZER;CN="Robert Taylor":MAILTO:rt4tennis@gmail.com
END:VEVENT
BEGIN:VEVENT
DTSTART;TZID=America/New_York:20300616T090000
DTEND;TZID=America/New_York:20300616T110000
DTSTAMP:20260424T165701
CREATED:20250507T170805Z
LAST-MODIFIED:20260112T205858Z
UID:10003242-1907830800-1907838000@parkerroadcdd.com
SUMMARY:Tennis Clinic
DESCRIPTION:Please contact Robert Taylor for more information.
URL:http://parkerroadcdd.com/calendar/tennis-clinic-10/2030-06-16/
LOCATION:Oakmont Tennis Courts\, 11701 SW 30th Ave\, Gainesville\, FL\, 32608\, United States
CATEGORIES:Classes
ORGANIZER;CN="Robert Taylor":MAILTO:rt4tennis@gmail.com
END:VEVENT
BEGIN:VEVENT
DTSTART;TZID=America/New_York:20300623T090000
DTEND;TZID=America/New_York:20300623T110000
DTSTAMP:20260424T165701
CREATED:20250507T170805Z
LAST-MODIFIED:20260112T205858Z
UID:10003243-1908435600-1908442800@parkerroadcdd.com
SUMMARY:Tennis Clinic
DESCRIPTION:Please contact Robert Taylor for more information.
URL:http://parkerroadcdd.com/calendar/tennis-clinic-10/2030-06-23/
LOCATION:Oakmont Tennis Courts\, 11701 SW 30th Ave\, Gainesville\, FL\, 32608\, United States
CATEGORIES:Classes
ORGANIZER;CN="Robert Taylor":MAILTO:rt4tennis@gmail.com
END:VEVENT
BEGIN:VEVENT
DTSTART;TZID=America/New_York:20300630T090000
DTEND;TZID=America/New_York:20300630T110000
DTSTAMP:20260424T165701
CREATED:20250507T170805Z
LAST-MODIFIED:20260112T205858Z
UID:10003244-1909040400-1909047600@parkerroadcdd.com
SUMMARY:Tennis Clinic
DESCRIPTION:Please contact Robert Taylor for more information.
URL:http://parkerroadcdd.com/calendar/tennis-clinic-10/2030-06-30/
LOCATION:Oakmont Tennis Courts\, 11701 SW 30th Ave\, Gainesville\, FL\, 32608\, United States
CATEGORIES:Classes
ORGANIZER;CN="Robert Taylor":MAILTO:rt4tennis@gmail.com
END:VEVENT
BEGIN:VEVENT
DTSTART;TZID=America/New_York:20300707T090000
DTEND;TZID=America/New_York:20300707T110000
DTSTAMP:20260424T165701
CREATED:20250507T170805Z
LAST-MODIFIED:20260112T205858Z
UID:10003245-1909645200-1909652400@parkerroadcdd.com
SUMMARY:Tennis Clinic
DESCRIPTION:Please contact Robert Taylor for more information.
URL:http://parkerroadcdd.com/calendar/tennis-clinic-10/2030-07-07/
LOCATION:Oakmont Tennis Courts\, 11701 SW 30th Ave\, Gainesville\, FL\, 32608\, United States
CATEGORIES:Classes
ORGANIZER;CN="Robert Taylor":MAILTO:rt4tennis@gmail.com
END:VEVENT
BEGIN:VEVENT
DTSTART;TZID=America/New_York:20300714T090000
DTEND;TZID=America/New_York:20300714T110000
DTSTAMP:20260424T165701
CREATED:20250507T170805Z
LAST-MODIFIED:20260112T205858Z
UID:10003246-1910250000-1910257200@parkerroadcdd.com
SUMMARY:Tennis Clinic
DESCRIPTION:Please contact Robert Taylor for more information.
URL:http://parkerroadcdd.com/calendar/tennis-clinic-10/2030-07-14/
LOCATION:Oakmont Tennis Courts\, 11701 SW 30th Ave\, Gainesville\, FL\, 32608\, United States
CATEGORIES:Classes
ORGANIZER;CN="Robert Taylor":MAILTO:rt4tennis@gmail.com
END:VEVENT
BEGIN:VEVENT
DTSTART;TZID=America/New_York:20300721T090000
DTEND;TZID=America/New_York:20300721T110000
DTSTAMP:20260424T165701
CREATED:20250507T170805Z
LAST-MODIFIED:20260112T205858Z
UID:10003247-1910854800-1910862000@parkerroadcdd.com
SUMMARY:Tennis Clinic
DESCRIPTION:Please contact Robert Taylor for more information.
URL:http://parkerroadcdd.com/calendar/tennis-clinic-10/2030-07-21/
LOCATION:Oakmont Tennis Courts\, 11701 SW 30th Ave\, Gainesville\, FL\, 32608\, United States
CATEGORIES:Classes
ORGANIZER;CN="Robert Taylor":MAILTO:rt4tennis@gmail.com
END:VEVENT
END:VCALENDAR