BEGIN:VCALENDAR
VERSION:2.0
PRODID:-//Parker Road CDD - ECPv6.6.2//NONSGML v1.0//EN
CALSCALE:GREGORIAN
METHOD:PUBLISH
X-WR-CALNAME:Parker Road CDD
X-ORIGINAL-URL:http://parkerroadcdd.com
X-WR-CALDESC:Events for Parker Road CDD
REFRESH-INTERVAL;VALUE=DURATION:PT1H
X-Robots-Tag:noindex
X-PUBLISHED-TTL:PT1H
BEGIN:VTIMEZONE
TZID:America/New_York
BEGIN:DAYLIGHT
TZOFFSETFROM:-0500
TZOFFSETTO:-0400
TZNAME:EDT
DTSTART:20280312T070000
END:DAYLIGHT
BEGIN:STANDARD
TZOFFSETFROM:-0400
TZOFFSETTO:-0500
TZNAME:EST
DTSTART:20281105T060000
END:STANDARD
END:VTIMEZONE
BEGIN:VEVENT
DTSTART;TZID=America/New_York:20280227T090000
DTEND;TZID=America/New_York:20280227T110000
DTSTAMP:20260423T210401
CREATED:20250507T170805Z
LAST-MODIFIED:20260112T205858Z
UID:10003122-1835254800-1835262000@parkerroadcdd.com
SUMMARY:Tennis Clinic
DESCRIPTION:Please contact Robert Taylor for more information.
URL:http://parkerroadcdd.com/calendar/tennis-clinic-10/2028-02-27/
LOCATION:Oakmont Tennis Courts\, 11701 SW 30th Ave\, Gainesville\, FL\, 32608\, United States
CATEGORIES:Classes
ORGANIZER;CN="Robert Taylor":MAILTO:rt4tennis@gmail.com
END:VEVENT
BEGIN:VEVENT
DTSTART;TZID=America/New_York:20280305T090000
DTEND;TZID=America/New_York:20280305T110000
DTSTAMP:20260423T210401
CREATED:20250507T170805Z
LAST-MODIFIED:20260112T205858Z
UID:10003123-1835859600-1835866800@parkerroadcdd.com
SUMMARY:Tennis Clinic
DESCRIPTION:Please contact Robert Taylor for more information.
URL:http://parkerroadcdd.com/calendar/tennis-clinic-10/2028-03-05/
LOCATION:Oakmont Tennis Courts\, 11701 SW 30th Ave\, Gainesville\, FL\, 32608\, United States
CATEGORIES:Classes
ORGANIZER;CN="Robert Taylor":MAILTO:rt4tennis@gmail.com
END:VEVENT
BEGIN:VEVENT
DTSTART;TZID=America/New_York:20280312T090000
DTEND;TZID=America/New_York:20280312T110000
DTSTAMP:20260423T210401
CREATED:20250507T170805Z
LAST-MODIFIED:20260112T205858Z
UID:10003124-1836464400-1836471600@parkerroadcdd.com
SUMMARY:Tennis Clinic
DESCRIPTION:Please contact Robert Taylor for more information.
URL:http://parkerroadcdd.com/calendar/tennis-clinic-10/2028-03-12/
LOCATION:Oakmont Tennis Courts\, 11701 SW 30th Ave\, Gainesville\, FL\, 32608\, United States
CATEGORIES:Classes
ORGANIZER;CN="Robert Taylor":MAILTO:rt4tennis@gmail.com
END:VEVENT
BEGIN:VEVENT
DTSTART;TZID=America/New_York:20280319T090000
DTEND;TZID=America/New_York:20280319T110000
DTSTAMP:20260423T210401
CREATED:20250507T170805Z
LAST-MODIFIED:20260112T205858Z
UID:10003125-1837069200-1837076400@parkerroadcdd.com
SUMMARY:Tennis Clinic
DESCRIPTION:Please contact Robert Taylor for more information.
URL:http://parkerroadcdd.com/calendar/tennis-clinic-10/2028-03-19/
LOCATION:Oakmont Tennis Courts\, 11701 SW 30th Ave\, Gainesville\, FL\, 32608\, United States
CATEGORIES:Classes
ORGANIZER;CN="Robert Taylor":MAILTO:rt4tennis@gmail.com
END:VEVENT
BEGIN:VEVENT
DTSTART;TZID=America/New_York:20280326T090000
DTEND;TZID=America/New_York:20280326T110000
DTSTAMP:20260423T210401
CREATED:20250507T170805Z
LAST-MODIFIED:20260112T205858Z
UID:10003126-1837674000-1837681200@parkerroadcdd.com
SUMMARY:Tennis Clinic
DESCRIPTION:Please contact Robert Taylor for more information.
URL:http://parkerroadcdd.com/calendar/tennis-clinic-10/2028-03-26/
LOCATION:Oakmont Tennis Courts\, 11701 SW 30th Ave\, Gainesville\, FL\, 32608\, United States
CATEGORIES:Classes
ORGANIZER;CN="Robert Taylor":MAILTO:rt4tennis@gmail.com
END:VEVENT
BEGIN:VEVENT
DTSTART;TZID=America/New_York:20280402T090000
DTEND;TZID=America/New_York:20280402T110000
DTSTAMP:20260423T210401
CREATED:20250507T170805Z
LAST-MODIFIED:20260112T205858Z
UID:10003127-1838278800-1838286000@parkerroadcdd.com
SUMMARY:Tennis Clinic
DESCRIPTION:Please contact Robert Taylor for more information.
URL:http://parkerroadcdd.com/calendar/tennis-clinic-10/2028-04-02/
LOCATION:Oakmont Tennis Courts\, 11701 SW 30th Ave\, Gainesville\, FL\, 32608\, United States
CATEGORIES:Classes
ORGANIZER;CN="Robert Taylor":MAILTO:rt4tennis@gmail.com
END:VEVENT
BEGIN:VEVENT
DTSTART;TZID=America/New_York:20280409T090000
DTEND;TZID=America/New_York:20280409T110000
DTSTAMP:20260423T210401
CREATED:20250507T170805Z
LAST-MODIFIED:20260112T205858Z
UID:10003128-1838883600-1838890800@parkerroadcdd.com
SUMMARY:Tennis Clinic
DESCRIPTION:Please contact Robert Taylor for more information.
URL:http://parkerroadcdd.com/calendar/tennis-clinic-10/2028-04-09/
LOCATION:Oakmont Tennis Courts\, 11701 SW 30th Ave\, Gainesville\, FL\, 32608\, United States
CATEGORIES:Classes
ORGANIZER;CN="Robert Taylor":MAILTO:rt4tennis@gmail.com
END:VEVENT
BEGIN:VEVENT
DTSTART;TZID=America/New_York:20280416T090000
DTEND;TZID=America/New_York:20280416T110000
DTSTAMP:20260423T210401
CREATED:20250507T170805Z
LAST-MODIFIED:20260112T205858Z
UID:10003129-1839488400-1839495600@parkerroadcdd.com
SUMMARY:Tennis Clinic
DESCRIPTION:Please contact Robert Taylor for more information.
URL:http://parkerroadcdd.com/calendar/tennis-clinic-10/2028-04-16/
LOCATION:Oakmont Tennis Courts\, 11701 SW 30th Ave\, Gainesville\, FL\, 32608\, United States
CATEGORIES:Classes
ORGANIZER;CN="Robert Taylor":MAILTO:rt4tennis@gmail.com
END:VEVENT
BEGIN:VEVENT
DTSTART;TZID=America/New_York:20280423T090000
DTEND;TZID=America/New_York:20280423T110000
DTSTAMP:20260423T210401
CREATED:20250507T170805Z
LAST-MODIFIED:20260112T205858Z
UID:10003130-1840093200-1840100400@parkerroadcdd.com
SUMMARY:Tennis Clinic
DESCRIPTION:Please contact Robert Taylor for more information.
URL:http://parkerroadcdd.com/calendar/tennis-clinic-10/2028-04-23/
LOCATION:Oakmont Tennis Courts\, 11701 SW 30th Ave\, Gainesville\, FL\, 32608\, United States
CATEGORIES:Classes
ORGANIZER;CN="Robert Taylor":MAILTO:rt4tennis@gmail.com
END:VEVENT
BEGIN:VEVENT
DTSTART;TZID=America/New_York:20280430T090000
DTEND;TZID=America/New_York:20280430T110000
DTSTAMP:20260423T210401
CREATED:20250507T170805Z
LAST-MODIFIED:20260112T205858Z
UID:10003131-1840698000-1840705200@parkerroadcdd.com
SUMMARY:Tennis Clinic
DESCRIPTION:Please contact Robert Taylor for more information.
URL:http://parkerroadcdd.com/calendar/tennis-clinic-10/2028-04-30/
LOCATION:Oakmont Tennis Courts\, 11701 SW 30th Ave\, Gainesville\, FL\, 32608\, United States
CATEGORIES:Classes
ORGANIZER;CN="Robert Taylor":MAILTO:rt4tennis@gmail.com
END:VEVENT
BEGIN:VEVENT
DTSTART;TZID=America/New_York:20280507T090000
DTEND;TZID=America/New_York:20280507T110000
DTSTAMP:20260423T210401
CREATED:20250507T170805Z
LAST-MODIFIED:20260112T205858Z
UID:10003132-1841302800-1841310000@parkerroadcdd.com
SUMMARY:Tennis Clinic
DESCRIPTION:Please contact Robert Taylor for more information.
URL:http://parkerroadcdd.com/calendar/tennis-clinic-10/2028-05-07/
LOCATION:Oakmont Tennis Courts\, 11701 SW 30th Ave\, Gainesville\, FL\, 32608\, United States
CATEGORIES:Classes
ORGANIZER;CN="Robert Taylor":MAILTO:rt4tennis@gmail.com
END:VEVENT
BEGIN:VEVENT
DTSTART;TZID=America/New_York:20280514T090000
DTEND;TZID=America/New_York:20280514T110000
DTSTAMP:20260423T210401
CREATED:20250507T170805Z
LAST-MODIFIED:20260112T205858Z
UID:10003133-1841907600-1841914800@parkerroadcdd.com
SUMMARY:Tennis Clinic
DESCRIPTION:Please contact Robert Taylor for more information.
URL:http://parkerroadcdd.com/calendar/tennis-clinic-10/2028-05-14/
LOCATION:Oakmont Tennis Courts\, 11701 SW 30th Ave\, Gainesville\, FL\, 32608\, United States
CATEGORIES:Classes
ORGANIZER;CN="Robert Taylor":MAILTO:rt4tennis@gmail.com
END:VEVENT
BEGIN:VEVENT
DTSTART;TZID=America/New_York:20280521T090000
DTEND;TZID=America/New_York:20280521T110000
DTSTAMP:20260423T210401
CREATED:20250507T170805Z
LAST-MODIFIED:20260112T205858Z
UID:10003134-1842512400-1842519600@parkerroadcdd.com
SUMMARY:Tennis Clinic
DESCRIPTION:Please contact Robert Taylor for more information.
URL:http://parkerroadcdd.com/calendar/tennis-clinic-10/2028-05-21/
LOCATION:Oakmont Tennis Courts\, 11701 SW 30th Ave\, Gainesville\, FL\, 32608\, United States
CATEGORIES:Classes
ORGANIZER;CN="Robert Taylor":MAILTO:rt4tennis@gmail.com
END:VEVENT
BEGIN:VEVENT
DTSTART;TZID=America/New_York:20280528T090000
DTEND;TZID=America/New_York:20280528T110000
DTSTAMP:20260423T210401
CREATED:20250507T170805Z
LAST-MODIFIED:20260112T205858Z
UID:10003135-1843117200-1843124400@parkerroadcdd.com
SUMMARY:Tennis Clinic
DESCRIPTION:Please contact Robert Taylor for more information.
URL:http://parkerroadcdd.com/calendar/tennis-clinic-10/2028-05-28/
LOCATION:Oakmont Tennis Courts\, 11701 SW 30th Ave\, Gainesville\, FL\, 32608\, United States
CATEGORIES:Classes
ORGANIZER;CN="Robert Taylor":MAILTO:rt4tennis@gmail.com
END:VEVENT
BEGIN:VEVENT
DTSTART;TZID=America/New_York:20280604T090000
DTEND;TZID=America/New_York:20280604T110000
DTSTAMP:20260423T210401
CREATED:20250507T170805Z
LAST-MODIFIED:20260112T205858Z
UID:10003136-1843722000-1843729200@parkerroadcdd.com
SUMMARY:Tennis Clinic
DESCRIPTION:Please contact Robert Taylor for more information.
URL:http://parkerroadcdd.com/calendar/tennis-clinic-10/2028-06-04/
LOCATION:Oakmont Tennis Courts\, 11701 SW 30th Ave\, Gainesville\, FL\, 32608\, United States
CATEGORIES:Classes
ORGANIZER;CN="Robert Taylor":MAILTO:rt4tennis@gmail.com
END:VEVENT
BEGIN:VEVENT
DTSTART;TZID=America/New_York:20280611T090000
DTEND;TZID=America/New_York:20280611T110000
DTSTAMP:20260423T210401
CREATED:20250507T170805Z
LAST-MODIFIED:20260112T205858Z
UID:10003137-1844326800-1844334000@parkerroadcdd.com
SUMMARY:Tennis Clinic
DESCRIPTION:Please contact Robert Taylor for more information.
URL:http://parkerroadcdd.com/calendar/tennis-clinic-10/2028-06-11/
LOCATION:Oakmont Tennis Courts\, 11701 SW 30th Ave\, Gainesville\, FL\, 32608\, United States
CATEGORIES:Classes
ORGANIZER;CN="Robert Taylor":MAILTO:rt4tennis@gmail.com
END:VEVENT
BEGIN:VEVENT
DTSTART;TZID=America/New_York:20280618T090000
DTEND;TZID=America/New_York:20280618T110000
DTSTAMP:20260423T210401
CREATED:20250507T170805Z
LAST-MODIFIED:20260112T205858Z
UID:10003138-1844931600-1844938800@parkerroadcdd.com
SUMMARY:Tennis Clinic
DESCRIPTION:Please contact Robert Taylor for more information.
URL:http://parkerroadcdd.com/calendar/tennis-clinic-10/2028-06-18/
LOCATION:Oakmont Tennis Courts\, 11701 SW 30th Ave\, Gainesville\, FL\, 32608\, United States
CATEGORIES:Classes
ORGANIZER;CN="Robert Taylor":MAILTO:rt4tennis@gmail.com
END:VEVENT
BEGIN:VEVENT
DTSTART;TZID=America/New_York:20280625T090000
DTEND;TZID=America/New_York:20280625T110000
DTSTAMP:20260423T210401
CREATED:20250507T170805Z
LAST-MODIFIED:20260112T205858Z
UID:10003139-1845536400-1845543600@parkerroadcdd.com
SUMMARY:Tennis Clinic
DESCRIPTION:Please contact Robert Taylor for more information.
URL:http://parkerroadcdd.com/calendar/tennis-clinic-10/2028-06-25/
LOCATION:Oakmont Tennis Courts\, 11701 SW 30th Ave\, Gainesville\, FL\, 32608\, United States
CATEGORIES:Classes
ORGANIZER;CN="Robert Taylor":MAILTO:rt4tennis@gmail.com
END:VEVENT
BEGIN:VEVENT
DTSTART;TZID=America/New_York:20280702T090000
DTEND;TZID=America/New_York:20280702T110000
DTSTAMP:20260423T210401
CREATED:20250507T170805Z
LAST-MODIFIED:20260112T205858Z
UID:10003140-1846141200-1846148400@parkerroadcdd.com
SUMMARY:Tennis Clinic
DESCRIPTION:Please contact Robert Taylor for more information.
URL:http://parkerroadcdd.com/calendar/tennis-clinic-10/2028-07-02/
LOCATION:Oakmont Tennis Courts\, 11701 SW 30th Ave\, Gainesville\, FL\, 32608\, United States
CATEGORIES:Classes
ORGANIZER;CN="Robert Taylor":MAILTO:rt4tennis@gmail.com
END:VEVENT
BEGIN:VEVENT
DTSTART;TZID=America/New_York:20280709T090000
DTEND;TZID=America/New_York:20280709T110000
DTSTAMP:20260423T210401
CREATED:20250507T170805Z
LAST-MODIFIED:20260112T205858Z
UID:10003141-1846746000-1846753200@parkerroadcdd.com
SUMMARY:Tennis Clinic
DESCRIPTION:Please contact Robert Taylor for more information.
URL:http://parkerroadcdd.com/calendar/tennis-clinic-10/2028-07-09/
LOCATION:Oakmont Tennis Courts\, 11701 SW 30th Ave\, Gainesville\, FL\, 32608\, United States
CATEGORIES:Classes
ORGANIZER;CN="Robert Taylor":MAILTO:rt4tennis@gmail.com
END:VEVENT
BEGIN:VEVENT
DTSTART;TZID=America/New_York:20280716T090000
DTEND;TZID=America/New_York:20280716T110000
DTSTAMP:20260423T210401
CREATED:20250507T170805Z
LAST-MODIFIED:20260112T205858Z
UID:10003142-1847350800-1847358000@parkerroadcdd.com
SUMMARY:Tennis Clinic
DESCRIPTION:Please contact Robert Taylor for more information.
URL:http://parkerroadcdd.com/calendar/tennis-clinic-10/2028-07-16/
LOCATION:Oakmont Tennis Courts\, 11701 SW 30th Ave\, Gainesville\, FL\, 32608\, United States
CATEGORIES:Classes
ORGANIZER;CN="Robert Taylor":MAILTO:rt4tennis@gmail.com
END:VEVENT
BEGIN:VEVENT
DTSTART;TZID=America/New_York:20280723T090000
DTEND;TZID=America/New_York:20280723T110000
DTSTAMP:20260423T210401
CREATED:20250507T170805Z
LAST-MODIFIED:20260112T205858Z
UID:10003143-1847955600-1847962800@parkerroadcdd.com
SUMMARY:Tennis Clinic
DESCRIPTION:Please contact Robert Taylor for more information.
URL:http://parkerroadcdd.com/calendar/tennis-clinic-10/2028-07-23/
LOCATION:Oakmont Tennis Courts\, 11701 SW 30th Ave\, Gainesville\, FL\, 32608\, United States
CATEGORIES:Classes
ORGANIZER;CN="Robert Taylor":MAILTO:rt4tennis@gmail.com
END:VEVENT
BEGIN:VEVENT
DTSTART;TZID=America/New_York:20280730T090000
DTEND;TZID=America/New_York:20280730T110000
DTSTAMP:20260423T210401
CREATED:20250507T170805Z
LAST-MODIFIED:20260112T205858Z
UID:10003144-1848560400-1848567600@parkerroadcdd.com
SUMMARY:Tennis Clinic
DESCRIPTION:Please contact Robert Taylor for more information.
URL:http://parkerroadcdd.com/calendar/tennis-clinic-10/2028-07-30/
LOCATION:Oakmont Tennis Courts\, 11701 SW 30th Ave\, Gainesville\, FL\, 32608\, United States
CATEGORIES:Classes
ORGANIZER;CN="Robert Taylor":MAILTO:rt4tennis@gmail.com
END:VEVENT
BEGIN:VEVENT
DTSTART;TZID=America/New_York:20280806T090000
DTEND;TZID=America/New_York:20280806T110000
DTSTAMP:20260423T210401
CREATED:20250507T170805Z
LAST-MODIFIED:20260112T205858Z
UID:10003145-1849165200-1849172400@parkerroadcdd.com
SUMMARY:Tennis Clinic
DESCRIPTION:Please contact Robert Taylor for more information.
URL:http://parkerroadcdd.com/calendar/tennis-clinic-10/2028-08-06/
LOCATION:Oakmont Tennis Courts\, 11701 SW 30th Ave\, Gainesville\, FL\, 32608\, United States
CATEGORIES:Classes
ORGANIZER;CN="Robert Taylor":MAILTO:rt4tennis@gmail.com
END:VEVENT
BEGIN:VEVENT
DTSTART;TZID=America/New_York:20280813T090000
DTEND;TZID=America/New_York:20280813T110000
DTSTAMP:20260423T210401
CREATED:20250507T170805Z
LAST-MODIFIED:20260112T205858Z
UID:10003146-1849770000-1849777200@parkerroadcdd.com
SUMMARY:Tennis Clinic
DESCRIPTION:Please contact Robert Taylor for more information.
URL:http://parkerroadcdd.com/calendar/tennis-clinic-10/2028-08-13/
LOCATION:Oakmont Tennis Courts\, 11701 SW 30th Ave\, Gainesville\, FL\, 32608\, United States
CATEGORIES:Classes
ORGANIZER;CN="Robert Taylor":MAILTO:rt4tennis@gmail.com
END:VEVENT
BEGIN:VEVENT
DTSTART;TZID=America/New_York:20280820T090000
DTEND;TZID=America/New_York:20280820T110000
DTSTAMP:20260423T210401
CREATED:20250507T170805Z
LAST-MODIFIED:20260112T205858Z
UID:10003147-1850374800-1850382000@parkerroadcdd.com
SUMMARY:Tennis Clinic
DESCRIPTION:Please contact Robert Taylor for more information.
URL:http://parkerroadcdd.com/calendar/tennis-clinic-10/2028-08-20/
LOCATION:Oakmont Tennis Courts\, 11701 SW 30th Ave\, Gainesville\, FL\, 32608\, United States
CATEGORIES:Classes
ORGANIZER;CN="Robert Taylor":MAILTO:rt4tennis@gmail.com
END:VEVENT
BEGIN:VEVENT
DTSTART;TZID=America/New_York:20280827T090000
DTEND;TZID=America/New_York:20280827T110000
DTSTAMP:20260423T210401
CREATED:20250507T170805Z
LAST-MODIFIED:20260112T205858Z
UID:10003148-1850979600-1850986800@parkerroadcdd.com
SUMMARY:Tennis Clinic
DESCRIPTION:Please contact Robert Taylor for more information.
URL:http://parkerroadcdd.com/calendar/tennis-clinic-10/2028-08-27/
LOCATION:Oakmont Tennis Courts\, 11701 SW 30th Ave\, Gainesville\, FL\, 32608\, United States
CATEGORIES:Classes
ORGANIZER;CN="Robert Taylor":MAILTO:rt4tennis@gmail.com
END:VEVENT
BEGIN:VEVENT
DTSTART;TZID=America/New_York:20280903T090000
DTEND;TZID=America/New_York:20280903T110000
DTSTAMP:20260423T210401
CREATED:20250507T170805Z
LAST-MODIFIED:20260112T205858Z
UID:10003149-1851584400-1851591600@parkerroadcdd.com
SUMMARY:Tennis Clinic
DESCRIPTION:Please contact Robert Taylor for more information.
URL:http://parkerroadcdd.com/calendar/tennis-clinic-10/2028-09-03/
LOCATION:Oakmont Tennis Courts\, 11701 SW 30th Ave\, Gainesville\, FL\, 32608\, United States
CATEGORIES:Classes
ORGANIZER;CN="Robert Taylor":MAILTO:rt4tennis@gmail.com
END:VEVENT
BEGIN:VEVENT
DTSTART;TZID=America/New_York:20280910T090000
DTEND;TZID=America/New_York:20280910T110000
DTSTAMP:20260423T210401
CREATED:20250507T170805Z
LAST-MODIFIED:20260112T205858Z
UID:10003150-1852189200-1852196400@parkerroadcdd.com
SUMMARY:Tennis Clinic
DESCRIPTION:Please contact Robert Taylor for more information.
URL:http://parkerroadcdd.com/calendar/tennis-clinic-10/2028-09-10/
LOCATION:Oakmont Tennis Courts\, 11701 SW 30th Ave\, Gainesville\, FL\, 32608\, United States
CATEGORIES:Classes
ORGANIZER;CN="Robert Taylor":MAILTO:rt4tennis@gmail.com
END:VEVENT
BEGIN:VEVENT
DTSTART;TZID=America/New_York:20280917T090000
DTEND;TZID=America/New_York:20280917T110000
DTSTAMP:20260423T210401
CREATED:20250507T170805Z
LAST-MODIFIED:20260112T205858Z
UID:10003151-1852794000-1852801200@parkerroadcdd.com
SUMMARY:Tennis Clinic
DESCRIPTION:Please contact Robert Taylor for more information.
URL:http://parkerroadcdd.com/calendar/tennis-clinic-10/2028-09-17/
LOCATION:Oakmont Tennis Courts\, 11701 SW 30th Ave\, Gainesville\, FL\, 32608\, United States
CATEGORIES:Classes
ORGANIZER;CN="Robert Taylor":MAILTO:rt4tennis@gmail.com
END:VEVENT
END:VCALENDAR