BEGIN:VCALENDAR
VERSION:2.0
PRODID:-//Parker Road CDD - ECPv6.6.2//NONSGML v1.0//EN
CALSCALE:GREGORIAN
METHOD:PUBLISH
X-WR-CALNAME:Parker Road CDD
X-ORIGINAL-URL:http://parkerroadcdd.com
X-WR-CALDESC:Events for Parker Road CDD
REFRESH-INTERVAL;VALUE=DURATION:PT1H
X-Robots-Tag:noindex
X-PUBLISHED-TTL:PT1H
BEGIN:VTIMEZONE
TZID:America/New_York
BEGIN:DAYLIGHT
TZOFFSETFROM:-0500
TZOFFSETTO:-0400
TZNAME:EDT
DTSTART:20250309T070000
END:DAYLIGHT
BEGIN:STANDARD
TZOFFSETFROM:-0400
TZOFFSETTO:-0500
TZNAME:EST
DTSTART:20251102T060000
END:STANDARD
BEGIN:DAYLIGHT
TZOFFSETFROM:-0500
TZOFFSETTO:-0400
TZNAME:EDT
DTSTART:20260308T070000
END:DAYLIGHT
BEGIN:STANDARD
TZOFFSETFROM:-0400
TZOFFSETTO:-0500
TZNAME:EST
DTSTART:20261101T060000
END:STANDARD
END:VTIMEZONE
BEGIN:VEVENT
DTSTART;TZID=America/New_York:20260328T110000
DTEND;TZID=America/New_York:20260328T130000
DTSTAMP:20260424T122648
CREATED:20250917T173758Z
LAST-MODIFIED:20251105T151513Z
UID:10002233-1774695600-1774702800@parkerroadcdd.com
SUMMARY:Oakmont Spring Festival
DESCRIPTION:
URL:http://parkerroadcdd.com/calendar/spring-festival/
LOCATION:Oakmont Event Lawn\, 11701 SW 30th Ave\, Gainesville\, Florida\, 32608
CATEGORIES:Community Event
ORGANIZER;CN="Alisa McGowan":MAILTO:acmcgowan@bermancorp.com
END:VEVENT
BEGIN:VEVENT
DTSTART;TZID=America/New_York:20260315T090000
DTEND;TZID=America/New_York:20260315T150000
DTSTAMP:20260424T122648
CREATED:20260303T190359Z
LAST-MODIFIED:20260305T201847Z
UID:10003341-1773565200-1773586800@parkerroadcdd.com
SUMMARY:Private Pavilion Event
DESCRIPTION:Confirmed
URL:http://parkerroadcdd.com/calendar/hold-private-pavilion-event-3/
LOCATION:Oakmont Event Lawn\, 11701 SW 30th Ave\, Gainesville\, Florida\, 32608
END:VEVENT
BEGIN:VEVENT
DTSTART;TZID=America/New_York:20251212T183000
DTEND;TZID=America/New_York:20251212T203000
DTSTAMP:20260424T122648
CREATED:20250820T163147Z
LAST-MODIFIED:20251118T212937Z
UID:10002207-1765564200-1765571400@parkerroadcdd.com
SUMMARY:Family Movie Night
DESCRIPTION:Christmas Movie  “Elf”
URL:http://parkerroadcdd.com/calendar/family-movie-night-5/
LOCATION:Oakmont Event Lawn\, 11701 SW 30th Ave\, Gainesville\, Florida\, 32608
CATEGORIES:Community Event
END:VEVENT
BEGIN:VEVENT
DTSTART;TZID=America/New_York:20251025T110000
DTEND;TZID=America/New_York:20251025T130000
DTSTAMP:20260424T122648
CREATED:20250428T151531Z
LAST-MODIFIED:20250428T180453Z
UID:10000731-1761390000-1761397200@parkerroadcdd.com
SUMMARY:Halloween Fall Festival
DESCRIPTION:
URL:http://parkerroadcdd.com/calendar/halloween-fall-festival/
LOCATION:Oakmont Event Lawn\, 11701 SW 30th Ave\, Gainesville\, Florida\, 32608
CATEGORIES:Community Event
ORGANIZER;CN="Alisa McGowan":MAILTO:acmcgowan@bermancorp.com
END:VEVENT
BEGIN:VEVENT
DTSTART;TZID=America/New_York:20251005T140000
DTEND;TZID=America/New_York:20251005T153000
DTSTAMP:20260424T122648
CREATED:20250715T173533Z
LAST-MODIFIED:20250715T180549Z
UID:10001604-1759672800-1759678200@parkerroadcdd.com
SUMMARY:The Undercovers Show Matinee
DESCRIPTION:Oakmont and ICI Present\nThe Undercovers: Rogers\, Richie & Robinson ShowSunday Matinee | October 5\, 2025 at 2:00 PMLocation: Oakmont – Front Event Lawn \nGet ready for a soulful afternoon of legendary music with The Undercovers – a dynamic trio of world-class vocalists and musicians celebrating the timeless hits of Kenny Rogers\, Lionel Richie\, and Smokey Robinson. \nBring your chairs\, blankets\, and dancing shoes – this is a family-friendly matinee you won’t want to miss.Please invite your family and friends too! \nTickets are on sale now!Press the button below to order your tickets.Cash\, check\, or money order accepted. \nCheck out their performance:\nhttps://www.youtube.com/watch?v=ccYyCe7uuCY
URL:http://parkerroadcdd.com/calendar/the-undercovers-show-matinee/
LOCATION:Oakmont Event Lawn\, 11701 SW 30th Ave\, Gainesville\, Florida\, 32608
CATEGORIES:Community Event
ORGANIZER;CN="Alisa McGowan":MAILTO:acmcgowan@bermancorp.com
END:VEVENT
BEGIN:VEVENT
DTSTART;TZID=America/New_York:20250927T090000
DTEND;TZID=America/New_York:20250927T150000
DTSTAMP:20260424T122648
CREATED:20250821T201405Z
LAST-MODIFIED:20250821T201405Z
UID:10002211-1758963600-1758985200@parkerroadcdd.com
SUMMARY:Fall Community Yard Sale
DESCRIPTION:Don’t miss this exciting community event—come explore\, shop\, relax\, and connect \n🌟 Oakmont Fall Community Yard Sale! 🌟📅 Saturday\, September 27 | 9 AM – 3 PM📍 Amenity Center Front Lawn \nShop for art\, clothing\, kitchen gadgets\, furniture\, and more! Plus\, enjoy:🩸 OneBlood Blood Drive💆‍♀️ Chair Massages & Energy Healing🧘‍♂️ Yoga & Stretching Sessions🐶 Puppy Hill Farm Adoption Event🍴 Food Trucks with Snacks
URL:http://parkerroadcdd.com/calendar/fall-community-yard-sale/
LOCATION:Oakmont Event Lawn\, 11701 SW 30th Ave\, Gainesville\, Florida\, 32608
CATEGORIES:Community Event
ORGANIZER;CN="Alisa McGowan":MAILTO:acmcgowan@bermancorp.com
END:VEVENT
BEGIN:VEVENT
DTSTART;TZID=America/New_York:20250927T090000
DTEND;TZID=America/New_York:20250927T150000
DTSTAMP:20260424T122648
CREATED:20250603T204723Z
LAST-MODIFIED:20250604T141522Z
UID:10001302-1758963600-1758985200@parkerroadcdd.com
SUMMARY:Blood Drive
DESCRIPTION:One Blood
URL:http://parkerroadcdd.com/calendar/blood-drive/
LOCATION:Oakmont Event Lawn\, 11701 SW 30th Ave\, Gainesville\, Florida\, 32608
ORGANIZER;CN="Alisa McGowan":MAILTO:acmcgowan@bermancorp.com
END:VEVENT
BEGIN:VEVENT
DTSTART;TZID=America/New_York:20250503T090000
DTEND;TZID=America/New_York:20250503T120000
DTSTAMP:20260424T122648
CREATED:20250321T180000Z
LAST-MODIFIED:20250321T183711Z
UID:10000582-1746262800-1746273600@parkerroadcdd.com
SUMMARY:Oakmont Spring Yard Sale
DESCRIPTION:TBD
URL:http://parkerroadcdd.com/calendar/oakmont-spring-yard-sale/
LOCATION:Oakmont Event Lawn\, 11701 SW 30th Ave\, Gainesville\, Florida\, 32608
ORGANIZER;CN="Alisa McGowan":MAILTO:acmcgowan@bermancorp.com
END:VEVENT
BEGIN:VEVENT
DTSTART;TZID=America/New_York:20250412T110000
DTEND;TZID=America/New_York:20250412T130000
DTSTAMP:20260424T122648
CREATED:20250210T183312Z
LAST-MODIFIED:20250314T182636Z
UID:10000121-1744455600-1744462800@parkerroadcdd.com
SUMMARY:Oakmont Spring Festival
DESCRIPTION:
URL:http://parkerroadcdd.com/calendar/easter-egg-hunt-spring-festival/
LOCATION:Oakmont Event Lawn\, 11701 SW 30th Ave\, Gainesville\, Florida\, 32608
CATEGORIES:General
ORGANIZER;CN="Alisa McGowan":MAILTO:acmcgowan@bermancorp.com
END:VEVENT
BEGIN:VEVENT
DTSTART;TZID=America/New_York:20250225T130000
DTEND;TZID=America/New_York:20250225T143000
DTSTAMP:20260424T122648
CREATED:20250204T215401Z
LAST-MODIFIED:20250204T220643Z
UID:10000078-1740488400-1740493800@parkerroadcdd.com
SUMMARY:The Jersey Tenors Rain Date
DESCRIPTION:
URL:http://parkerroadcdd.com/calendar/the-jersey-tenors-rain-date/
LOCATION:Oakmont Event Lawn\, 11701 SW 30th Ave\, Gainesville\, Florida\, 32608
CATEGORIES:General
ORGANIZER;CN="Alisa McGowan":MAILTO:acmcgowan@bermancorp.com
END:VEVENT
BEGIN:VEVENT
DTSTART;TZID=America/New_York:20250223T130000
DTEND;TZID=America/New_York:20250223T143000
DTSTAMP:20260424T122648
CREATED:20250204T214415Z
LAST-MODIFIED:20250204T220841Z
UID:10000075-1740315600-1740321000@parkerroadcdd.com
SUMMARY:The Jersey Tenors Show-EL
DESCRIPTION:Hey there\, Oakmont community!\nGet ready for an amazing afternoon of music and fun featuring The Jersey Tenors!\nThey have been touted as the nation’s most talented and versatile tribute act. \nWe’re thrilled to let you know that our General Admission tickets are available for purchase. Oakmont residents\, along with their family and friends\, are warmly invited to join us. The event date is fast approaching\, and we’d love to see more of you there! Grab your tickets now and join us for a fun time! \nEmail Alisa @ amcmgowan@lelandmanagement.com to purchase tickets. The Oakmont Office is your go-to place for ticket collection\, and we accept checks\, money orders\, or cash. With tickets at a mere $25 and free entry for kids aged 0-17\, it’s an opportunity you wouldn’t want to miss. \nCome see the iconic group perform live on February 23rd at 1 PM on the Oakmont Event Lawn!\nExpect a fun-filled\, music-rich\, family-friendly show! Don’t forget to bring a cozy blanket or lawn chair for your comfort. \nAnd remember\, our Oakmont Office is open from\n9 am – 12 pm and 1 pm – 5 pm\, Monday through Friday\, to assist you further.
URL:http://parkerroadcdd.com/calendar/jersey-tenors-show-el/
LOCATION:Oakmont Event Lawn\, 11701 SW 30th Ave\, Gainesville\, Florida\, 32608
CATEGORIES:General
ORGANIZER;CN="Alisa McGowan":MAILTO:acmcgowan@bermancorp.com
END:VEVENT
END:VCALENDAR