BEGIN:VCALENDAR
VERSION:2.0
PRODID:-//Parker Road CDD - ECPv6.6.2//NONSGML v1.0//EN
CALSCALE:GREGORIAN
METHOD:PUBLISH
X-WR-CALNAME:Parker Road CDD
X-ORIGINAL-URL:http://parkerroadcdd.com
X-WR-CALDESC:Events for Parker Road CDD
REFRESH-INTERVAL;VALUE=DURATION:PT1H
X-Robots-Tag:noindex
X-PUBLISHED-TTL:PT1H
BEGIN:VTIMEZONE
TZID:America/New_York
BEGIN:DAYLIGHT
TZOFFSETFROM:-0500
TZOFFSETTO:-0400
TZNAME:EDT
DTSTART:20250309T070000
END:DAYLIGHT
BEGIN:STANDARD
TZOFFSETFROM:-0400
TZOFFSETTO:-0500
TZNAME:EST
DTSTART:20251102T060000
END:STANDARD
BEGIN:DAYLIGHT
TZOFFSETFROM:-0500
TZOFFSETTO:-0400
TZNAME:EDT
DTSTART:20260308T070000
END:DAYLIGHT
BEGIN:STANDARD
TZOFFSETFROM:-0400
TZOFFSETTO:-0500
TZNAME:EST
DTSTART:20261101T060000
END:STANDARD
END:VTIMEZONE
BEGIN:VEVENT
DTSTART;TZID=America/New_York:20260118T090000
DTEND;TZID=America/New_York:20260118T110000
DTSTAMP:20260422T223618
CREATED:20250507T170805Z
LAST-MODIFIED:20260112T205858Z
UID:10003012-1768726800-1768734000@parkerroadcdd.com
SUMMARY:Tennis Clinic
DESCRIPTION:Please contact Robert Taylor for more information.
URL:http://parkerroadcdd.com/calendar/tennis-clinic-10/2026-01-18/
LOCATION:Oakmont Tennis Courts\, 11701 SW 30th Ave\, Gainesville\, FL\, 32608\, United States
CATEGORIES:Classes
ORGANIZER;CN="Robert Taylor":MAILTO:rt4tennis@gmail.com
END:VEVENT
BEGIN:VEVENT
DTSTART;TZID=America/New_York:20260111T090000
DTEND;TZID=America/New_York:20260111T110000
DTSTAMP:20260422T223618
CREATED:20250507T170805Z
LAST-MODIFIED:20260112T205858Z
UID:10003011-1768122000-1768129200@parkerroadcdd.com
SUMMARY:Tennis Clinic
DESCRIPTION:Please contact Robert Taylor for more information.
URL:http://parkerroadcdd.com/calendar/tennis-clinic-10/2026-01-11/
LOCATION:Oakmont Tennis Courts\, 11701 SW 30th Ave\, Gainesville\, FL\, 32608\, United States
CATEGORIES:Classes
ORGANIZER;CN="Robert Taylor":MAILTO:rt4tennis@gmail.com
END:VEVENT
BEGIN:VEVENT
DTSTART;TZID=America/New_York:20260104T090000
DTEND;TZID=America/New_York:20260104T110000
DTSTAMP:20260422T223618
CREATED:20250507T170805Z
LAST-MODIFIED:20260112T205858Z
UID:10003010-1767517200-1767524400@parkerroadcdd.com
SUMMARY:Tennis Clinic
DESCRIPTION:Please contact Robert Taylor for more information.
URL:http://parkerroadcdd.com/calendar/tennis-clinic-10/2026-01-04/
LOCATION:Oakmont Tennis Courts\, 11701 SW 30th Ave\, Gainesville\, FL\, 32608\, United States
CATEGORIES:Classes
ORGANIZER;CN="Robert Taylor":MAILTO:rt4tennis@gmail.com
END:VEVENT
BEGIN:VEVENT
DTSTART;TZID=America/New_York:20251228T090000
DTEND;TZID=America/New_York:20251228T110000
DTSTAMP:20260422T223618
CREATED:20250507T170805Z
LAST-MODIFIED:20260112T205858Z
UID:10003009-1766912400-1766919600@parkerroadcdd.com
SUMMARY:Tennis Clinic
DESCRIPTION:Please contact Robert Taylor for more information.
URL:http://parkerroadcdd.com/calendar/tennis-clinic-10/2025-12-28/
LOCATION:Oakmont Tennis Courts\, 11701 SW 30th Ave\, Gainesville\, FL\, 32608\, United States
CATEGORIES:Classes
ORGANIZER;CN="Robert Taylor":MAILTO:rt4tennis@gmail.com
END:VEVENT
BEGIN:VEVENT
DTSTART;TZID=America/New_York:20251221T090000
DTEND;TZID=America/New_York:20251221T110000
DTSTAMP:20260422T223618
CREATED:20250507T170805Z
LAST-MODIFIED:20260112T205858Z
UID:10003008-1766307600-1766314800@parkerroadcdd.com
SUMMARY:Tennis Clinic
DESCRIPTION:Please contact Robert Taylor for more information.
URL:http://parkerroadcdd.com/calendar/tennis-clinic-10/2025-12-21/
LOCATION:Oakmont Tennis Courts\, 11701 SW 30th Ave\, Gainesville\, FL\, 32608\, United States
CATEGORIES:Classes
ORGANIZER;CN="Robert Taylor":MAILTO:rt4tennis@gmail.com
END:VEVENT
BEGIN:VEVENT
DTSTART;TZID=America/New_York:20251214T090000
DTEND;TZID=America/New_York:20251214T110000
DTSTAMP:20260422T223618
CREATED:20250507T170805Z
LAST-MODIFIED:20260112T205858Z
UID:10003007-1765702800-1765710000@parkerroadcdd.com
SUMMARY:Tennis Clinic
DESCRIPTION:Please contact Robert Taylor for more information.
URL:http://parkerroadcdd.com/calendar/tennis-clinic-10/2025-12-14/
LOCATION:Oakmont Tennis Courts\, 11701 SW 30th Ave\, Gainesville\, FL\, 32608\, United States
CATEGORIES:Classes
ORGANIZER;CN="Robert Taylor":MAILTO:rt4tennis@gmail.com
END:VEVENT
BEGIN:VEVENT
DTSTART;TZID=America/New_York:20251207T090000
DTEND;TZID=America/New_York:20251207T110000
DTSTAMP:20260422T223618
CREATED:20250507T170805Z
LAST-MODIFIED:20260112T205858Z
UID:10003006-1765098000-1765105200@parkerroadcdd.com
SUMMARY:Tennis Clinic
DESCRIPTION:Please contact Robert Taylor for more information.
URL:http://parkerroadcdd.com/calendar/tennis-clinic-10/2025-12-07/
LOCATION:Oakmont Tennis Courts\, 11701 SW 30th Ave\, Gainesville\, FL\, 32608\, United States
CATEGORIES:Classes
ORGANIZER;CN="Robert Taylor":MAILTO:rt4tennis@gmail.com
END:VEVENT
BEGIN:VEVENT
DTSTART;TZID=America/New_York:20251130T090000
DTEND;TZID=America/New_York:20251130T110000
DTSTAMP:20260422T223618
CREATED:20250507T170805Z
LAST-MODIFIED:20260112T205858Z
UID:10003005-1764493200-1764500400@parkerroadcdd.com
SUMMARY:Tennis Clinic
DESCRIPTION:Please contact Robert Taylor for more information.
URL:http://parkerroadcdd.com/calendar/tennis-clinic-10/2025-11-30/
LOCATION:Oakmont Tennis Courts\, 11701 SW 30th Ave\, Gainesville\, FL\, 32608\, United States
CATEGORIES:Classes
ORGANIZER;CN="Robert Taylor":MAILTO:rt4tennis@gmail.com
END:VEVENT
BEGIN:VEVENT
DTSTART;TZID=America/New_York:20251123T090000
DTEND;TZID=America/New_York:20251123T110000
DTSTAMP:20260422T223618
CREATED:20250507T170805Z
LAST-MODIFIED:20260112T205858Z
UID:10003004-1763888400-1763895600@parkerroadcdd.com
SUMMARY:Tennis Clinic
DESCRIPTION:Please contact Robert Taylor for more information.
URL:http://parkerroadcdd.com/calendar/tennis-clinic-10/2025-11-23/
LOCATION:Oakmont Tennis Courts\, 11701 SW 30th Ave\, Gainesville\, FL\, 32608\, United States
CATEGORIES:Classes
ORGANIZER;CN="Robert Taylor":MAILTO:rt4tennis@gmail.com
END:VEVENT
BEGIN:VEVENT
DTSTART;TZID=America/New_York:20251116T090000
DTEND;TZID=America/New_York:20251116T110000
DTSTAMP:20260422T223618
CREATED:20250507T170805Z
LAST-MODIFIED:20260112T205858Z
UID:10003003-1763283600-1763290800@parkerroadcdd.com
SUMMARY:Tennis Clinic
DESCRIPTION:Please contact Robert Taylor for more information.
URL:http://parkerroadcdd.com/calendar/tennis-clinic-10/2025-11-16/
LOCATION:Oakmont Tennis Courts\, 11701 SW 30th Ave\, Gainesville\, FL\, 32608\, United States
CATEGORIES:Classes
ORGANIZER;CN="Robert Taylor":MAILTO:rt4tennis@gmail.com
END:VEVENT
BEGIN:VEVENT
DTSTART;TZID=America/New_York:20251109T090000
DTEND;TZID=America/New_York:20251109T110000
DTSTAMP:20260422T223618
CREATED:20250507T170805Z
LAST-MODIFIED:20260112T205858Z
UID:10003002-1762678800-1762686000@parkerroadcdd.com
SUMMARY:Tennis Clinic
DESCRIPTION:Please contact Robert Taylor for more information.
URL:http://parkerroadcdd.com/calendar/tennis-clinic-10/2025-11-09/
LOCATION:Oakmont Tennis Courts\, 11701 SW 30th Ave\, Gainesville\, FL\, 32608\, United States
CATEGORIES:Classes
ORGANIZER;CN="Robert Taylor":MAILTO:rt4tennis@gmail.com
END:VEVENT
BEGIN:VEVENT
DTSTART;TZID=America/New_York:20251102T090000
DTEND;TZID=America/New_York:20251102T110000
DTSTAMP:20260422T223618
CREATED:20250507T170805Z
LAST-MODIFIED:20260112T205858Z
UID:10003001-1762074000-1762081200@parkerroadcdd.com
SUMMARY:Tennis Clinic
DESCRIPTION:Please contact Robert Taylor for more information.
URL:http://parkerroadcdd.com/calendar/tennis-clinic-10/2025-11-02/
LOCATION:Oakmont Tennis Courts\, 11701 SW 30th Ave\, Gainesville\, FL\, 32608\, United States
CATEGORIES:Classes
ORGANIZER;CN="Robert Taylor":MAILTO:rt4tennis@gmail.com
END:VEVENT
BEGIN:VEVENT
DTSTART;TZID=America/New_York:20251026T090000
DTEND;TZID=America/New_York:20251026T110000
DTSTAMP:20260422T223618
CREATED:20250507T170805Z
LAST-MODIFIED:20260112T205858Z
UID:10003000-1761469200-1761476400@parkerroadcdd.com
SUMMARY:Tennis Clinic
DESCRIPTION:Please contact Robert Taylor for more information.
URL:http://parkerroadcdd.com/calendar/tennis-clinic-10/2025-10-26/
LOCATION:Oakmont Tennis Courts\, 11701 SW 30th Ave\, Gainesville\, FL\, 32608\, United States
CATEGORIES:Classes
ORGANIZER;CN="Robert Taylor":MAILTO:rt4tennis@gmail.com
END:VEVENT
BEGIN:VEVENT
DTSTART;TZID=America/New_York:20251019T090000
DTEND;TZID=America/New_York:20251019T110000
DTSTAMP:20260422T223618
CREATED:20250507T170805Z
LAST-MODIFIED:20260112T205858Z
UID:10002999-1760864400-1760871600@parkerroadcdd.com
SUMMARY:Tennis Clinic
DESCRIPTION:Please contact Robert Taylor for more information.
URL:http://parkerroadcdd.com/calendar/tennis-clinic-10/2025-10-19/
LOCATION:Oakmont Tennis Courts\, 11701 SW 30th Ave\, Gainesville\, FL\, 32608\, United States
CATEGORIES:Classes
ORGANIZER;CN="Robert Taylor":MAILTO:rt4tennis@gmail.com
END:VEVENT
BEGIN:VEVENT
DTSTART;TZID=America/New_York:20251012T090000
DTEND;TZID=America/New_York:20251012T110000
DTSTAMP:20260422T223618
CREATED:20250507T170805Z
LAST-MODIFIED:20260112T205858Z
UID:10002998-1760259600-1760266800@parkerroadcdd.com
SUMMARY:Tennis Clinic
DESCRIPTION:Please contact Robert Taylor for more information.
URL:http://parkerroadcdd.com/calendar/tennis-clinic-10/2025-10-12/
LOCATION:Oakmont Tennis Courts\, 11701 SW 30th Ave\, Gainesville\, FL\, 32608\, United States
CATEGORIES:Classes
ORGANIZER;CN="Robert Taylor":MAILTO:rt4tennis@gmail.com
END:VEVENT
BEGIN:VEVENT
DTSTART;TZID=America/New_York:20251005T090000
DTEND;TZID=America/New_York:20251005T110000
DTSTAMP:20260422T223618
CREATED:20250507T170805Z
LAST-MODIFIED:20260112T205858Z
UID:10002997-1759654800-1759662000@parkerroadcdd.com
SUMMARY:Tennis Clinic
DESCRIPTION:Please contact Robert Taylor for more information.
URL:http://parkerroadcdd.com/calendar/tennis-clinic-10/2025-10-05/
LOCATION:Oakmont Tennis Courts\, 11701 SW 30th Ave\, Gainesville\, FL\, 32608\, United States
CATEGORIES:Classes
ORGANIZER;CN="Robert Taylor":MAILTO:rt4tennis@gmail.com
END:VEVENT
BEGIN:VEVENT
DTSTART;TZID=America/New_York:20250928T090000
DTEND;TZID=America/New_York:20250928T110000
DTSTAMP:20260422T223618
CREATED:20250507T170805Z
LAST-MODIFIED:20260112T205858Z
UID:10002996-1759050000-1759057200@parkerroadcdd.com
SUMMARY:Tennis Clinic
DESCRIPTION:Please contact Robert Taylor for more information.
URL:http://parkerroadcdd.com/calendar/tennis-clinic-10/2025-09-28/
LOCATION:Oakmont Tennis Courts\, 11701 SW 30th Ave\, Gainesville\, FL\, 32608\, United States
CATEGORIES:Classes
ORGANIZER;CN="Robert Taylor":MAILTO:rt4tennis@gmail.com
END:VEVENT
BEGIN:VEVENT
DTSTART;TZID=America/New_York:20250921T090000
DTEND;TZID=America/New_York:20250921T110000
DTSTAMP:20260422T223618
CREATED:20250507T170805Z
LAST-MODIFIED:20260112T205858Z
UID:10002995-1758445200-1758452400@parkerroadcdd.com
SUMMARY:Tennis Clinic
DESCRIPTION:Please contact Robert Taylor for more information.
URL:http://parkerroadcdd.com/calendar/tennis-clinic-10/2025-09-21/
LOCATION:Oakmont Tennis Courts\, 11701 SW 30th Ave\, Gainesville\, FL\, 32608\, United States
CATEGORIES:Classes
ORGANIZER;CN="Robert Taylor":MAILTO:rt4tennis@gmail.com
END:VEVENT
BEGIN:VEVENT
DTSTART;TZID=America/New_York:20250914T090000
DTEND;TZID=America/New_York:20250914T110000
DTSTAMP:20260422T223618
CREATED:20250507T170805Z
LAST-MODIFIED:20260112T205858Z
UID:10002994-1757840400-1757847600@parkerroadcdd.com
SUMMARY:Tennis Clinic
DESCRIPTION:Please contact Robert Taylor for more information.
URL:http://parkerroadcdd.com/calendar/tennis-clinic-10/2025-09-14/
LOCATION:Oakmont Tennis Courts\, 11701 SW 30th Ave\, Gainesville\, FL\, 32608\, United States
CATEGORIES:Classes
ORGANIZER;CN="Robert Taylor":MAILTO:rt4tennis@gmail.com
END:VEVENT
BEGIN:VEVENT
DTSTART;TZID=America/New_York:20250907T090000
DTEND;TZID=America/New_York:20250907T110000
DTSTAMP:20260422T223618
CREATED:20250507T170805Z
LAST-MODIFIED:20260112T205858Z
UID:10002993-1757235600-1757242800@parkerroadcdd.com
SUMMARY:Tennis Clinic
DESCRIPTION:Please contact Robert Taylor for more information.
URL:http://parkerroadcdd.com/calendar/tennis-clinic-10/2025-09-07/
LOCATION:Oakmont Tennis Courts\, 11701 SW 30th Ave\, Gainesville\, FL\, 32608\, United States
CATEGORIES:Classes
ORGANIZER;CN="Robert Taylor":MAILTO:rt4tennis@gmail.com
END:VEVENT
BEGIN:VEVENT
DTSTART;TZID=America/New_York:20250831T090000
DTEND;TZID=America/New_York:20250831T110000
DTSTAMP:20260422T223618
CREATED:20250507T170805Z
LAST-MODIFIED:20260112T205858Z
UID:10002992-1756630800-1756638000@parkerroadcdd.com
SUMMARY:Tennis Clinic
DESCRIPTION:Please contact Robert Taylor for more information.
URL:http://parkerroadcdd.com/calendar/tennis-clinic-10/2025-08-31/
LOCATION:Oakmont Tennis Courts\, 11701 SW 30th Ave\, Gainesville\, FL\, 32608\, United States
CATEGORIES:Classes
ORGANIZER;CN="Robert Taylor":MAILTO:rt4tennis@gmail.com
END:VEVENT
BEGIN:VEVENT
DTSTART;TZID=America/New_York:20250824T090000
DTEND;TZID=America/New_York:20250824T110000
DTSTAMP:20260422T223618
CREATED:20250507T170805Z
LAST-MODIFIED:20260112T205858Z
UID:10002991-1756026000-1756033200@parkerroadcdd.com
SUMMARY:Tennis Clinic
DESCRIPTION:Please contact Robert Taylor for more information.
URL:http://parkerroadcdd.com/calendar/tennis-clinic-10/2025-08-24/
LOCATION:Oakmont Tennis Courts\, 11701 SW 30th Ave\, Gainesville\, FL\, 32608\, United States
CATEGORIES:Classes
ORGANIZER;CN="Robert Taylor":MAILTO:rt4tennis@gmail.com
END:VEVENT
BEGIN:VEVENT
DTSTART;TZID=America/New_York:20250817T090000
DTEND;TZID=America/New_York:20250817T110000
DTSTAMP:20260422T223618
CREATED:20250507T170805Z
LAST-MODIFIED:20260112T205858Z
UID:10002990-1755421200-1755428400@parkerroadcdd.com
SUMMARY:Tennis Clinic
DESCRIPTION:Please contact Robert Taylor for more information.
URL:http://parkerroadcdd.com/calendar/tennis-clinic-10/2025-08-17/
LOCATION:Oakmont Tennis Courts\, 11701 SW 30th Ave\, Gainesville\, FL\, 32608\, United States
CATEGORIES:Classes
ORGANIZER;CN="Robert Taylor":MAILTO:rt4tennis@gmail.com
END:VEVENT
BEGIN:VEVENT
DTSTART;TZID=America/New_York:20250810T090000
DTEND;TZID=America/New_York:20250810T110000
DTSTAMP:20260422T223618
CREATED:20250507T170805Z
LAST-MODIFIED:20260112T205858Z
UID:10002989-1754816400-1754823600@parkerroadcdd.com
SUMMARY:Tennis Clinic
DESCRIPTION:Please contact Robert Taylor for more information.
URL:http://parkerroadcdd.com/calendar/tennis-clinic-10/2025-08-10/
LOCATION:Oakmont Tennis Courts\, 11701 SW 30th Ave\, Gainesville\, FL\, 32608\, United States
CATEGORIES:Classes
ORGANIZER;CN="Robert Taylor":MAILTO:rt4tennis@gmail.com
END:VEVENT
BEGIN:VEVENT
DTSTART;TZID=America/New_York:20250803T090000
DTEND;TZID=America/New_York:20250803T110000
DTSTAMP:20260422T223618
CREATED:20250507T170805Z
LAST-MODIFIED:20260112T205858Z
UID:10002988-1754211600-1754218800@parkerroadcdd.com
SUMMARY:Tennis Clinic
DESCRIPTION:Please contact Robert Taylor for more information.
URL:http://parkerroadcdd.com/calendar/tennis-clinic-10/2025-08-03/
LOCATION:Oakmont Tennis Courts\, 11701 SW 30th Ave\, Gainesville\, FL\, 32608\, United States
CATEGORIES:Classes
ORGANIZER;CN="Robert Taylor":MAILTO:rt4tennis@gmail.com
END:VEVENT
BEGIN:VEVENT
DTSTART;TZID=America/New_York:20250727T090000
DTEND;TZID=America/New_York:20250727T110000
DTSTAMP:20260422T223618
CREATED:20250507T170805Z
LAST-MODIFIED:20260112T205858Z
UID:10002987-1753606800-1753614000@parkerroadcdd.com
SUMMARY:Tennis Clinic
DESCRIPTION:Please contact Robert Taylor for more information.
URL:http://parkerroadcdd.com/calendar/tennis-clinic-10/2025-07-27/
LOCATION:Oakmont Tennis Courts\, 11701 SW 30th Ave\, Gainesville\, FL\, 32608\, United States
CATEGORIES:Classes
ORGANIZER;CN="Robert Taylor":MAILTO:rt4tennis@gmail.com
END:VEVENT
BEGIN:VEVENT
DTSTART;TZID=America/New_York:20250720T090000
DTEND;TZID=America/New_York:20250720T110000
DTSTAMP:20260422T223618
CREATED:20250507T170805Z
LAST-MODIFIED:20260112T205858Z
UID:10002986-1753002000-1753009200@parkerroadcdd.com
SUMMARY:Tennis Clinic
DESCRIPTION:Please contact Robert Taylor for more information.
URL:http://parkerroadcdd.com/calendar/tennis-clinic-10/2025-07-20/
LOCATION:Oakmont Tennis Courts\, 11701 SW 30th Ave\, Gainesville\, FL\, 32608\, United States
CATEGORIES:Classes
ORGANIZER;CN="Robert Taylor":MAILTO:rt4tennis@gmail.com
END:VEVENT
BEGIN:VEVENT
DTSTART;TZID=America/New_York:20250713T090000
DTEND;TZID=America/New_York:20250713T110000
DTSTAMP:20260422T223618
CREATED:20250507T170805Z
LAST-MODIFIED:20260112T205858Z
UID:10002985-1752397200-1752404400@parkerroadcdd.com
SUMMARY:Tennis Clinic
DESCRIPTION:Please contact Robert Taylor for more information.
URL:http://parkerroadcdd.com/calendar/tennis-clinic-10/2025-07-13/
LOCATION:Oakmont Tennis Courts\, 11701 SW 30th Ave\, Gainesville\, FL\, 32608\, United States
CATEGORIES:Classes
ORGANIZER;CN="Robert Taylor":MAILTO:rt4tennis@gmail.com
END:VEVENT
BEGIN:VEVENT
DTSTART;TZID=America/New_York:20250706T090000
DTEND;TZID=America/New_York:20250706T110000
DTSTAMP:20260422T223618
CREATED:20250507T170805Z
LAST-MODIFIED:20260112T205858Z
UID:10002984-1751792400-1751799600@parkerroadcdd.com
SUMMARY:Tennis Clinic
DESCRIPTION:Please contact Robert Taylor for more information.
URL:http://parkerroadcdd.com/calendar/tennis-clinic-10/2025-07-06/
LOCATION:Oakmont Tennis Courts\, 11701 SW 30th Ave\, Gainesville\, FL\, 32608\, United States
CATEGORIES:Classes
ORGANIZER;CN="Robert Taylor":MAILTO:rt4tennis@gmail.com
END:VEVENT
BEGIN:VEVENT
DTSTART;TZID=America/New_York:20250629T090000
DTEND;TZID=America/New_York:20250629T110000
DTSTAMP:20260422T223618
CREATED:20250507T170805Z
LAST-MODIFIED:20260112T205858Z
UID:10002983-1751187600-1751194800@parkerroadcdd.com
SUMMARY:Tennis Clinic
DESCRIPTION:Please contact Robert Taylor for more information.
URL:http://parkerroadcdd.com/calendar/tennis-clinic-10/2025-06-29/
LOCATION:Oakmont Tennis Courts\, 11701 SW 30th Ave\, Gainesville\, FL\, 32608\, United States
CATEGORIES:Classes
ORGANIZER;CN="Robert Taylor":MAILTO:rt4tennis@gmail.com
END:VEVENT
END:VCALENDAR