BEGIN:VCALENDAR
VERSION:2.0
PRODID:-//Parker Road CDD - ECPv6.6.2//NONSGML v1.0//EN
CALSCALE:GREGORIAN
METHOD:PUBLISH
X-ORIGINAL-URL:http://parkerroadcdd.com
X-WR-CALDESC:Events for Parker Road CDD
REFRESH-INTERVAL;VALUE=DURATION:PT1H
X-Robots-Tag:noindex
X-PUBLISHED-TTL:PT1H
BEGIN:VTIMEZONE
TZID:America/New_York
BEGIN:DAYLIGHT
TZOFFSETFROM:-0500
TZOFFSETTO:-0400
TZNAME:EDT
DTSTART:20250309T070000
END:DAYLIGHT
BEGIN:STANDARD
TZOFFSETFROM:-0400
TZOFFSETTO:-0500
TZNAME:EST
DTSTART:20251102T060000
END:STANDARD
END:VTIMEZONE
BEGIN:VEVENT
DTSTART;TZID=America/New_York:20250803T090000
DTEND;TZID=America/New_York:20250803T110000
DTSTAMP:20260423T014844
CREATED:20250507T170805Z
LAST-MODIFIED:20260112T205858Z
UID:10002988-1754211600-1754218800@parkerroadcdd.com
SUMMARY:Tennis Clinic
DESCRIPTION:Please contact Robert Taylor for more information.
URL:http://parkerroadcdd.com/calendar/tennis-clinic-10/2025-08-03/
LOCATION:Oakmont Tennis Courts\, 11701 SW 30th Ave\, Gainesville\, FL\, 32608\, United States
CATEGORIES:Classes
ORGANIZER;CN="Robert Taylor":MAILTO:rt4tennis@gmail.com
END:VEVENT
BEGIN:VEVENT
DTSTART;TZID=America/New_York:20250727T090000
DTEND;TZID=America/New_York:20250727T110000
DTSTAMP:20260423T014844
CREATED:20250507T170805Z
LAST-MODIFIED:20260112T205858Z
UID:10002987-1753606800-1753614000@parkerroadcdd.com
SUMMARY:Tennis Clinic
DESCRIPTION:Please contact Robert Taylor for more information.
URL:http://parkerroadcdd.com/calendar/tennis-clinic-10/2025-07-27/
LOCATION:Oakmont Tennis Courts\, 11701 SW 30th Ave\, Gainesville\, FL\, 32608\, United States
CATEGORIES:Classes
ORGANIZER;CN="Robert Taylor":MAILTO:rt4tennis@gmail.com
END:VEVENT
BEGIN:VEVENT
DTSTART;TZID=America/New_York:20250720T090000
DTEND;TZID=America/New_York:20250720T110000
DTSTAMP:20260423T014844
CREATED:20250507T170805Z
LAST-MODIFIED:20260112T205858Z
UID:10002986-1753002000-1753009200@parkerroadcdd.com
SUMMARY:Tennis Clinic
DESCRIPTION:Please contact Robert Taylor for more information.
URL:http://parkerroadcdd.com/calendar/tennis-clinic-10/2025-07-20/
LOCATION:Oakmont Tennis Courts\, 11701 SW 30th Ave\, Gainesville\, FL\, 32608\, United States
CATEGORIES:Classes
ORGANIZER;CN="Robert Taylor":MAILTO:rt4tennis@gmail.com
END:VEVENT
BEGIN:VEVENT
DTSTART;TZID=America/New_York:20250713T090000
DTEND;TZID=America/New_York:20250713T110000
DTSTAMP:20260423T014844
CREATED:20250507T170805Z
LAST-MODIFIED:20260112T205858Z
UID:10002985-1752397200-1752404400@parkerroadcdd.com
SUMMARY:Tennis Clinic
DESCRIPTION:Please contact Robert Taylor for more information.
URL:http://parkerroadcdd.com/calendar/tennis-clinic-10/2025-07-13/
LOCATION:Oakmont Tennis Courts\, 11701 SW 30th Ave\, Gainesville\, FL\, 32608\, United States
CATEGORIES:Classes
ORGANIZER;CN="Robert Taylor":MAILTO:rt4tennis@gmail.com
END:VEVENT
BEGIN:VEVENT
DTSTART;TZID=America/New_York:20250706T090000
DTEND;TZID=America/New_York:20250706T110000
DTSTAMP:20260423T014844
CREATED:20250507T170805Z
LAST-MODIFIED:20260112T205858Z
UID:10002984-1751792400-1751799600@parkerroadcdd.com
SUMMARY:Tennis Clinic
DESCRIPTION:Please contact Robert Taylor for more information.
URL:http://parkerroadcdd.com/calendar/tennis-clinic-10/2025-07-06/
LOCATION:Oakmont Tennis Courts\, 11701 SW 30th Ave\, Gainesville\, FL\, 32608\, United States
CATEGORIES:Classes
ORGANIZER;CN="Robert Taylor":MAILTO:rt4tennis@gmail.com
END:VEVENT
BEGIN:VEVENT
DTSTART;TZID=America/New_York:20250629T090000
DTEND;TZID=America/New_York:20250629T110000
DTSTAMP:20260423T014844
CREATED:20250507T170805Z
LAST-MODIFIED:20260112T205858Z
UID:10002983-1751187600-1751194800@parkerroadcdd.com
SUMMARY:Tennis Clinic
DESCRIPTION:Please contact Robert Taylor for more information.
URL:http://parkerroadcdd.com/calendar/tennis-clinic-10/2025-06-29/
LOCATION:Oakmont Tennis Courts\, 11701 SW 30th Ave\, Gainesville\, FL\, 32608\, United States
CATEGORIES:Classes
ORGANIZER;CN="Robert Taylor":MAILTO:rt4tennis@gmail.com
END:VEVENT
BEGIN:VEVENT
DTSTART;TZID=America/New_York:20250622T090000
DTEND;TZID=America/New_York:20250622T110000
DTSTAMP:20260423T014844
CREATED:20250507T170805Z
LAST-MODIFIED:20260112T205858Z
UID:10002982-1750582800-1750590000@parkerroadcdd.com
SUMMARY:Tennis Clinic
DESCRIPTION:Please contact Robert Taylor for more information.
URL:http://parkerroadcdd.com/calendar/tennis-clinic-10/2025-06-22/
LOCATION:Oakmont Tennis Courts\, 11701 SW 30th Ave\, Gainesville\, FL\, 32608\, United States
CATEGORIES:Classes
ORGANIZER;CN="Robert Taylor":MAILTO:rt4tennis@gmail.com
END:VEVENT
BEGIN:VEVENT
DTSTART;TZID=America/New_York:20250615T090000
DTEND;TZID=America/New_York:20250615T110000
DTSTAMP:20260423T014844
CREATED:20250507T170805Z
LAST-MODIFIED:20260112T205858Z
UID:10002981-1749978000-1749985200@parkerroadcdd.com
SUMMARY:Tennis Clinic
DESCRIPTION:Please contact Robert Taylor for more information.
URL:http://parkerroadcdd.com/calendar/tennis-clinic-10/2025-06-15/
LOCATION:Oakmont Tennis Courts\, 11701 SW 30th Ave\, Gainesville\, FL\, 32608\, United States
CATEGORIES:Classes
ORGANIZER;CN="Robert Taylor":MAILTO:rt4tennis@gmail.com
END:VEVENT
BEGIN:VEVENT
DTSTART;TZID=America/New_York:20250608T090000
DTEND;TZID=America/New_York:20250608T110000
DTSTAMP:20260423T014844
CREATED:20250507T170805Z
LAST-MODIFIED:20260112T205858Z
UID:10002980-1749373200-1749380400@parkerroadcdd.com
SUMMARY:Tennis Clinic
DESCRIPTION:Please contact Robert Taylor for more information.
URL:http://parkerroadcdd.com/calendar/tennis-clinic-10/2025-06-08/
LOCATION:Oakmont Tennis Courts\, 11701 SW 30th Ave\, Gainesville\, FL\, 32608\, United States
CATEGORIES:Classes
ORGANIZER;CN="Robert Taylor":MAILTO:rt4tennis@gmail.com
END:VEVENT
BEGIN:VEVENT
DTSTART;TZID=America/New_York:20250601T090000
DTEND;TZID=America/New_York:20250601T110000
DTSTAMP:20260423T014844
CREATED:20250507T170805Z
LAST-MODIFIED:20260112T205858Z
UID:10002979-1748768400-1748775600@parkerroadcdd.com
SUMMARY:Tennis Clinic
DESCRIPTION:Please contact Robert Taylor for more information.
URL:http://parkerroadcdd.com/calendar/tennis-clinic-10/2025-06-01/
LOCATION:Oakmont Tennis Courts\, 11701 SW 30th Ave\, Gainesville\, FL\, 32608\, United States
CATEGORIES:Classes
ORGANIZER;CN="Robert Taylor":MAILTO:rt4tennis@gmail.com
END:VEVENT
BEGIN:VEVENT
DTSTART;TZID=America/New_York:20250427T170000
DTEND;TZID=America/New_York:20250427T193000
DTSTAMP:20260423T014844
CREATED:20250210T170447Z
LAST-MODIFIED:20250210T184033Z
UID:10000118-1745773200-1745782200@parkerroadcdd.com
SUMMARY:Tennis Clinic
DESCRIPTION:Contact Robert Taylor for reservations \nrt4tennis@gmail.com
URL:http://parkerroadcdd.com/calendar/tennis-clinic-18/
LOCATION:Oakmont Tennis Courts\, 11701 SW 30th Ave\, Gainesville\, FL\, 32608\, United States
CATEGORIES:Classes
END:VEVENT
BEGIN:VEVENT
DTSTART;TZID=America/New_York:20250413T080000
DTEND;TZID=America/New_York:20250413T170000
DTSTAMP:20260423T014844
CREATED:20250210T170314Z
LAST-MODIFIED:20250210T184054Z
UID:10000116-1744531200-1744563600@parkerroadcdd.com
SUMMARY:Tennis Clinic
DESCRIPTION:Contact Robert Taylor for reservations \nrt4tennis@gmail.com
URL:http://parkerroadcdd.com/calendar/tennis-clinic-15/
LOCATION:Oakmont Tennis Courts\, 11701 SW 30th Ave\, Gainesville\, FL\, 32608\, United States
CATEGORIES:Classes
ORGANIZER;CN="Robert Taylor":MAILTO:rt4tennis@gmail.com
END:VEVENT
BEGIN:VEVENT
DTSTART;TZID=America/New_York:20250406T170000
DTEND;TZID=America/New_York:20250406T190000
DTSTAMP:20260423T014844
CREATED:20250210T164732Z
LAST-MODIFIED:20250210T165142Z
UID:10000110-1743958800-1743966000@parkerroadcdd.com
SUMMARY:Tennis Clinic
DESCRIPTION:Contact rt4tennis@gmail.com
URL:http://parkerroadcdd.com/calendar/tennis-clinic-16/
LOCATION:Oakmont Tennis Courts\, 11701 SW 30th Ave\, Gainesville\, FL\, 32608\, United States
CATEGORIES:Classes
ORGANIZER;CN="Robert Taylor":MAILTO:rt4tennis@gmail.com
END:VEVENT
BEGIN:VEVENT
DTSTART;TZID=America/New_York:20250323T170000
DTEND;TZID=America/New_York:20250323T190000
DTSTAMP:20260423T014844
CREATED:20250205T193014Z
LAST-MODIFIED:20250210T165132Z
UID:10000098-1742749200-1742756400@parkerroadcdd.com
SUMMARY:Tennis Clinic
DESCRIPTION:
URL:http://parkerroadcdd.com/calendar/tennis-clinic-13/
LOCATION:Oakmont Tennis Courts\, 11701 SW 30th Ave\, Gainesville\, FL\, 32608\, United States
CATEGORIES:Classes
ORGANIZER;CN="Robert Taylor":MAILTO:rt4tennis@gmail.com
END:VEVENT
BEGIN:VEVENT
DTSTART;TZID=America/New_York:20250316T170000
DTEND;TZID=America/New_York:20250316T190000
DTSTAMP:20260423T014845
CREATED:20250205T192439Z
LAST-MODIFIED:20250205T192439Z
UID:10000094-1742144400-1742151600@parkerroadcdd.com
SUMMARY:Tennis Clinic
DESCRIPTION:
URL:http://parkerroadcdd.com/calendar/tennis-clinic-12/
LOCATION:Oakmont Tennis Courts\, 11701 SW 30th Ave\, Gainesville\, FL\, 32608\, United States
CATEGORIES:Classes
ORGANIZER;CN="Robert Taylor":MAILTO:rt4tennis@gmail.com
END:VEVENT
BEGIN:VEVENT
DTSTART;TZID=America/New_York:20250309T170000
DTEND;TZID=America/New_York:20250309T190000
DTSTAMP:20260423T014845
CREATED:20250205T190820Z
LAST-MODIFIED:20250205T190820Z
UID:10000089-1741539600-1741546800@parkerroadcdd.com
SUMMARY:Tennis Clinic
DESCRIPTION:Contact Coach Robert Taylor for information.
URL:http://parkerroadcdd.com/calendar/tennis-clinic-11/
LOCATION:Oakmont Tennis Courts\, 11701 SW 30th Ave\, Gainesville\, FL\, 32608\, United States
CATEGORIES:Classes
ORGANIZER;CN="Robert Taylor":MAILTO:rt4tennis@gmail.com
END:VEVENT
BEGIN:VEVENT
DTSTART;TZID=America/New_York:20250223T170000
DTEND;TZID=America/New_York:20250223T190000
DTSTAMP:20260423T014845
CREATED:20250204T215238Z
LAST-MODIFIED:20250204T220606Z
UID:10000077-1740330000-1740337200@parkerroadcdd.com
SUMMARY:Tennis Clinic
DESCRIPTION:For more information\, please contact Coach Robert Taylor \nrt4tennis@gmail.com
URL:http://parkerroadcdd.com/calendar/tennis-clinic-8/
LOCATION:Oakmont Tennis Courts\, 11701 SW 30th Ave\, Gainesville\, FL\, 32608\, United States
CATEGORIES:Classes
END:VEVENT
BEGIN:VEVENT
DTSTART;TZID=America/New_York:20250216T170000
DTEND;TZID=America/New_York:20250216T190000
DTSTAMP:20260423T014845
CREATED:20250203T203847Z
LAST-MODIFIED:20250204T220936Z
UID:10000057-1739725200-1739732400@parkerroadcdd.com
SUMMARY:Tennis Clinic
DESCRIPTION:Please contact Robert Taylor to schedule. \nrt4tennis@gmail.com
URL:http://parkerroadcdd.com/calendar/tennis-clinic-5/
LOCATION:Oakmont Tennis Courts\, 11701 SW 30th Ave\, Gainesville\, FL\, 32608\, United States
CATEGORIES:Classes
END:VEVENT
BEGIN:VEVENT
DTSTART;TZID=America/New_York:20250209T170000
DTEND;TZID=America/New_York:20250209T190000
DTSTAMP:20260423T014845
CREATED:20250203T203949Z
LAST-MODIFIED:20250204T221038Z
UID:10000058-1739120400-1739127600@parkerroadcdd.com
SUMMARY:Tennis Clinic
DESCRIPTION:Please contact Robert Taylor to schedule. \nrt4tennis@gmail.com
URL:http://parkerroadcdd.com/calendar/tennis-clinic-6/
LOCATION:Oakmont Tennis Courts\, 11701 SW 30th Ave\, Gainesville\, FL\, 32608\, United States
CATEGORIES:Classes
END:VEVENT
END:VCALENDAR